BEGIN:VCALENDAR
VERSION:2.0
PRODID:-//Columbus MS - ECPv6.10.1.1//NONSGML v1.0//EN
CALSCALE:GREGORIAN
METHOD:PUBLISH
X-WR-CALNAME:Columbus MS
X-ORIGINAL-URL:https://visitcolumbusms.org
X-WR-CALDESC:Events for Columbus MS
REFRESH-INTERVAL;VALUE=DURATION:PT1H
X-Robots-Tag:noindex
X-PUBLISHED-TTL:PT1H
BEGIN:VTIMEZONE
TZID:America/Chicago
BEGIN:DAYLIGHT
TZOFFSETFROM:-0600
TZOFFSETTO:-0500
TZNAME:CDT
DTSTART:20240310T080000
END:DAYLIGHT
BEGIN:STANDARD
TZOFFSETFROM:-0500
TZOFFSETTO:-0600
TZNAME:CST
DTSTART:20241103T070000
END:STANDARD
BEGIN:DAYLIGHT
TZOFFSETFROM:-0600
TZOFFSETTO:-0500
TZNAME:CDT
DTSTART:20250309T080000
END:DAYLIGHT
BEGIN:STANDARD
TZOFFSETFROM:-0500
TZOFFSETTO:-0600
TZNAME:CST
DTSTART:20251102T070000
END:STANDARD
END:VTIMEZONE
BEGIN:VEVENT
DTSTART;TZID=America/Chicago:20251214T143000
DTEND;TZID=America/Chicago:20251214T163000
DTSTAMP:20260422T082309
CREATED:20251009T214139Z
LAST-MODIFIED:20251009T214244Z
UID:10000765-1765722600-1765729800@visitcolumbusms.org
SUMMARY:Elf: The Musical
DESCRIPTION:
URL:https://visitcolumbusms.org/event/elf-the-musical/2025-12-14/
LOCATION:MS
CATEGORIES:Christmas,Community Event
END:VEVENT
BEGIN:VEVENT
DTSTART;TZID=America/Chicago:20251213T190000
DTEND;TZID=America/Chicago:20251213T210000
DTSTAMP:20260422T082309
CREATED:20251009T214139Z
LAST-MODIFIED:20251009T214244Z
UID:10000764-1765652400-1765659600@visitcolumbusms.org
SUMMARY:Elf: The Musical
DESCRIPTION:
URL:https://visitcolumbusms.org/event/elf-the-musical/2025-12-13/
LOCATION:MS
CATEGORIES:Christmas,Community Event
END:VEVENT
BEGIN:VEVENT
DTSTART;TZID=America/Chicago:20251212T190000
DTEND;TZID=America/Chicago:20251212T210000
DTSTAMP:20260422T082309
CREATED:20251009T214139Z
LAST-MODIFIED:20251009T214244Z
UID:10000763-1765566000-1765573200@visitcolumbusms.org
SUMMARY:Elf: The Musical
DESCRIPTION:
URL:https://visitcolumbusms.org/event/elf-the-musical/2025-12-12/
LOCATION:MS
CATEGORIES:Christmas,Community Event
END:VEVENT
BEGIN:VEVENT
DTSTART;TZID=America/Chicago:20251209T190000
DTEND;TZID=America/Chicago:20251209T210000
DTSTAMP:20260422T082309
CREATED:20251009T213955Z
LAST-MODIFIED:20251110T185722Z
UID:10000762-1765306800-1765314000@visitcolumbusms.org
SUMMARY:Columbus Sings Handel's Messiah
DESCRIPTION:Messiah poster 2025.pdf \nThe Nativity Scene. A hand-drawn manger for the baby Jesus. Star of Bethlehem and crown of the king of heaven.
URL:https://visitcolumbusms.org/event/columbus-sings-handels-messiah-2/
LOCATION:Annunciation Catholic Church\, 823 College Street\, Columbus\, MS\, 39701\, United States
CATEGORIES:Christmas,Community Event
GEO:33.4948958;-88.4232716
X-APPLE-STRUCTURED-LOCATION;VALUE=URI;X-ADDRESS=Annunciation Catholic Church 823 College Street Columbus MS 39701 United States;X-APPLE-RADIUS=500;X-TITLE=823 College Street:geo:-88.4232716,33.4948958
END:VEVENT
BEGIN:VEVENT
DTSTART;TZID=America/Chicago:20251209T083000
DTEND;TZID=America/Chicago:20251209T093000
DTSTAMP:20260422T082309
CREATED:20251029T203316Z
LAST-MODIFIED:20251029T203316Z
UID:10000796-1765269000-1765272600@visitcolumbusms.org
SUMMARY:Tourism Partners
DESCRIPTION:
URL:https://visitcolumbusms.org/event/tourism-partners-6/
LOCATION:Visit Columbus\, 117 Third Street South\, Columbus\, MS\, 39701
CATEGORIES:Christmas,Community Event
ORGANIZER;CN="Visit Columbus":MAILTO:visitcolumbus@visitcolumbusms.org
GEO:33.4939917;-88.4303289
X-APPLE-STRUCTURED-LOCATION;VALUE=URI;X-ADDRESS=Visit Columbus 117 Third Street South Columbus MS 39701;X-APPLE-RADIUS=500;X-TITLE=117 Third Street South:geo:-88.4303289,33.4939917
END:VEVENT
BEGIN:VEVENT
DTSTART;TZID=America/Chicago:20251206T193000
DTEND;TZID=America/Chicago:20251206T203000
DTSTAMP:20260422T082309
CREATED:20251029T202733Z
LAST-MODIFIED:20251029T203145Z
UID:10000795-1765049400-1765053000@visitcolumbusms.org
SUMMARY:MUW Threadgill Series Orchestra featuring Musicians from Across the Nation
DESCRIPTION:
URL:https://visitcolumbusms.org/event/muw-threadgill-series-orchestra-featuring-musicians-from-across-the-nation/
LOCATION:Parkinson Hall\, 1102 4th Avenue South\, Columbus\, MS\, 39701\, United States
CATEGORIES:Christmas,Community Event,Music
GEO:33.4932166;-88.419651
X-APPLE-STRUCTURED-LOCATION;VALUE=URI;X-ADDRESS=Parkinson Hall 1102 4th Avenue South Columbus MS 39701 United States;X-APPLE-RADIUS=500;X-TITLE=1102 4th Avenue South:geo:-88.419651,33.4932166
END:VEVENT
BEGIN:VEVENT
DTSTART;TZID=America/Chicago:20251206T100000
DTEND;TZID=America/Chicago:20251206T160000
DTSTAMP:20260422T082309
CREATED:20250728T205303Z
LAST-MODIFIED:20250728T205303Z
UID:10000734-1765015200-1765036800@visitcolumbusms.org
SUMMARY:Gingerbread Holiday Market
DESCRIPTION:
URL:https://visitcolumbusms.org/event/gingerbread-holiday-market/2025-12-06/
LOCATION:Rosenzweig Arts Center\, 501 Main Street\, Columbus\, MS\, 39701\, United States
CATEGORIES:Christmas,Community Event,Family Fun
GEO:33.4947188;-88.4325751
X-APPLE-STRUCTURED-LOCATION;VALUE=URI;X-ADDRESS=Rosenzweig Arts Center 501 Main Street Columbus MS 39701 United States;X-APPLE-RADIUS=500;X-TITLE=501 Main Street:geo:-88.4325751,33.4947188
END:VEVENT
BEGIN:VEVENT
DTSTART;TZID=America/Chicago:20251206T090000
DTEND;TZID=America/Chicago:20251206T160000
DTSTAMP:20260422T082309
CREATED:20251106T172215Z
LAST-MODIFIED:20251106T172413Z
UID:10000798-1765011600-1765036800@visitcolumbusms.org
SUMMARY:Gingerbread Holiday Market
DESCRIPTION:
URL:https://visitcolumbusms.org/event/gingerbread-holiday-market-2/2025-12-06/
LOCATION:Rosenzweig Arts Center\, 501 Main Street\, Columbus\, MS\, 39701\, United States
CATEGORIES:Christmas,Community Event,Family Fun
GEO:33.4947188;-88.4325751
X-APPLE-STRUCTURED-LOCATION;VALUE=URI;X-ADDRESS=Rosenzweig Arts Center 501 Main Street Columbus MS 39701 United States;X-APPLE-RADIUS=500;X-TITLE=501 Main Street:geo:-88.4325751,33.4947188
END:VEVENT
BEGIN:VEVENT
DTSTART;TZID=America/Chicago:20251205T170000
DTEND;TZID=America/Chicago:20251205T200000
DTSTAMP:20260422T082309
CREATED:20250728T205538Z
LAST-MODIFIED:20250728T205607Z
UID:10000735-1764954000-1764964800@visitcolumbusms.org
SUMMARY:Wassailfest
DESCRIPTION:
URL:https://visitcolumbusms.org/event/wassailfest/
LOCATION:Downtown Columbus\, 107 5th St S\, Columbus\, MS\, 39701\, United States
CATEGORIES:Christmas,Community Event,Family Fun
GEO:33.4947766;-88.4278745
X-APPLE-STRUCTURED-LOCATION;VALUE=URI;X-ADDRESS=Downtown Columbus 107 5th St S Columbus MS 39701 United States;X-APPLE-RADIUS=500;X-TITLE=107 5th St S:geo:-88.4278745,33.4947766
END:VEVENT
BEGIN:VEVENT
DTSTART;TZID=America/Chicago:20251205T130000
DTEND;TZID=America/Chicago:20251205T200000
DTSTAMP:20260422T082309
CREATED:20251106T172215Z
LAST-MODIFIED:20251106T172413Z
UID:10000797-1764939600-1764964800@visitcolumbusms.org
SUMMARY:Gingerbread Holiday Market
DESCRIPTION:
URL:https://visitcolumbusms.org/event/gingerbread-holiday-market-2/2025-12-05/
LOCATION:Rosenzweig Arts Center\, 501 Main Street\, Columbus\, MS\, 39701\, United States
CATEGORIES:Christmas,Community Event,Family Fun
GEO:33.4947188;-88.4325751
X-APPLE-STRUCTURED-LOCATION;VALUE=URI;X-ADDRESS=Rosenzweig Arts Center 501 Main Street Columbus MS 39701 United States;X-APPLE-RADIUS=500;X-TITLE=501 Main Street:geo:-88.4325751,33.4947188
END:VEVENT
BEGIN:VEVENT
DTSTART;TZID=America/Chicago:20251201T190000
DTEND;TZID=America/Chicago:20251201T203000
DTSTAMP:20260422T082309
CREATED:20251017T161548Z
LAST-MODIFIED:20251017T161548Z
UID:10000775-1764615600-1764621000@visitcolumbusms.org
SUMMARY:Columbus Christmas Parade
DESCRIPTION:
URL:https://visitcolumbusms.org/event/columbus-christmas-parade-7/
LOCATION:Downtown Columbus\, 107 5th St S\, Columbus\, MS\, 39701\, United States
CATEGORIES:Christmas,Community Event,Family Fun
GEO:33.4947766;-88.4278745
X-APPLE-STRUCTURED-LOCATION;VALUE=URI;X-ADDRESS=Downtown Columbus 107 5th St S Columbus MS 39701 United States;X-APPLE-RADIUS=500;X-TITLE=107 5th St S:geo:-88.4278745,33.4947766
END:VEVENT
BEGIN:VEVENT
DTSTART;TZID=America/Chicago:20251129T100000
DTEND;TZID=America/Chicago:20251129T170000
DTSTAMP:20260422T082309
CREATED:20251008T142523Z
LAST-MODIFIED:20251008T142523Z
UID:10000761-1764410400-1764435600@visitcolumbusms.org
SUMMARY:Small Business Saturday
DESCRIPTION:
URL:https://visitcolumbusms.org/event/small-business-saturday-4/
LOCATION:Downtown Columbus\, 107 5th St S\, Columbus\, MS\, 39701\, United States
CATEGORIES:Christmas,Community Event,Family Fun
GEO:33.4947766;-88.4278745
X-APPLE-STRUCTURED-LOCATION;VALUE=URI;X-ADDRESS=Downtown Columbus 107 5th St S Columbus MS 39701 United States;X-APPLE-RADIUS=500;X-TITLE=107 5th St S:geo:-88.4278745,33.4947766
END:VEVENT
BEGIN:VEVENT
DTSTART;TZID=America/Chicago:20251122T090000
DTEND;TZID=America/Chicago:20251122T130000
DTSTAMP:20260422T082309
CREATED:20251008T142056Z
LAST-MODIFIED:20251008T142107Z
UID:10000760-1763802000-1763816400@visitcolumbusms.org
SUMMARY:Hitching Lot Holiday Farmers' Market
DESCRIPTION:
URL:https://visitcolumbusms.org/event/hitching-lot-holiday-farmers-market/
LOCATION:Hitching Lot Farmers Market\, Corner of 2nd Street and Avenue North\, Columbus\, MS\, 39701\, United States
CATEGORIES:Christmas,Community Event
GEO:33.4956744;-88.4272627
X-APPLE-STRUCTURED-LOCATION;VALUE=URI;X-ADDRESS=Hitching Lot Farmers Market Corner of 2nd Street and Avenue North Columbus MS 39701 United States;X-APPLE-RADIUS=500;X-TITLE=Corner of 2nd Street and Avenue North:geo:-88.4272627,33.4956744
END:VEVENT
BEGIN:VEVENT
DTSTART;TZID=America/Chicago:20251109T130000
DTEND;TZID=America/Chicago:20251109T170000
DTSTAMP:20260422T082309
CREATED:20251008T141046Z
LAST-MODIFIED:20251008T141059Z
UID:10000758-1762693200-1762707600@visitcolumbusms.org
SUMMARY:Downtown Christmas Open House
DESCRIPTION:
URL:https://visitcolumbusms.org/event/downtown-christmas-open-house-6/2025-11-09/
LOCATION:Downtown Columbus\, 107 5th St S\, Columbus\, MS\, 39701\, United States
CATEGORIES:Christmas,Community Event
GEO:33.4947766;-88.4278745
X-APPLE-STRUCTURED-LOCATION;VALUE=URI;X-ADDRESS=Downtown Columbus 107 5th St S Columbus MS 39701 United States;X-APPLE-RADIUS=500;X-TITLE=107 5th St S:geo:-88.4278745,33.4947766
END:VEVENT
BEGIN:VEVENT
DTSTART;TZID=America/Chicago:20251108T100000
DTEND;TZID=America/Chicago:20251108T170000
DTSTAMP:20260422T082309
CREATED:20251008T141046Z
LAST-MODIFIED:20251008T141059Z
UID:10000757-1762596000-1762621200@visitcolumbusms.org
SUMMARY:Downtown Christmas Open House
DESCRIPTION:
URL:https://visitcolumbusms.org/event/downtown-christmas-open-house-6/2025-11-08/
LOCATION:Downtown Columbus\, 107 5th St S\, Columbus\, MS\, 39701\, United States
CATEGORIES:Christmas,Community Event
GEO:33.4947766;-88.4278745
X-APPLE-STRUCTURED-LOCATION;VALUE=URI;X-ADDRESS=Downtown Columbus 107 5th St S Columbus MS 39701 United States;X-APPLE-RADIUS=500;X-TITLE=107 5th St S:geo:-88.4278745,33.4947766
END:VEVENT
BEGIN:VEVENT
DTSTART;TZID=America/Chicago:20251107T100000
DTEND;TZID=America/Chicago:20251107T170000
DTSTAMP:20260422T082309
CREATED:20251008T141046Z
LAST-MODIFIED:20251008T141059Z
UID:10000756-1762509600-1762534800@visitcolumbusms.org
SUMMARY:Downtown Christmas Open House
DESCRIPTION:
URL:https://visitcolumbusms.org/event/downtown-christmas-open-house-6/2025-11-07/
LOCATION:Downtown Columbus\, 107 5th St S\, Columbus\, MS\, 39701\, United States
CATEGORIES:Christmas,Community Event
GEO:33.4947766;-88.4278745
X-APPLE-STRUCTURED-LOCATION;VALUE=URI;X-ADDRESS=Downtown Columbus 107 5th St S Columbus MS 39701 United States;X-APPLE-RADIUS=500;X-TITLE=107 5th St S:geo:-88.4278745,33.4947766
END:VEVENT
BEGIN:VEVENT
DTSTART;TZID=America/Chicago:20241214T080000
DTEND;TZID=America/Chicago:20241214T100000
DTSTAMP:20260422T082309
CREATED:20241107T221743Z
LAST-MODIFIED:20241107T221743Z
UID:10000651-1734163200-1734170400@visitcolumbusms.org
SUMMARY:
DESCRIPTION:
URL:https://visitcolumbusms.org/event/20661/
LOCATION:New Hope High School\, 2920 New Hope Road\, Columbus\, MS\, 39702\, United States
CATEGORIES:Christmas,Community Event,Family Fun
GEO:33.4532734;-88.3247059
X-APPLE-STRUCTURED-LOCATION;VALUE=URI;X-ADDRESS=New Hope High School 2920 New Hope Road Columbus MS 39702 United States;X-APPLE-RADIUS=500;X-TITLE=2920 New Hope Road:geo:-88.3247059,33.4532734
END:VEVENT
BEGIN:VEVENT
DTSTART;TZID=America/Chicago:20241213T170000
DTEND;TZID=America/Chicago:20241213T200000
DTSTAMP:20260422T082309
CREATED:20241209T123109Z
LAST-MODIFIED:20241209T123109Z
UID:10000652-1734109200-1734120000@visitcolumbusms.org
SUMMARY:Sensory Santa
DESCRIPTION:
URL:https://visitcolumbusms.org/event/sensory-santa/
LOCATION:Columbus Main Street\, 521 Main Street\, Columbus\, MS\, 39701\, United States
CATEGORIES:Christmas,Community Event
ORGANIZER;CN="Rowdy Foundation":MAILTO:whitney@getrowdy.org
GEO:33.4955576;-88.4273821
X-APPLE-STRUCTURED-LOCATION;VALUE=URI;X-ADDRESS=Columbus Main Street 521 Main Street Columbus MS 39701 United States;X-APPLE-RADIUS=500;X-TITLE=521 Main Street:geo:-88.4273821,33.4955576
END:VEVENT
BEGIN:VEVENT
DTSTART;TZID=America/Chicago:20241212T173000
DTEND;TZID=America/Chicago:20241212T183000
DTSTAMP:20260422T082309
CREATED:20241210T193439Z
LAST-MODIFIED:20241210T193609Z
UID:10000450-1734024600-1734028200@visitcolumbusms.org
SUMMARY:Suzuki Strings Orchestra of Columbus
DESCRIPTION:Suzuki Strings Orchestra of Columbus presents A Christmas Concert on Thursday December 12th at 5:30 at the Columbus Arts Council\, 501 Main Street. Complimentary concert.
URL:https://visitcolumbusms.org/event/suzuki-strings-orchestra-of-columbus/
LOCATION:columbus arts council\, 501 Main Street\, Columbus\, MS\, 39701\, United States
CATEGORIES:Arts & Culture,Christmas,Community Event,Music
GEO:33.4954789;-88.4280045
X-APPLE-STRUCTURED-LOCATION;VALUE=URI;X-ADDRESS=columbus arts council 501 Main Street Columbus MS 39701 United States;X-APPLE-RADIUS=500;X-TITLE=501 Main Street:geo:-88.4280045,33.4954789
END:VEVENT
BEGIN:VEVENT
DTSTART;TZID=America/Chicago:20241212T170000
DTEND;TZID=America/Chicago:20241212T190000
DTSTAMP:20260422T082309
CREATED:20241209T122338Z
LAST-MODIFIED:20241209T122641Z
UID:10000642-1734022800-1734030000@visitcolumbusms.org
SUMMARY:Christmas at The Bluff
DESCRIPTION:
URL:https://visitcolumbusms.org/event/christmas-at-the-bluff/
LOCATION:Plymouth Bluff Environmental Center\, 2200 Old West Point Road\, Columbus\, MS\, 39701\, United States
CATEGORIES:Christmas,Community Event,Family Fun
GEO:33.5143787;-88.4957051
X-APPLE-STRUCTURED-LOCATION;VALUE=URI;X-ADDRESS=Plymouth Bluff Environmental Center 2200 Old West Point Road Columbus MS 39701 United States;X-APPLE-RADIUS=500;X-TITLE=2200 Old West Point Road:geo:-88.4957051,33.5143787
END:VEVENT
BEGIN:VEVENT
DTSTART;TZID=America/Chicago:20241212T153000
DTEND;TZID=America/Chicago:20241212T163000
DTSTAMP:20260422T082309
CREATED:20241209T123308Z
LAST-MODIFIED:20241209T123308Z
UID:10000644-1734017400-1734021000@visitcolumbusms.org
SUMMARY:Holiday Choral Concert
DESCRIPTION:
URL:https://visitcolumbusms.org/event/holiday-choral-concert-2/
LOCATION:Annunciation Catholic Church\, 823 College Street\, Columbus\, MS\, 39701\, United States
CATEGORIES:Arts & Culture,Christmas,Community Event
GEO:33.4948958;-88.4232716
X-APPLE-STRUCTURED-LOCATION;VALUE=URI;X-ADDRESS=Annunciation Catholic Church 823 College Street Columbus MS 39701 United States;X-APPLE-RADIUS=500;X-TITLE=823 College Street:geo:-88.4232716,33.4948958
END:VEVENT
BEGIN:VEVENT
DTSTART;TZID=America/Chicago:20241210T190000
DTEND;TZID=America/Chicago:20241210T203000
DTSTAMP:20260422T082309
CREATED:20241031T112214Z
LAST-MODIFIED:20241031T112214Z
UID:10000618-1733857200-1733862600@visitcolumbusms.org
SUMMARY:Columbus Sings Handel's Messiah
DESCRIPTION:The Columbus community will begin its Christmas season with one performance of Handel’s Messiah on Tuesday\, December 10\, 2024\, at 7:00 p.m. at Annunciation Catholic Church.  For many years now\, these performances have been a part of Columbus’ cultural offerings and have been offered free to the public. Tickets can be obtain from Annunciation Catholic Church\, Columbus-Lowndes Convention and Visitors Bureau\, Tennessee Williams Visitors Center and First Methodist Church of Columbus starting November 11\, 2024.
URL:https://visitcolumbusms.org/event/columbus-sings-handels-messiah/
LOCATION:Annunciation Catholic Church\, 823 College Street\, Columbus\, MS\, 39701\, United States
CATEGORIES:Arts & Culture,Christmas,Community Event,Music
GEO:33.4948958;-88.4232716
X-APPLE-STRUCTURED-LOCATION;VALUE=URI;X-ADDRESS=Annunciation Catholic Church 823 College Street Columbus MS 39701 United States;X-APPLE-RADIUS=500;X-TITLE=823 College Street:geo:-88.4232716,33.4948958
END:VEVENT
BEGIN:VEVENT
DTSTART;TZID=America/Chicago:20241209T183000
DTEND;TZID=America/Chicago:20241209T203000
DTSTAMP:20260422T082309
CREATED:20241106T035400Z
LAST-MODIFIED:20241106T035400Z
UID:10000640-1733769000-1733776200@visitcolumbusms.org
SUMMARY:4th Annual New Hope Christmas Parade
DESCRIPTION:
URL:https://visitcolumbusms.org/event/4th-annual-new-hope-christmas-parade-2/
LOCATION:New Hope Community Center\, 381 Stadium Road\, Columbus\, MS\, 39702\, United States
CATEGORIES:Christmas,Community Event,Family Fun
GEO:33.4540457;-88.3266122
X-APPLE-STRUCTURED-LOCATION;VALUE=URI;X-ADDRESS=New Hope Community Center 381 Stadium Road Columbus MS 39702 United States;X-APPLE-RADIUS=500;X-TITLE=381 Stadium Road:geo:-88.3266122,33.4540457
END:VEVENT
BEGIN:VEVENT
DTSTART;TZID=America/Chicago:20241209T183000
DTEND;TZID=America/Chicago:20241209T193000
DTSTAMP:20260422T082309
CREATED:20241031T110343Z
LAST-MODIFIED:20241125T212609Z
UID:10000620-1733769000-1733772600@visitcolumbusms.org
SUMMARY:4th Annual New Hope Christmas Parade
DESCRIPTION:
URL:https://visitcolumbusms.org/event/4th-annual-new-hope-christmas-parade/
LOCATION:New Hope Community Center\, 381 Stadium Road\, Columbus\, MS\, 39702\, United States
CATEGORIES:Christmas,Community Event,Family Fun
GEO:33.4540457;-88.3266122
X-APPLE-STRUCTURED-LOCATION;VALUE=URI;X-ADDRESS=New Hope Community Center 381 Stadium Road Columbus MS 39702 United States;X-APPLE-RADIUS=500;X-TITLE=381 Stadium Road:geo:-88.3266122,33.4540457
END:VEVENT
BEGIN:VEVENT
DTSTART;TZID=America/Chicago:20241209T080000
DTEND;TZID=America/Chicago:20241224T170000
DTSTAMP:20260422T082309
CREATED:20241209T121816Z
LAST-MODIFIED:20241209T121816Z
UID:10000647-1733731200-1735059600@visitcolumbusms.org
SUMMARY:Toy Drive
DESCRIPTION:
URL:https://visitcolumbusms.org/event/toy-drive/
LOCATION:Lowndes County Sheriff\, 527 South Martin Luther King\, Jr. Drive\, Columbus\, MS\, 39701\, United States
CATEGORIES:Christmas
GEO:33.4938392;-88.4016915
X-APPLE-STRUCTURED-LOCATION;VALUE=URI;X-ADDRESS=Lowndes County Sheriff 527 South Martin Luther King Jr. Drive Columbus MS 39701 United States;X-APPLE-RADIUS=500;X-TITLE=527 South Martin Luther King\, Jr. Drive:geo:-88.4016915,33.4938392
END:VEVENT
BEGIN:VEVENT
DTSTART;VALUE=DATE:20241209
DTEND;VALUE=DATE:20241216
DTSTAMP:20260422T082309
CREATED:20241209T123519Z
LAST-MODIFIED:20241210T122129Z
UID:10000653-1733702400-1734307199@visitcolumbusms.org
SUMMARY:10th Annual Caledonia Community Christmas Toy Drive
DESCRIPTION:
URL:https://visitcolumbusms.org/event/10th-annual-caledonia-community-christmas-toy-drive/
LOCATION:Columbus\, MS\, 39701\, United States
CATEGORIES:Christmas,Community Event
GEO:33.4521847;-88.5371958
END:VEVENT
BEGIN:VEVENT
DTSTART;TZID=America/Chicago:20241207T180000
DTEND;TZID=America/Chicago:20241207T193000
DTSTAMP:20260422T082309
CREATED:20241102T171342Z
LAST-MODIFIED:20241102T171342Z
UID:10000632-1733594400-1733599800@visitcolumbusms.org
SUMMARY:Caledonia Christmas
DESCRIPTION:
URL:https://visitcolumbusms.org/event/caledonia-christmas/
LOCATION:Caledonia\, Caledonia\, MS\, 39740\, United States
CATEGORIES:Christmas,Community Event
GEO:33.6828918;-88.3244811
END:VEVENT
BEGIN:VEVENT
DTSTART;TZID=America/Chicago:20241207T170000
DTEND;TZID=America/Chicago:20241207T220000
DTSTAMP:20260422T082309
CREATED:20241106T035547Z
LAST-MODIFIED:20241106T035547Z
UID:10000643-1733590800-1733608800@visitcolumbusms.org
SUMMARY:2nd Annual Christmas Tree Lighting
DESCRIPTION:
URL:https://visitcolumbusms.org/event/2nd-annual-christmas-tree-lighting/
LOCATION:New Hope Community Center\, 381 Stadium Road\, Columbus\, MS\, 39702\, United States
CATEGORIES:Christmas,Community Event,Family Fun
GEO:33.4540457;-88.3266122
X-APPLE-STRUCTURED-LOCATION;VALUE=URI;X-ADDRESS=New Hope Community Center 381 Stadium Road Columbus MS 39702 United States;X-APPLE-RADIUS=500;X-TITLE=381 Stadium Road:geo:-88.3266122,33.4540457
END:VEVENT
BEGIN:VEVENT
DTSTART;TZID=America/Chicago:20241207T100000
DTEND;TZID=America/Chicago:20241207T130000
DTSTAMP:20260422T082309
CREATED:20241031T111417Z
LAST-MODIFIED:20241031T111417Z
UID:10000626-1733565600-1733576400@visitcolumbusms.org
SUMMARY:Christmas Cookie Walk
DESCRIPTION:
URL:https://visitcolumbusms.org/event/christmas-cookie-walk/
LOCATION:Columbus\, MS\, 39701\, United States
CATEGORIES:Christmas,Community Event,Family Fun
GEO:33.4521847;-88.5371958
END:VEVENT
BEGIN:VEVENT
DTSTART;TZID=America/Chicago:20241207T100000
DTEND;TZID=America/Chicago:20241207T120000
DTSTAMP:20260422T082309
CREATED:20241031T111320Z
LAST-MODIFIED:20241031T111320Z
UID:10000625-1733565600-1733572800@visitcolumbusms.org
SUMMARY:Pictures with Santa & Miz Claus
DESCRIPTION:
URL:https://visitcolumbusms.org/event/pictures-with-santa-miz-claus/
LOCATION:Rosenzweig Arts Center\, 501 Main Street\, Columbus\, MS\, 39701\, United States
CATEGORIES:Christmas,Community Event,Family Fun
GEO:33.4947188;-88.4325751
X-APPLE-STRUCTURED-LOCATION;VALUE=URI;X-ADDRESS=Rosenzweig Arts Center 501 Main Street Columbus MS 39701 United States;X-APPLE-RADIUS=500;X-TITLE=501 Main Street:geo:-88.4325751,33.4947188
END:VEVENT
END:VCALENDAR