BEGIN:VCALENDAR
VERSION:2.0
PRODID:-//Columbus MS - ECPv6.10.1.1//NONSGML v1.0//EN
CALSCALE:GREGORIAN
METHOD:PUBLISH
X-WR-CALNAME:Columbus MS
X-ORIGINAL-URL:https://visitcolumbusms.org
X-WR-CALDESC:Events for Columbus MS
REFRESH-INTERVAL;VALUE=DURATION:PT1H
X-Robots-Tag:noindex
X-PUBLISHED-TTL:PT1H
BEGIN:VTIMEZONE
TZID:America/Chicago
BEGIN:DAYLIGHT
TZOFFSETFROM:-0600
TZOFFSETTO:-0500
TZNAME:CDT
DTSTART:20260308T080000
END:DAYLIGHT
BEGIN:STANDARD
TZOFFSETFROM:-0500
TZOFFSETTO:-0600
TZNAME:CST
DTSTART:20261101T070000
END:STANDARD
END:VTIMEZONE
BEGIN:VEVENT
DTSTART;TZID=America/Chicago:20260421T173000
DTEND;TZID=America/Chicago:20260421T193000
DTSTAMP:20260423T063711
CREATED:20260414T170212Z
LAST-MODIFIED:20260414T170234Z
UID:10000933-1776792600-1776799800@visitcolumbusms.org
SUMMARY:Celebrity Wait Night
DESCRIPTION:
URL:https://visitcolumbusms.org/event/celebrity-wait-night/
LOCATION:The Grill\, 1927 Hwy 45 N\, Columbus\, MS
CATEGORIES:Community Event,Family Fun,Food
GEO:33.5214084;-88.4362148
X-APPLE-STRUCTURED-LOCATION;VALUE=URI;X-ADDRESS=The Grill 1927 Hwy 45 N Columbus MS;X-APPLE-RADIUS=500;X-TITLE=1927 Hwy 45 N:geo:-88.4362148,33.5214084
END:VEVENT
BEGIN:VEVENT
DTSTART;TZID=America/Chicago:20260421T173000
DTEND;TZID=America/Chicago:20260421T190000
DTSTAMP:20260423T063711
CREATED:20260414T175446Z
LAST-MODIFIED:20260414T175452Z
UID:10000941-1776792600-1776798000@visitcolumbusms.org
SUMMARY:Spy School: Escape the Night
DESCRIPTION:
URL:https://visitcolumbusms.org/event/spy-school-escape-the-night/
LOCATION:Columbus Lowndes Public Library\, 314 7th Street North\, Columbus\, MS\, 39701\, United States
CATEGORIES:Community Event,Family Fun
GEO:33.4980078;-88.4256211
X-APPLE-STRUCTURED-LOCATION;VALUE=URI;X-ADDRESS=Columbus Lowndes Public Library 314 7th Street North Columbus MS 39701 United States;X-APPLE-RADIUS=500;X-TITLE=314 7th Street North:geo:-88.4256211,33.4980078
END:VEVENT
BEGIN:VEVENT
DTSTART;TZID=America/Chicago:20260420T160000
DTEND;TZID=America/Chicago:20260420T173000
DTSTAMP:20260423T063711
CREATED:20260416T164116Z
LAST-MODIFIED:20260416T164116Z
UID:10000964-1776700800-1776706200@visitcolumbusms.org
SUMMARY:Teen Craft Workshop: Diamond Painting
DESCRIPTION:
URL:https://visitcolumbusms.org/event/teen-craft-workshop-diamond-painting/
LOCATION:Columbus Lowndes Public Library\, 314 7th Street North\, Columbus\, MS\, 39701\, United States
CATEGORIES:Arts & Culture,Community Event,Family Fun
GEO:33.4980078;-88.4256211
X-APPLE-STRUCTURED-LOCATION;VALUE=URI;X-ADDRESS=Columbus Lowndes Public Library 314 7th Street North Columbus MS 39701 United States;X-APPLE-RADIUS=500;X-TITLE=314 7th Street North:geo:-88.4256211,33.4980078
END:VEVENT
BEGIN:VEVENT
DTSTART;TZID=America/Chicago:20260419T180000
DTEND;TZID=America/Chicago:20260419T180000
DTSTAMP:20260423T063711
CREATED:20260323T144438Z
LAST-MODIFIED:20260323T144442Z
UID:10000908-1776621600-1776621600@visitcolumbusms.org
SUMMARY:Nell Peel Wolfe Lecture 2026
DESCRIPTION: 
URL:https://visitcolumbusms.org/event/nell-peel-wolfe-lecture-2026/
LOCATION:MUW’s Nissan Auditorium
CATEGORIES:Community Event
END:VEVENT
BEGIN:VEVENT
DTSTART;TZID=America/Chicago:20260419T170000
DTEND;TZID=America/Chicago:20260419T210000
DTSTAMP:20260423T063711
CREATED:20260414T170727Z
LAST-MODIFIED:20260414T170808Z
UID:10000935-1776618000-1776632400@visitcolumbusms.org
SUMMARY:Kidd's Tavern 200th Birthday - Picnic on the Grounds
DESCRIPTION:  \nPurchase tickets https://tickets.visitcolumbusms.org/event/kidds-tavern-200th-birthday-celebration/.
URL:https://visitcolumbusms.org/event/kidds-tavern-200th-birthday-picnic-on-the-grounds/
LOCATION:Kidd’s Tavern\, 8439 Hwy 12 East\, Columbus\, MS\, 39766
CATEGORIES:Community Event,Family Fun,Historic Home Tours
GEO:33.6253479;-88.3121146
X-APPLE-STRUCTURED-LOCATION;VALUE=URI;X-ADDRESS=Kidd’s Tavern 8439 Hwy 12 East Columbus MS 39766;X-APPLE-RADIUS=500;X-TITLE=8439 Hwy 12 East:geo:-88.3121146,33.6253479
END:VEVENT
BEGIN:VEVENT
DTSTART;TZID=America/Chicago:20260419T130000
DTEND;TZID=America/Chicago:20260419T160000
DTSTAMP:20260423T063711
CREATED:20260313T174648Z
LAST-MODIFIED:20260313T174707Z
UID:10000876-1776603600-1776614400@visitcolumbusms.org
SUMMARY:Lowndes County Master Gardeners Annual Plant Sale
DESCRIPTION:
URL:https://visitcolumbusms.org/event/lowndes-county-master-gardeners-annual-plant-sale/2026-04-19/
LOCATION:MS
CATEGORIES:Community Event,Family Fun,Shopping
END:VEVENT
BEGIN:VEVENT
DTSTART;TZID=America/Chicago:20260418T180000
DTEND;TZID=America/Chicago:20260418T200000
DTSTAMP:20260423T063711
CREATED:20260414T163827Z
LAST-MODIFIED:20260414T163831Z
UID:10000928-1776535200-1776542400@visitcolumbusms.org
SUMMARY:Caledonia Park & Rec Sneaker Ball Dance
DESCRIPTION:
URL:https://visitcolumbusms.org/event/caledonia-park-rec-sneaker-ball-dance/
LOCATION:YMCA in the Gym
CATEGORIES:Community Event
END:VEVENT
BEGIN:VEVENT
DTSTART;TZID=America/Chicago:20260418T130000
DTEND;TZID=America/Chicago:20260418T130000
DTSTAMP:20260423T063711
CREATED:20260414T174455Z
LAST-MODIFIED:20260414T174621Z
UID:10000940-1776517200-1776517200@visitcolumbusms.org
SUMMARY:Bird Photography @ Plymouth Bluff
DESCRIPTION:
URL:https://visitcolumbusms.org/event/bird-photography-plymouth-bluff-2/
LOCATION:Plymouth Bluff Environmental Center\, 2200 Old West Point Road\, Columbus\, MS\, 39701\, United States
CATEGORIES:Community Event,Sports & Outdoors
GEO:33.5143787;-88.4957051
X-APPLE-STRUCTURED-LOCATION;VALUE=URI;X-ADDRESS=Plymouth Bluff Environmental Center 2200 Old West Point Road Columbus MS 39701 United States;X-APPLE-RADIUS=500;X-TITLE=2200 Old West Point Road:geo:-88.4957051,33.5143787
END:VEVENT
BEGIN:VEVENT
DTSTART;TZID=America/Chicago:20260418T083000
DTEND;TZID=America/Chicago:20260418T083000
DTSTAMP:20260423T063711
CREATED:20260414T163525Z
LAST-MODIFIED:20260414T163539Z
UID:10000926-1776501000-1776501000@visitcolumbusms.org
SUMMARY:Pink Ribbon Walk
DESCRIPTION:
URL:https://visitcolumbusms.org/event/pink-ribbon-walk/
LOCATION:Artesia Pavillion\, Artesia\, MS
CATEGORIES:Community Event,Sports & Outdoors
GEO:33.4153994;-88.6439366
END:VEVENT
BEGIN:VEVENT
DTSTART;TZID=America/Chicago:20260418T080000
DTEND;TZID=America/Chicago:20260418T120000
DTSTAMP:20260423T063711
CREATED:20260313T174648Z
LAST-MODIFIED:20260313T174707Z
UID:10000875-1776499200-1776513600@visitcolumbusms.org
SUMMARY:Lowndes County Master Gardeners Annual Plant Sale
DESCRIPTION:
URL:https://visitcolumbusms.org/event/lowndes-county-master-gardeners-annual-plant-sale/2026-04-18/
LOCATION:MS
CATEGORIES:Community Event,Family Fun,Shopping
END:VEVENT
BEGIN:VEVENT
DTSTART;TZID=America/Chicago:20260418T080000
DTEND;TZID=America/Chicago:20260418T120000
DTSTAMP:20260423T063711
CREATED:20260112T224139Z
LAST-MODIFIED:20260130T211156Z
UID:10000807-1776499200-1776513600@visitcolumbusms.org
SUMMARY:Blue Bonnet Trailblazer Challenge
DESCRIPTION:
URL:https://visitcolumbusms.org/event/blue-bonnet-trailblazer-run/
LOCATION:Plymouth Bluff Environmental Center\, 2200 Old West Point Road\, Columbus\, MS\, 39701\, United States
CATEGORIES:Community Event,Family Fun,Sports & Outdoors
GEO:33.5143787;-88.4957051
X-APPLE-STRUCTURED-LOCATION;VALUE=URI;X-ADDRESS=Plymouth Bluff Environmental Center 2200 Old West Point Road Columbus MS 39701 United States;X-APPLE-RADIUS=500;X-TITLE=2200 Old West Point Road:geo:-88.4957051,33.5143787
END:VEVENT
BEGIN:VEVENT
DTSTART;TZID=America/Chicago:20260417T193000
DTEND;TZID=America/Chicago:20260417T203000
DTSTAMP:20260423T063711
CREATED:20260117T213936Z
LAST-MODIFIED:20260117T213936Z
UID:10000824-1776454200-1776457800@visitcolumbusms.org
SUMMARY:Piano Students' Recital
DESCRIPTION:
URL:https://visitcolumbusms.org/event/piano-students-recital-2/
LOCATION:Poindexter Hall\, 1100 College St. Columbus\, Columbus\, MS\, 39701\, United States
CATEGORIES:Arts & Culture,Community Event,Music
GEO:33.491089;-88.4183492
X-APPLE-STRUCTURED-LOCATION;VALUE=URI;X-ADDRESS=Poindexter Hall 1100 College St. Columbus Columbus MS 39701 United States;X-APPLE-RADIUS=500;X-TITLE=1100 College St. Columbus:geo:-88.4183492,33.491089
END:VEVENT
BEGIN:VEVENT
DTSTART;TZID=America/Chicago:20260417T180000
DTEND;TZID=America/Chicago:20260417T210000
DTSTAMP:20260423T063711
CREATED:20260117T231234Z
LAST-MODIFIED:20260117T231234Z
UID:10000849-1776448800-1776459600@visitcolumbusms.org
SUMMARY:Lowndes County Sports Hall of Fame Banquet
DESCRIPTION:
URL:https://visitcolumbusms.org/event/lowndes-county-sports-hall-of-fame-banquet/
LOCATION:Trotter Convention Center\, 402 2nd Ave. N\, Columbus\, MS\, 39701\, United States
CATEGORIES:Community Event,Sports & Outdoors
GEO:33.4958535;-88.4291808
X-APPLE-STRUCTURED-LOCATION;VALUE=URI;X-ADDRESS=Trotter Convention Center 402 2nd Ave. N Columbus MS 39701 United States;X-APPLE-RADIUS=500;X-TITLE=402 2nd Ave. N:geo:-88.4291808,33.4958535
END:VEVENT
BEGIN:VEVENT
DTSTART;TZID=America/Chicago:20260417T160000
DTEND;TZID=America/Chicago:20260419T230000
DTSTAMP:20260423T063711
CREATED:20260120T162843Z
LAST-MODIFIED:20260324T200315Z
UID:10000856-1776441600-1776639600@visitcolumbusms.org
SUMMARY:PorchFest 26
DESCRIPTION:PorchFest in Columbus\, Mississippi is a grassroots-style music and arts festival that transforms the lawn at Munson & Brothers into a welcoming\, open-air gathering place. In true Storybook South fashion\, it feels like stepping into a scene where music drifts through the trees\, neighbors become friends\, and every corner offers something new to discover.  \nBlending live music\, local makers\, and a relaxed outdoor setting\, PorchFest has grown into a beloved spring tradition and one of the city’s most creative\, come-as-you-are weekends. \nLearn More: https://www.facebook.com/events/1536166100890655/  \nDates: April 17-19\, 2026\nFriday\, April 17 – 4:00-11:00 pm\nSaturday\, April 18 – 1:00-11:00 pm\nSunday\, April 19 – 1:00-11:00 pm \nLocation:  Munson & Brothers Trading Post\, 301 2nd Ave N\, Columbus\, MS \nAdmission: $10/Day or $20/Weekend\nHost: Porch Talk and Munson & Brothers  \nWhat Visitors Can Expect:  \nLive Music All Weekend\nMore than 20 bands and artists perform throughout the weekend\, featuring a mix of local musicians and touring acts from across the region. The sound leans into Americana\, roots\, rock\, and songwriter-driven sets\, creating a laid-back listening experience.  \nA Lawn Chair Kind of Weekend\nPorchFest is all about settling in and staying awhile. Guests are encouraged to bring lawn chairs or blankets\, find a spot on the grass\, and enjoy hours of live music in an open-air setting.  \nEasygoing\, Come-and-Go Atmosphere\nThe event is designed to feel like a large backyard gathering. Visitors can move freely through the space\, catching different sets and connecting with others throughout the day. 
URL:https://visitcolumbusms.org/event/porchfest-2026/
LOCATION:Munson and Brothers\, 301 2nd Avenue North\, Columbus\, MS\, 39701\, United States
CATEGORIES:Community Event,Music
GEO:33.4961922;-88.4307651
X-APPLE-STRUCTURED-LOCATION;VALUE=URI;X-ADDRESS=Munson and Brothers 301 2nd Avenue North Columbus MS 39701 United States;X-APPLE-RADIUS=500;X-TITLE=301 2nd Avenue North:geo:-88.4307651,33.4961922
END:VEVENT
BEGIN:VEVENT
DTSTART;TZID=America/Chicago:20260417T124055
DTEND;TZID=America/Chicago:20260417T124055
DTSTAMP:20260423T063711
CREATED:20260313T174055Z
LAST-MODIFIED:20260313T174055Z
UID:10000872-1776429655-1776429655@visitcolumbusms.org
SUMMARY:Tales from the Crypt
DESCRIPTION:
URL:https://visitcolumbusms.org/event/tales-from-the-crypt-9/2026-04-17/
LOCATION:Friendship Cemetery\, 1400 Fourth Street South\, Columbus\, MS\, 39701\, United States
CATEGORIES:Arts & Culture,Community Event,History
GEO:33.4819553;-88.4281742
X-APPLE-STRUCTURED-LOCATION;VALUE=URI;X-ADDRESS=Friendship Cemetery 1400 Fourth Street South Columbus MS 39701 United States;X-APPLE-RADIUS=500;X-TITLE=1400 Fourth Street South:geo:-88.4281742,33.4819553
END:VEVENT
BEGIN:VEVENT
DTSTART;TZID=America/Chicago:20260416T110000
DTEND;TZID=America/Chicago:20260416T120000
DTSTAMP:20260423T063711
CREATED:20260406T215440Z
LAST-MODIFIED:20260406T215949Z
UID:10000925-1776337200-1776340800@visitcolumbusms.org
SUMMARY:Honey Bee Talk with Extension Agent Randall Nevins
DESCRIPTION:
URL:https://visitcolumbusms.org/event/honey-bee-talk-with-extension-agent-randall-nevins/
LOCATION:Lowndes County Master Gardener Butterfly Garden
CATEGORIES:Community Event,Family Fun,Sports & Outdoors
END:VEVENT
BEGIN:VEVENT
DTSTART;TZID=America/Chicago:20260415T124055
DTEND;TZID=America/Chicago:20260415T124055
DTSTAMP:20260423T063711
CREATED:20260313T174055Z
LAST-MODIFIED:20260313T174055Z
UID:10000871-1776256855-1776256855@visitcolumbusms.org
SUMMARY:Tales from the Crypt
DESCRIPTION:
URL:https://visitcolumbusms.org/event/tales-from-the-crypt-9/2026-04-15/
LOCATION:Friendship Cemetery\, 1400 Fourth Street South\, Columbus\, MS\, 39701\, United States
CATEGORIES:Arts & Culture,Community Event,History
GEO:33.4819553;-88.4281742
X-APPLE-STRUCTURED-LOCATION;VALUE=URI;X-ADDRESS=Friendship Cemetery 1400 Fourth Street South Columbus MS 39701 United States;X-APPLE-RADIUS=500;X-TITLE=1400 Fourth Street South:geo:-88.4281742,33.4819553
END:VEVENT
BEGIN:VEVENT
DTSTART;TZID=America/Chicago:20260414T193000
DTEND;TZID=America/Chicago:20260414T203000
DTSTAMP:20260423T063711
CREATED:20260117T213758Z
LAST-MODIFIED:20260117T213758Z
UID:10000823-1776195000-1776198600@visitcolumbusms.org
SUMMARY:W Music Students Showcase
DESCRIPTION:
URL:https://visitcolumbusms.org/event/w-music-students-showcase/
LOCATION:Poindexter Hall\, 1100 College St. Columbus\, Columbus\, MS\, 39701\, United States
CATEGORIES:Arts & Culture,Community Event,Music
GEO:33.491089;-88.4183492
X-APPLE-STRUCTURED-LOCATION;VALUE=URI;X-ADDRESS=Poindexter Hall 1100 College St. Columbus Columbus MS 39701 United States;X-APPLE-RADIUS=500;X-TITLE=1100 College St. Columbus:geo:-88.4183492,33.491089
END:VEVENT
BEGIN:VEVENT
DTSTART;TZID=America/Chicago:20260411T163000
DTEND;TZID=America/Chicago:20260411T163000
DTSTAMP:20260423T063711
CREATED:20260325T214813Z
LAST-MODIFIED:20260331T163638Z
UID:10000909-1775925000-1775925000@visitcolumbusms.org
SUMMARY:Stella Shouting Contest
DESCRIPTION:Inspired by Tennessee Williams’ “A Streetcar Named Desire”\, the annual Stella Shouting Contest is a local and visitor favorite. Register during Catfish in the Alley from 12 – 3. Sponsored by Columbus Arts Council and Tennessee Williams Tribute.
URL:https://visitcolumbusms.org/event/stella-shouting-contest-3/
LOCATION:400 Block of College Street
CATEGORIES:Community Event,Family Fun
END:VEVENT
BEGIN:VEVENT
DTSTART;TZID=America/Chicago:20260411T160000
DTEND;TZID=America/Chicago:20260411T160000
DTSTAMP:20260423T063711
CREATED:20260313T202559Z
LAST-MODIFIED:20260313T202606Z
UID:10000895-1775923200-1775923200@visitcolumbusms.org
SUMMARY:Stella Shouting Contest
DESCRIPTION:Inspired by Tennessee William’s “A Streetcar Named Desire\,” the annual Stella Shouting Contest is a local and visitor favorite. Register during Catfish in the Alley from 12-3. Sponsored by Columbus Arts Council and Tennessee Williams Tribute.
URL:https://visitcolumbusms.org/event/stella-shouting-contest-2/
LOCATION:MS
CATEGORIES:Arts & Culture,Community Event,Family Fun,History
END:VEVENT
BEGIN:VEVENT
DTSTART;TZID=America/Chicago:20260411T100000
DTEND;TZID=America/Chicago:20260411T120000
DTSTAMP:20260423T063711
CREATED:20260313T204308Z
LAST-MODIFIED:20260330T141350Z
UID:10000901-1775901600-1775908800@visitcolumbusms.org
SUMMARY:Colonial Tea Party
DESCRIPTION:Join Jeanette Watts; historical dance consultant\, writer\, and actress; as she hosts the colonial tea party of the century! While enjoying brunch and sipping tea\, Watts will teach guests about 18th century manners and clothing. This event will take place on Saturday\, April 11 at 10am at the downtown branch of the Columbus-Lowndes Public Library System.​​​ \nYou can bring your own tea cups to use and show off too! \nThis program is sponsored by a Mississippi Humanities Council America250 Grant. \nFor more information\, call the CLPLS at 662-329-5300.
URL:https://visitcolumbusms.org/event/colonial-tea-party/
LOCATION:Columbus-Lowndes Public Library\, 314 7th St N\, Columbus\, MS\, 39701\, United States
CATEGORIES:Community Event,History
GEO:33.4980078;-88.4256211
X-APPLE-STRUCTURED-LOCATION;VALUE=URI;X-ADDRESS=Columbus-Lowndes Public Library 314 7th St N Columbus MS 39701 United States;X-APPLE-RADIUS=500;X-TITLE=314 7th St N:geo:-88.4256211,33.4980078
END:VEVENT
BEGIN:VEVENT
DTSTART;TZID=America/Chicago:20260411T080000
DTEND;TZID=America/Chicago:20260411T140000
DTSTAMP:20260423T063711
CREATED:20260331T164526Z
LAST-MODIFIED:20260331T164554Z
UID:10000924-1775894400-1775916000@visitcolumbusms.org
SUMMARY:Serve the Nations Pickleball Tournament
DESCRIPTION:
URL:https://visitcolumbusms.org/event/serve-the-nations-pickleball-tournament/
LOCATION:Propst Park\, 2535 Main Street\, Columbus\, MS\, 39701\, United States
CATEGORIES:Community Event,Sports & Outdoors
GEO:33.5002006;-88.3985726
X-APPLE-STRUCTURED-LOCATION;VALUE=URI;X-ADDRESS=Propst Park 2535 Main Street Columbus MS 39701 United States;X-APPLE-RADIUS=500;X-TITLE=2535 Main Street:geo:-88.3985726,33.5002006
END:VEVENT
BEGIN:VEVENT
DTSTART;TZID=America/Chicago:20260411T080000
DTEND;TZID=America/Chicago:20260411T110000
DTSTAMP:20260423T063712
CREATED:20260330T201045Z
LAST-MODIFIED:20260330T201119Z
UID:10000915-1775894400-1775905200@visitcolumbusms.org
SUMMARY:Youth Fishing Rodeo
DESCRIPTION:
URL:https://visitcolumbusms.org/event/youth-fishing-rodeo/
LOCATION:Lake Lowndes State Park\, 3319 Lake Lowndes Road\, Columbus\, MS\, 39702\, United States
CATEGORIES:Community Event,Family Fun,Sports & Outdoors
GEO:33.4397715;-88.3075899
X-APPLE-STRUCTURED-LOCATION;VALUE=URI;X-ADDRESS=Lake Lowndes State Park 3319 Lake Lowndes Road Columbus MS 39702 United States;X-APPLE-RADIUS=500;X-TITLE=3319 Lake Lowndes Road:geo:-88.3075899,33.4397715
END:VEVENT
BEGIN:VEVENT
DTSTART;TZID=America/Chicago:20260410T140000
DTEND;TZID=America/Chicago:20260410T150000
DTSTAMP:20260423T063712
CREATED:20260117T213128Z
LAST-MODIFIED:20260117T213128Z
UID:10000821-1775829600-1775833200@visitcolumbusms.org
SUMMARY:Music in the Library
DESCRIPTION:
URL:https://visitcolumbusms.org/event/music-in-the-library-6/
LOCATION:Fant Memorial Library\, 1200 5th Avenue South\, Columbus\, MS\, 39701\, United States
CATEGORIES:Arts & Culture,Community Event,Music
GEO:33.4911954;-88.4184086
X-APPLE-STRUCTURED-LOCATION;VALUE=URI;X-ADDRESS=Fant Memorial Library 1200 5th Avenue South Columbus MS 39701 United States;X-APPLE-RADIUS=500;X-TITLE=1200 5th Avenue South:geo:-88.4184086,33.4911954
END:VEVENT
BEGIN:VEVENT
DTSTART;TZID=America/Chicago:20260410T124055
DTEND;TZID=America/Chicago:20260410T124055
DTSTAMP:20260423T063712
CREATED:20260313T174055Z
LAST-MODIFIED:20260313T174055Z
UID:10000870-1775824855-1775824855@visitcolumbusms.org
SUMMARY:Tales from the Crypt
DESCRIPTION:
URL:https://visitcolumbusms.org/event/tales-from-the-crypt-9/2026-04-10/
LOCATION:Friendship Cemetery\, 1400 Fourth Street South\, Columbus\, MS\, 39701\, United States
CATEGORIES:Arts & Culture,Community Event,History
GEO:33.4819553;-88.4281742
X-APPLE-STRUCTURED-LOCATION;VALUE=URI;X-ADDRESS=Friendship Cemetery 1400 Fourth Street South Columbus MS 39701 United States;X-APPLE-RADIUS=500;X-TITLE=1400 Fourth Street South:geo:-88.4281742,33.4819553
END:VEVENT
BEGIN:VEVENT
DTSTART;TZID=America/Chicago:20260410T120000
DTEND;TZID=America/Chicago:20260411T170000
DTSTAMP:20260423T063712
CREATED:20251016T215221Z
LAST-MODIFIED:20260309T130312Z
UID:10000773-1775822400-1775926800@visitcolumbusms.org
SUMMARY:Catfish in the Alley
DESCRIPTION:Discover the best that Columbus has to offer at Catfish in the Alley on April 10-11\, 2026. Sample savory Mississippi farm-raised catfish\, as well as other Southern fare\, while enjoying the soulful sounds of blues music. This annual event features concerts\, artisans\, food vendors and fun for the whole family. Held each spring in Columbus\, Catfish in the Alley is a tribute to the African American citizens of Columbus who contributed to the town’s rich political\, historical\, cultural and musical heritage. But don’t take our word for it – come see for yourself! \nFriday\, April 10 | Blues with a Side of Soul\nJoin us for “Blues with a Side of Soul” on Friday\, April 10 12:00 to 2:00 p.m. Kyia King and Company will perform. Soul food plate lunches available for purchase. \nPre-Order Your Plate Lunch Today! \nSaturday\, April 11 | Catfish in the Alley and Artisans Alley\nVisit the world-famous “Catfish Alley\,” where legendary bluesmen\, such as Howlin’ Wolf\, Bukka White and Big Joe Williams\, got their start. Here nationally recognized artists\, such as B.B. King\, Duke Ellington\, Little Richard\, Louis Armstrong and James Brown\, performed alongside Mississippi’s blues guitarists. Catfish in the Alley event headliners will wow the crowds with their original songs and reimagined takes on blues classics\, so come early and leave late. Music starts at 12:00 with Dorothy McClung Lewis and The Anointed Songbirds. At 1:15\, Honeyboy and Boots take the stage following by James “Super Chikan” Johnson at 2:15. Our headliner\, Jimmy D. Lane will play 3:30 until 5:00. Food vendors and artisans will also be onsite.
URL:https://visitcolumbusms.org/event/catfish-in-the-alley-7/
LOCATION:MS
CATEGORIES:Community Event,Music
END:VEVENT
BEGIN:VEVENT
DTSTART;TZID=America/Chicago:20260409T190000
DTEND;TZID=America/Chicago:20260409T190000
DTSTAMP:20260423T063712
CREATED:20260330T200440Z
LAST-MODIFIED:20260330T200453Z
UID:10000914-1775761200-1775761200@visitcolumbusms.org
SUMMARY:Golden Triangle Singers "Many Voices One Song"
DESCRIPTION:
URL:https://visitcolumbusms.org/event/golden-triangle-singers-many-voices-one-song/
LOCATION:The Lyceum at Lee\, 1815 Military Road\, Columbus\, MS\, 39701\, United States
CATEGORIES:Community Event,Family Fun,Music
GEO:33.515838;-88.418024
X-APPLE-STRUCTURED-LOCATION;VALUE=URI;X-ADDRESS=The Lyceum at Lee 1815 Military Road Columbus MS 39701 United States;X-APPLE-RADIUS=500;X-TITLE=1815 Military Road:geo:-88.418024,33.515838
END:VEVENT
BEGIN:VEVENT
DTSTART;TZID=America/Chicago:20260408T124055
DTEND;TZID=America/Chicago:20260408T124055
DTSTAMP:20260423T063712
CREATED:20260313T174055Z
LAST-MODIFIED:20260313T174055Z
UID:10000869-1775652055-1775652055@visitcolumbusms.org
SUMMARY:Tales from the Crypt
DESCRIPTION:
URL:https://visitcolumbusms.org/event/tales-from-the-crypt-9/2026-04-08/
LOCATION:Friendship Cemetery\, 1400 Fourth Street South\, Columbus\, MS\, 39701\, United States
CATEGORIES:Arts & Culture,Community Event,History
GEO:33.4819553;-88.4281742
X-APPLE-STRUCTURED-LOCATION;VALUE=URI;X-ADDRESS=Friendship Cemetery 1400 Fourth Street South Columbus MS 39701 United States;X-APPLE-RADIUS=500;X-TITLE=1400 Fourth Street South:geo:-88.4281742,33.4819553
END:VEVENT
BEGIN:VEVENT
DTSTART;TZID=America/Chicago:20260407T193000
DTEND;TZID=America/Chicago:20260407T203000
DTSTAMP:20260423T063712
CREATED:20260313T201959Z
LAST-MODIFIED:20260313T202026Z
UID:10000893-1775590200-1775593800@visitcolumbusms.org
SUMMARY:MUW Chamber Singers Spring Concert
DESCRIPTION:You are invited to join the W Chamber Singers\, conducted by Dr. William Reber and Prof. Zane Lynn for their spring performance! This event is free and open to the public.
URL:https://visitcolumbusms.org/event/muw-chamber-singers-spring-concert-2/
LOCATION:Kossen Auditorium
CATEGORIES:Arts & Culture,Community Event,Family Fun,Music
END:VEVENT
BEGIN:VEVENT
DTSTART;TZID=America/Chicago:20260407T193000
DTEND;TZID=America/Chicago:20260407T203000
DTSTAMP:20260423T063712
CREATED:20260117T213334Z
LAST-MODIFIED:20260117T213334Z
UID:10000822-1775590200-1775593800@visitcolumbusms.org
SUMMARY:The W Chamber Singers Spring Concert
DESCRIPTION:
URL:https://visitcolumbusms.org/event/the-w-chamber-singers-spring-concert-2/
LOCATION:Poindexter Hall\, 1100 College St. Columbus\, Columbus\, MS\, 39701\, United States
CATEGORIES:Arts & Culture,Community Event,Music
GEO:33.491089;-88.4183492
X-APPLE-STRUCTURED-LOCATION;VALUE=URI;X-ADDRESS=Poindexter Hall 1100 College St. Columbus Columbus MS 39701 United States;X-APPLE-RADIUS=500;X-TITLE=1100 College St. Columbus:geo:-88.4183492,33.491089
END:VEVENT
END:VCALENDAR