BEGIN:VCALENDAR
VERSION:2.0
PRODID:-//Columbus MS - ECPv6.10.1.1//NONSGML v1.0//EN
CALSCALE:GREGORIAN
METHOD:PUBLISH
X-ORIGINAL-URL:https://visitcolumbusms.org
X-WR-CALDESC:Events for Columbus MS
REFRESH-INTERVAL;VALUE=DURATION:PT1H
X-Robots-Tag:noindex
X-PUBLISHED-TTL:PT1H
BEGIN:VTIMEZONE
TZID:America/Chicago
BEGIN:DAYLIGHT
TZOFFSETFROM:-0600
TZOFFSETTO:-0500
TZNAME:CDT
DTSTART:20260308T080000
END:DAYLIGHT
BEGIN:STANDARD
TZOFFSETFROM:-0500
TZOFFSETTO:-0600
TZNAME:CST
DTSTART:20261101T070000
END:STANDARD
END:VTIMEZONE
BEGIN:VEVENT
DTSTART;TZID=America/Chicago:20260502T090000
DTEND;TZID=America/Chicago:20260502T170000
DTSTAMP:20260423T064322
CREATED:20260117T231727Z
LAST-MODIFIED:20260421T161846Z
UID:10000851-1777712400-1777741200@visitcolumbusms.org
SUMMARY:Market Street Festival
DESCRIPTION:Market Street Festival is Columbus’ signature downtown street festival\, transforming Historic Downtown Columbus into a day-long celebration of arts\, music\, food\, and family-friendly fun. Set against the charming backdrop of The Storybook South\, the festival invites visitors to step into a lively\, walkable downtown filled with color\, creativity\, and community spirit. \nHosted by Main Street Columbus \nLocation\nHistoric Downtown Columbus\, Mississippi (centered along 5th Street/Market Street area and spanning 12 city blocks) \nAdmission\nFree to attend – food\, beverages\, and some activities available for purchase \nWhat Visitors Can Expect\nVendors & Shopping:\nMore than 200 arts and crafts\, retail\, and community vendors line the streets\, offering everything from handmade goods to unique boutique finds. \nFood & Drink:\nFestival favorites\, Southern specialties\, sweet treats\, and refreshing drinks are available throughout downtown\, creating a flavorful experience at every turn. \nLive Music & Entertainment:\nMultiple stages bring the streets to life with a full day of live music from local and regional performers\, along with announcements and engaging on-stage moments. \nFamily-Friendly Activities:\nWith inflatables\, kids’ zones\, and activities designed for all ages\, the festival offers plenty of ways for families to play\, explore\, and make memories together. \nPossum Town Show and Shine Car Show: Classic\, new\, and truly one‑of‑a‑kind vehicles line the streets for this judged show\, offering plenty of photo opportunities and conversation with fellow enthusiasts. \nLearn More
URL:https://visitcolumbusms.org/event/market-street-festival-4/
LOCATION:Downtown Columbus\, 107 5th St S\, Columbus\, MS\, 39701\, United States
CATEGORIES:Arts & Culture,Community Event,Family Fun,Food
GEO:33.4947766;-88.4278745
X-APPLE-STRUCTURED-LOCATION;VALUE=URI;X-ADDRESS=Downtown Columbus 107 5th St S Columbus MS 39701 United States;X-APPLE-RADIUS=500;X-TITLE=107 5th St S:geo:-88.4278745,33.4947766
END:VEVENT
BEGIN:VEVENT
DTSTART;TZID=America/Chicago:20260503T160000
DTEND;TZID=America/Chicago:20260503T160000
DTSTAMP:20260423T064322
CREATED:20260421T202824Z
LAST-MODIFIED:20260421T203018Z
UID:10000977-1777824000-1777824000@visitcolumbusms.org
SUMMARY:Columbus Girl Choir Spring Concert
DESCRIPTION:
URL:https://visitcolumbusms.org/event/columbus-girl-choir-spring-concert/
LOCATION:First Methodist Church Columbus
CATEGORIES:Community Event,Family Fun,Music
END:VEVENT
BEGIN:VEVENT
DTSTART;TZID=America/Chicago:20260504T170000
DTEND;TZID=America/Chicago:20260504T170000
DTSTAMP:20260423T064322
CREATED:20260421T161713Z
LAST-MODIFIED:20260421T161723Z
UID:10000970-1777914000-1777914000@visitcolumbusms.org
SUMMARY:Swearing in of Columbus' new Fire Chief Charles D. Yarbrough
DESCRIPTION:
URL:https://visitcolumbusms.org/event/swearing-in-of-columbus-new-fire-chief-charles-d-yarbrough/
LOCATION:523 Main St.\, Columbus\, MS
CATEGORIES:Community Event
GEO:33.4956744;-88.4272627
END:VEVENT
BEGIN:VEVENT
DTSTART;TZID=America/Chicago:20260509T070000
DTEND;TZID=America/Chicago:20260509T100000
DTSTAMP:20260423T064322
CREATED:20260313T175926Z
LAST-MODIFIED:20260421T162243Z
UID:10000892-1778310000-1778320800@visitcolumbusms.org
SUMMARY:Kid's Market at Hitching Lot Farmers Market
DESCRIPTION:
URL:https://visitcolumbusms.org/event/kids-market-at-hitching-lot-farmers-market/
LOCATION:MS
CATEGORIES:Community Event,Family Fun,Shopping
END:VEVENT
BEGIN:VEVENT
DTSTART;TZID=America/Chicago:20260509T090000
DTEND;TZID=America/Chicago:20260509T090000
DTSTAMP:20260423T064322
CREATED:20260421T201140Z
LAST-MODIFIED:20260421T201147Z
UID:10000973-1778317200-1778317200@visitcolumbusms.org
SUMMARY:Mommy and Me Pilates in the Park & Flower Bouquet Bar
DESCRIPTION:
URL:https://visitcolumbusms.org/event/mommy-and-me-pilates-in-the-park-flower-bouquet-bar/
LOCATION:Crown Park\, 301 N 3rd St\, Columbus\, MS
CATEGORIES:Community Event,Family Fun
GEO:33.4994056;-88.4323616
X-APPLE-STRUCTURED-LOCATION;VALUE=URI;X-ADDRESS=Crown Park 301 N 3rd St Columbus MS;X-APPLE-RADIUS=500;X-TITLE=301 N 3rd St:geo:-88.4323616,33.4994056
END:VEVENT
BEGIN:VEVENT
DTSTART;TZID=America/Chicago:20260509T090000
DTEND;TZID=America/Chicago:20260509T120000
DTSTAMP:20260423T064322
CREATED:20260421T162757Z
LAST-MODIFIED:20260421T162829Z
UID:10000971-1778317200-1778328000@visitcolumbusms.org
SUMMARY:Partnering in the Park
DESCRIPTION:https://playtennis.usta.com/goldentriangletennis/Coaching/Session/420ee596-28a9-4aa7-895b-894bc3652d0d
URL:https://visitcolumbusms.org/event/partnering-in-the-park/
LOCATION:Propst Park\, 2535 Main Street\, Columbus\, MS\, 39701\, United States
CATEGORIES:Community Event,Family Fun,Sports & Outdoors
GEO:33.5002006;-88.3985726
X-APPLE-STRUCTURED-LOCATION;VALUE=URI;X-ADDRESS=Propst Park 2535 Main Street Columbus MS 39701 United States;X-APPLE-RADIUS=500;X-TITLE=2535 Main Street:geo:-88.3985726,33.5002006
END:VEVENT
BEGIN:VEVENT
DTSTART;TZID=America/Chicago:20260509T100000
DTEND;TZID=America/Chicago:20260509T100000
DTSTAMP:20260423T064322
CREATED:20260416T151939Z
LAST-MODIFIED:20260416T151948Z
UID:10000946-1778320800-1778320800@visitcolumbusms.org
SUMMARY:Tammy's Ride for Camp Rising Sun
DESCRIPTION:Donation to ride is $20. \nRegistration starts @9 AM and kickstands go up @10 AM.
URL:https://visitcolumbusms.org/event/tammys-ride-for-camp-rising-sun/
LOCATION:First Methodist Church Columbus
CATEGORIES:Community Event
END:VEVENT
BEGIN:VEVENT
DTSTART;TZID=America/Chicago:20260514T173000
DTEND;TZID=America/Chicago:20260514T173000
DTSTAMP:20260423T064322
CREATED:20260414T180055Z
LAST-MODIFIED:20260414T180116Z
UID:10000942-1778779800-1778779800@visitcolumbusms.org
SUMMARY:May & July Gallery Opening
DESCRIPTION:
URL:https://visitcolumbusms.org/event/may-july-gallery-opening/
LOCATION:columbus arts council\, 501 Main Street\, Columbus\, MS\, 39701\, United States
CATEGORIES:Arts & Culture,Community Event
GEO:33.4954789;-88.4280045
X-APPLE-STRUCTURED-LOCATION;VALUE=URI;X-ADDRESS=columbus arts council 501 Main Street Columbus MS 39701 United States;X-APPLE-RADIUS=500;X-TITLE=501 Main Street:geo:-88.4280045,33.4954789
END:VEVENT
BEGIN:VEVENT
DTSTART;TZID=America/Chicago:20260516T080000
DTEND;TZID=America/Chicago:20260516T170000
DTSTAMP:20260423T064322
CREATED:20260421T202336Z
LAST-MODIFIED:20260421T202426Z
UID:10000976-1778918400-1778950800@visitcolumbusms.org
SUMMARY:Cruisin' the River: 35th Annual Pride and Joy Car Show
DESCRIPTION:
URL:https://visitcolumbusms.org/event/cruisin-the-river-35th-annual-pride-and-joy-car-show/
LOCATION:Lock and Dam East Bank\, Columbus\, MS
CATEGORIES:Community Event
GEO:33.4956744;-88.4272627
END:VEVENT
BEGIN:VEVENT
DTSTART;TZID=America/Chicago:20260516T090000
DTEND;TZID=America/Chicago:20260516T090000
DTSTAMP:20260423T064322
CREATED:20260414T171623Z
LAST-MODIFIED:20260414T171632Z
UID:10000936-1778922000-1778922000@visitcolumbusms.org
SUMMARY:Basket Workshop
DESCRIPTION:
URL:https://visitcolumbusms.org/event/basket-workshop/
LOCATION:columbus arts council\, 501 Main Street\, Columbus\, MS\, 39701\, United States
CATEGORIES:Arts & Culture,Community Event,Family Fun
GEO:33.4954789;-88.4280045
X-APPLE-STRUCTURED-LOCATION;VALUE=URI;X-ADDRESS=columbus arts council 501 Main Street Columbus MS 39701 United States;X-APPLE-RADIUS=500;X-TITLE=501 Main Street:geo:-88.4280045,33.4954789
END:VEVENT
BEGIN:VEVENT
DTSTART;TZID=America/Chicago:20260516T100000
DTEND;TZID=America/Chicago:20260516T140000
DTSTAMP:20260423T064322
CREATED:20260414T165735Z
LAST-MODIFIED:20260414T165804Z
UID:10000931-1778925600-1778940000@visitcolumbusms.org
SUMMARY:Benton Blue Bash
DESCRIPTION:
URL:https://visitcolumbusms.org/event/benton-blue-bash/
LOCATION:248 Chubby Drive\, Columbus\, MS
CATEGORIES:Community Event,Family Fun
GEO:33.4956744;-88.4272627
END:VEVENT
BEGIN:VEVENT
DTSTART;TZID=America/Chicago:20260516T110000
DTEND;TZID=America/Chicago:20260517T170000
DTSTAMP:20260423T064322
CREATED:20260416T150718Z
LAST-MODIFIED:20260416T151229Z
UID:10000945-1778929200-1779037200@visitcolumbusms.org
SUMMARY:The Festival of the Fae: Spring Renaissance Festival
DESCRIPTION:
URL:https://visitcolumbusms.org/event/the-festival-of-the-fae-spring-renaissance-festival/
LOCATION:43 Luxilin Dr\, Columbus\, MS
CATEGORIES:Community Event
GEO:33.4956744;-88.4272627
END:VEVENT
BEGIN:VEVENT
DTSTART;TZID=America/Chicago:20260516T170000
DTEND;TZID=America/Chicago:20260516T170000
DTSTAMP:20260423T064322
CREATED:20260330T195910Z
LAST-MODIFIED:20260330T195925Z
UID:10000912-1778950800-1778950800@visitcolumbusms.org
SUMMARY:Possom Town Throwdown
DESCRIPTION:
URL:https://visitcolumbusms.org/event/possom-town-throwdown/
LOCATION:Columbus Fairgrounds\, 764 Highway 69 S\, Columbus\, MS\, 39702\, United States
CATEGORIES:Community Event
GEO:33.484325;-88.3896219
X-APPLE-STRUCTURED-LOCATION;VALUE=URI;X-ADDRESS=Columbus Fairgrounds 764 Highway 69 S Columbus MS 39702 United States;X-APPLE-RADIUS=500;X-TITLE=764 Highway 69 S:geo:-88.3896219,33.484325
END:VEVENT
BEGIN:VEVENT
DTSTART;TZID=America/Chicago:20260520T190000
DTEND;TZID=America/Chicago:20260520T190000
DTSTAMP:20260423T064322
CREATED:20260416T155438Z
LAST-MODIFIED:20260416T155513Z
UID:10000957-1779303600-1779303600@visitcolumbusms.org
SUMMARY:Golden Triangle Tennis' Tennis Rodeo
DESCRIPTION:
URL:https://visitcolumbusms.org/event/golden-triangle-tennis-tennis-rodeo/
LOCATION:Events of 5th\, 515 College Street\, Columbus\, MS\, 39701\, United States
CATEGORIES:Community Event,Sports & Outdoors
GEO:33.4943914;-88.4273523
X-APPLE-STRUCTURED-LOCATION;VALUE=URI;X-ADDRESS=Events of 5th 515 College Street Columbus MS 39701 United States;X-APPLE-RADIUS=500;X-TITLE=515 College Street:geo:-88.4273523,33.4943914
END:VEVENT
BEGIN:VEVENT
DTSTART;TZID=America/Chicago:20260522T160000
DTEND;TZID=America/Chicago:20260522T180000
DTSTAMP:20260423T064322
CREATED:20260414T193619Z
LAST-MODIFIED:20260414T193638Z
UID:10000944-1779465600-1779472800@visitcolumbusms.org
SUMMARY:Taste of Tennis
DESCRIPTION:Come out and try tennis free at the Traditions\, Taste and Tunes taking place at the Columbus Riverwalk 209 1st Street South Columbus MS. You’ll have the chance to try the newest form of tennis for beginners of all ages\, Red Ball Tennis. Played with a low compression red ball on a smaller court size\,  with smaller rackets but gives you a big bite of fun!! COME EXPECTING A TASTE OF FUN. \nIf you like it you can join us at Golden Triangle Tennis located and the Columbus High School Tennis Courts 810 North McCrary Road Columbus\, MS following this event at 7:00PM for GTT Cardio Family Triples. No special tennis skills needed\, COME EXPECTING TRIPLE THE FUN!!!
URL:https://visitcolumbusms.org/event/taste-of-tennis/
LOCATION:Columbus Riverwalk\, Columbus\, MS\, 39701\, United States
CATEGORIES:Community Event,Sports & Outdoors
GEO:33.4959067;-88.4437765
END:VEVENT
BEGIN:VEVENT
DTSTART;TZID=America/Chicago:20260522T170000
DTEND;TZID=America/Chicago:20260522T200000
DTSTAMP:20260423T064322
CREATED:20260421T163833Z
LAST-MODIFIED:20260421T163919Z
UID:10000972-1779469200-1779480000@visitcolumbusms.org
SUMMARY:NTM26 Golden Triangle Tennis’ Family Cardio Triples
DESCRIPTION:https://playtennis.usta.com/goldentriangletennis/Coaching/Session/7b48388f-9e72-45d2-a6f6-5243bd18837f
URL:https://visitcolumbusms.org/event/ntm26-golden-triangle-tennis-family-cardio-triples/
LOCATION:Columbus High School\, 215 Hemlock Drive\, Columbus\, MS\, 39702\, United States
CATEGORIES:Community Event,Family Fun,Sports & Outdoors
GEO:33.5054323;-88.3835636
X-APPLE-STRUCTURED-LOCATION;VALUE=URI;X-ADDRESS=Columbus High School 215 Hemlock Drive Columbus MS 39702 United States;X-APPLE-RADIUS=500;X-TITLE=215 Hemlock Drive:geo:-88.3835636,33.5054323
END:VEVENT
BEGIN:VEVENT
DTSTART;TZID=America/Chicago:20260523T110000
DTEND;TZID=America/Chicago:20260523T110000
DTSTAMP:20260423T064322
CREATED:20260414T174344Z
LAST-MODIFIED:20260414T174350Z
UID:10000939-1779534000-1779534000@visitcolumbusms.org
SUMMARY:Wrap N' Blend
DESCRIPTION:
URL:https://visitcolumbusms.org/event/wrap-n-blend/
LOCATION:columbus arts council\, 501 Main Street\, Columbus\, MS\, 39701\, United States
CATEGORIES:Arts & Culture,Community Event
GEO:33.4954789;-88.4280045
X-APPLE-STRUCTURED-LOCATION;VALUE=URI;X-ADDRESS=columbus arts council 501 Main Street Columbus MS 39701 United States;X-APPLE-RADIUS=500;X-TITLE=501 Main Street:geo:-88.4280045,33.4954789
END:VEVENT
BEGIN:VEVENT
DTSTART;TZID=America/Chicago:20260524T120000
DTEND;TZID=America/Chicago:20260524T170000
DTSTAMP:20260423T064322
CREATED:20260421T160745Z
LAST-MODIFIED:20260421T160830Z
UID:10000968-1779624000-1779642000@visitcolumbusms.org
SUMMARY:Northside Charity Boil
DESCRIPTION:
URL:https://visitcolumbusms.org/event/northside-charity-boil/
LOCATION:803 5th Ave N
CATEGORIES:Community Event
END:VEVENT
BEGIN:VEVENT
DTSTART;VALUE=DATE:20260529
DTEND;VALUE=DATE:20260601
DTSTAMP:20260423T064322
CREATED:20260414T164232Z
LAST-MODIFIED:20260414T164302Z
UID:10000930-1780012800-1780271999@visitcolumbusms.org
SUMMARY:Caledonia Park & Rec's 1st Annual Summer Slug Fest
DESCRIPTION:
URL:https://visitcolumbusms.org/event/caledonia-park-recs-1st-annual-summer-slug-fest/
LOCATION:Ola J. Pickett Park\, 9500 Wolfe Road\, Calendonia\, MS\, 39740\, United States
CATEGORIES:Community Event,Family Fun,Sports & Outdoors
GEO:33.6743237;-88.3267593
X-APPLE-STRUCTURED-LOCATION;VALUE=URI;X-ADDRESS=Ola J. Pickett Park 9500 Wolfe Road Calendonia MS 39740 United States;X-APPLE-RADIUS=500;X-TITLE=9500 Wolfe Road:geo:-88.3267593,33.6743237
END:VEVENT
BEGIN:VEVENT
DTSTART;TZID=America/Chicago:20260530T100000
DTEND;TZID=America/Chicago:20260530T100000
DTSTAMP:20260423T064322
CREATED:20260414T173915Z
LAST-MODIFIED:20260414T173929Z
UID:10000937-1780135200-1780135200@visitcolumbusms.org
SUMMARY:Pet Portrait Workshop
DESCRIPTION:
URL:https://visitcolumbusms.org/event/pet-portrait-workshop/
LOCATION:columbus arts council\, 501 Main Street\, Columbus\, MS\, 39701\, United States
CATEGORIES:Arts & Culture,Community Event
GEO:33.4954789;-88.4280045
X-APPLE-STRUCTURED-LOCATION;VALUE=URI;X-ADDRESS=columbus arts council 501 Main Street Columbus MS 39701 United States;X-APPLE-RADIUS=500;X-TITLE=501 Main Street:geo:-88.4280045,33.4954789
END:VEVENT
BEGIN:VEVENT
DTSTART;TZID=America/Chicago:20260530T150000
DTEND;TZID=America/Chicago:20260530T180000
DTSTAMP:20260423T064322
CREATED:20260313T175538Z
LAST-MODIFIED:20260313T175556Z
UID:10000890-1780153200-1780164000@visitcolumbusms.org
SUMMARY:The Great Fossil Chase
DESCRIPTION:
URL:https://visitcolumbusms.org/event/the-great-fossil-chase/
LOCATION:Columbus Main Street\, 521 Main Street\, Columbus\, MS\, 39701\, United States
CATEGORIES:Community Event,Family Fun
GEO:33.4955576;-88.4273821
X-APPLE-STRUCTURED-LOCATION;VALUE=URI;X-ADDRESS=Columbus Main Street 521 Main Street Columbus MS 39701 United States;X-APPLE-RADIUS=500;X-TITLE=521 Main Street:geo:-88.4273821,33.4955576
END:VEVENT
BEGIN:VEVENT
DTSTART;TZID=America/Chicago:20260609T073000
DTEND;TZID=America/Chicago:20260609T163000
DTSTAMP:20260423T064322
CREATED:20260416T160229Z
LAST-MODIFIED:20260416T160257Z
UID:10000958-1780990200-1781022600@visitcolumbusms.org
SUMMARY:BuildHER Construction Camp
DESCRIPTION:
URL:https://visitcolumbusms.org/event/buildher-construction-camp/2026-06-09/
LOCATION:EMCC Golden Triangle Campus
CATEGORIES:Community Event
END:VEVENT
BEGIN:VEVENT
DTSTART;TZID=America/Chicago:20260610T073000
DTEND;TZID=America/Chicago:20260610T163000
DTSTAMP:20260423T064322
CREATED:20260416T160229Z
LAST-MODIFIED:20260416T160257Z
UID:10000959-1781076600-1781109000@visitcolumbusms.org
SUMMARY:BuildHER Construction Camp
DESCRIPTION:
URL:https://visitcolumbusms.org/event/buildher-construction-camp/2026-06-10/
LOCATION:EMCC Golden Triangle Campus
CATEGORIES:Community Event
END:VEVENT
BEGIN:VEVENT
DTSTART;TZID=America/Chicago:20260611T073000
DTEND;TZID=America/Chicago:20260611T163000
DTSTAMP:20260423T064322
CREATED:20260416T160229Z
LAST-MODIFIED:20260416T160257Z
UID:10000960-1781163000-1781195400@visitcolumbusms.org
SUMMARY:BuildHER Construction Camp
DESCRIPTION:
URL:https://visitcolumbusms.org/event/buildher-construction-camp/2026-06-11/
LOCATION:EMCC Golden Triangle Campus
CATEGORIES:Community Event
END:VEVENT
BEGIN:VEVENT
DTSTART;TZID=America/Chicago:20260611T183000
DTEND;TZID=America/Chicago:20260611T203000
DTSTAMP:20260423T064322
CREATED:20260421T201541Z
LAST-MODIFIED:20260421T201813Z
UID:10000974-1781202600-1781209800@visitcolumbusms.org
SUMMARY:Sounds of Summer
DESCRIPTION:
URL:https://visitcolumbusms.org/event/sounds-of-summer-3/
LOCATION:Columbus Soccer Complex\, 301 N 3rd St\, Columbus\, MS\, 39701\, United States
CATEGORIES:Community Event,Family Fun,Music
GEO:33.4972048;-88.4324119
X-APPLE-STRUCTURED-LOCATION;VALUE=URI;X-ADDRESS=Columbus Soccer Complex 301 N 3rd St Columbus MS 39701 United States;X-APPLE-RADIUS=500;X-TITLE=301 N 3rd St:geo:-88.4324119,33.4972048
END:VEVENT
BEGIN:VEVENT
DTSTART;TZID=America/Chicago:20260612T073000
DTEND;TZID=America/Chicago:20260612T163000
DTSTAMP:20260423T064322
CREATED:20260416T160229Z
LAST-MODIFIED:20260416T160257Z
UID:10000961-1781249400-1781281800@visitcolumbusms.org
SUMMARY:BuildHER Construction Camp
DESCRIPTION:
URL:https://visitcolumbusms.org/event/buildher-construction-camp/2026-06-12/
LOCATION:EMCC Golden Triangle Campus
CATEGORIES:Community Event
END:VEVENT
BEGIN:VEVENT
DTSTART;TZID=America/Chicago:20260613T100000
DTEND;TZID=America/Chicago:20260613T160000
DTSTAMP:20260423T064322
CREATED:20260421T210247Z
LAST-MODIFIED:20260421T210258Z
UID:10000978-1781344800-1781366400@visitcolumbusms.org
SUMMARY:Lemonade Day
DESCRIPTION:
URL:https://visitcolumbusms.org/event/lemonade-day/
LOCATION:Downtown Columbus\, 107 5th St S\, Columbus\, MS\, 39701\, United States
CATEGORIES:Community Event,Family Fun
GEO:33.4947766;-88.4278745
X-APPLE-STRUCTURED-LOCATION;VALUE=URI;X-ADDRESS=Downtown Columbus 107 5th St S Columbus MS 39701 United States;X-APPLE-RADIUS=500;X-TITLE=107 5th St S:geo:-88.4278745,33.4947766
END:VEVENT
BEGIN:VEVENT
DTSTART;TZID=America/Chicago:20260613T100000
DTEND;TZID=America/Chicago:20260613T160000
DTSTAMP:20260423T064322
CREATED:20260421T210359Z
LAST-MODIFIED:20260421T210413Z
UID:10000979-1781344800-1781366400@visitcolumbusms.org
SUMMARY:Summer Sidewalk Sale
DESCRIPTION:
URL:https://visitcolumbusms.org/event/summer-sidewalk-sale/
LOCATION:Downtown Columbus\, 107 5th St S\, Columbus\, MS\, 39701\, United States
CATEGORIES:Community Event,Shopping
GEO:33.4947766;-88.4278745
X-APPLE-STRUCTURED-LOCATION;VALUE=URI;X-ADDRESS=Downtown Columbus 107 5th St S Columbus MS 39701 United States;X-APPLE-RADIUS=500;X-TITLE=107 5th St S:geo:-88.4278745,33.4947766
END:VEVENT
BEGIN:VEVENT
DTSTART;TZID=America/Chicago:20260622T080000
DTEND;TZID=America/Chicago:20260622T110000
DTSTAMP:20260423T064322
CREATED:20260416T154311Z
LAST-MODIFIED:20260416T154432Z
UID:10000947-1782115200-1782126000@visitcolumbusms.org
SUMMARY:Columbus Arts Council Summer Art Camp
DESCRIPTION:
URL:https://visitcolumbusms.org/event/columbus-arts-council-summer-art-camp/2026-06-22/
LOCATION:columbus arts council\, 501 Main Street\, Columbus\, MS\, 39701\, United States
CATEGORIES:Arts & Culture,Community Event,Family Fun
GEO:33.4954789;-88.4280045
X-APPLE-STRUCTURED-LOCATION;VALUE=URI;X-ADDRESS=columbus arts council 501 Main Street Columbus MS 39701 United States;X-APPLE-RADIUS=500;X-TITLE=501 Main Street:geo:-88.4280045,33.4954789
END:VEVENT
BEGIN:VEVENT
DTSTART;TZID=America/Chicago:20260623T080000
DTEND;TZID=America/Chicago:20260623T110000
DTSTAMP:20260423T064322
CREATED:20260416T154311Z
LAST-MODIFIED:20260416T154432Z
UID:10000948-1782201600-1782212400@visitcolumbusms.org
SUMMARY:Columbus Arts Council Summer Art Camp
DESCRIPTION:
URL:https://visitcolumbusms.org/event/columbus-arts-council-summer-art-camp/2026-06-23/
LOCATION:columbus arts council\, 501 Main Street\, Columbus\, MS\, 39701\, United States
CATEGORIES:Arts & Culture,Community Event,Family Fun
GEO:33.4954789;-88.4280045
X-APPLE-STRUCTURED-LOCATION;VALUE=URI;X-ADDRESS=columbus arts council 501 Main Street Columbus MS 39701 United States;X-APPLE-RADIUS=500;X-TITLE=501 Main Street:geo:-88.4280045,33.4954789
END:VEVENT
END:VCALENDAR