BEGIN:VCALENDAR
VERSION:2.0
PRODID:-//Columbus MS - ECPv6.10.1.1//NONSGML v1.0//EN
CALSCALE:GREGORIAN
METHOD:PUBLISH
X-ORIGINAL-URL:https://visitcolumbusms.org
X-WR-CALDESC:Events for Columbus MS
REFRESH-INTERVAL;VALUE=DURATION:PT1H
X-Robots-Tag:noindex
X-PUBLISHED-TTL:PT1H
BEGIN:VTIMEZONE
TZID:America/Chicago
BEGIN:DAYLIGHT
TZOFFSETFROM:-0600
TZOFFSETTO:-0500
TZNAME:CDT
DTSTART:20260308T080000
END:DAYLIGHT
BEGIN:STANDARD
TZOFFSETFROM:-0500
TZOFFSETTO:-0600
TZNAME:CST
DTSTART:20261101T070000
END:STANDARD
END:VTIMEZONE
BEGIN:VEVENT
DTSTART;TZID=America/Chicago:20260625T183000
DTEND;TZID=America/Chicago:20260625T203000
DTSTAMP:20260425T061409
CREATED:20260421T201912Z
LAST-MODIFIED:20260421T201927Z
UID:10000975-1782412200-1782419400@visitcolumbusms.org
SUMMARY:Sounds of Summer
DESCRIPTION:
URL:https://visitcolumbusms.org/event/sounds-of-summer-4/
LOCATION:Columbus Soccer Complex\, 301 N 3rd St\, Columbus\, MS\, 39701\, United States
CATEGORIES:Community Event,Family Fun,Music
GEO:33.4972048;-88.4324119
X-APPLE-STRUCTURED-LOCATION;VALUE=URI;X-ADDRESS=Columbus Soccer Complex 301 N 3rd St Columbus MS 39701 United States;X-APPLE-RADIUS=500;X-TITLE=301 N 3rd St:geo:-88.4324119,33.4972048
END:VEVENT
BEGIN:VEVENT
DTSTART;VALUE=DATE:20260626
DTEND;VALUE=DATE:20260822
DTSTAMP:20260425T061409
CREATED:20260423T152225Z
LAST-MODIFIED:20260423T152303Z
UID:10000982-1782432000-1787356799@visitcolumbusms.org
SUMMARY:Who Can Vote? A Brief History of Voting Rights in the US exhibit at the Columbus Lowndes Public Library
DESCRIPTION:The Columbus-Lowndes Public Library System is hosting the traveling exhibit Who Can Vote? A Brief History of Voting Rights in the US\, organized by the Gilder Lehrman Institute of American History\, from June 26-August 21\, 2026. \nThe Who Can Vote? exhibition examines voting rights\, emphasizing the role of the US Constitution and the interplay between the states and federal government in determining who is allowed to vote. Beginning with the founding era and going up to the election of 2000\, this exhibition explores the complex history of the right to vote that forms the core of our nation’s democracy. Topics include voting as a constitutional right\, women’s suffrage\, Reconstruction and Jim Crow era voting rights\, the Civil Rights Movement\, and the enfranchisement of Indigenous peoples. \nThe exhibit is open to the public and available for viewing during regular operating hours Monday through Thursday 9am to 6pm\, Fridays 9am to 2pm\, and Saturdays 9am to 2pm.​ \nTo learn more about the exhibit\, visit www.gilderlehrman.org/programs-and-events/traveling-exhibitions/who-can-vote-brief-history-voting-rights-us.  \nFor more information on the Gilder Lehrman Institute of American History\, visit www.gilderlehrman.org. \nFor more information\, call the CLPLS at 662-329-5300.
URL:https://visitcolumbusms.org/event/who-can-vote-a-brief-history-of-voting-rights-in-the-us-exhibit-at-the-columbus-lowndes-public-library/
LOCATION:Columbus-Lowndes Public Library\, 314 7th St N\, Columbus\, MS\, 39701\, United States
CATEGORIES:Community Event,History
GEO:33.4980078;-88.4256211
X-APPLE-STRUCTURED-LOCATION;VALUE=URI;X-ADDRESS=Columbus-Lowndes Public Library 314 7th St N Columbus MS 39701 United States;X-APPLE-RADIUS=500;X-TITLE=314 7th St N:geo:-88.4256211,33.4980078
END:VEVENT
BEGIN:VEVENT
DTSTART;TZID=America/Chicago:20260627T070000
DTEND;TZID=America/Chicago:20260627T100000
DTSTAMP:20260425T061409
CREATED:20260423T190247Z
LAST-MODIFIED:20260423T190424Z
UID:10001001-1782543600-1782554400@visitcolumbusms.org
SUMMARY:Hitching Lot Farmers' Market
DESCRIPTION:
URL:https://visitcolumbusms.org/event/hitching-lot-farmers-market-8/2026-06-27/
LOCATION:Hitching Lot Farmers Market\, Corner of 2nd Street and Avenue North\, Columbus\, MS\, 39701\, United States
CATEGORIES:Community Event,Food
GEO:33.4956744;-88.4272627
X-APPLE-STRUCTURED-LOCATION;VALUE=URI;X-ADDRESS=Hitching Lot Farmers Market Corner of 2nd Street and Avenue North Columbus MS 39701 United States;X-APPLE-RADIUS=500;X-TITLE=Corner of 2nd Street and Avenue North:geo:-88.4272627,33.4956744
END:VEVENT
BEGIN:VEVENT
DTSTART;TZID=America/Chicago:20260630T160000
DTEND;TZID=America/Chicago:20260630T180000
DTSTAMP:20260425T061409
CREATED:20260423T190247Z
LAST-MODIFIED:20260423T190424Z
UID:10001002-1782835200-1782842400@visitcolumbusms.org
SUMMARY:Hitching Lot Farmers' Market
DESCRIPTION:
URL:https://visitcolumbusms.org/event/hitching-lot-farmers-market-8/2026-06-30/
LOCATION:Hitching Lot Farmers Market\, Corner of 2nd Street and Avenue North\, Columbus\, MS\, 39701\, United States
CATEGORIES:Community Event,Food
GEO:33.4956744;-88.4272627
X-APPLE-STRUCTURED-LOCATION;VALUE=URI;X-ADDRESS=Hitching Lot Farmers Market Corner of 2nd Street and Avenue North Columbus MS 39701 United States;X-APPLE-RADIUS=500;X-TITLE=Corner of 2nd Street and Avenue North:geo:-88.4272627,33.4956744
END:VEVENT
BEGIN:VEVENT
DTSTART;TZID=America/Chicago:20260704T070000
DTEND;TZID=America/Chicago:20260704T100000
DTSTAMP:20260425T061409
CREATED:20260423T190247Z
LAST-MODIFIED:20260423T190424Z
UID:10001003-1783148400-1783159200@visitcolumbusms.org
SUMMARY:Hitching Lot Farmers' Market
DESCRIPTION:
URL:https://visitcolumbusms.org/event/hitching-lot-farmers-market-8/2026-07-04/
LOCATION:Hitching Lot Farmers Market\, Corner of 2nd Street and Avenue North\, Columbus\, MS\, 39701\, United States
CATEGORIES:Community Event,Food
GEO:33.4956744;-88.4272627
X-APPLE-STRUCTURED-LOCATION;VALUE=URI;X-ADDRESS=Hitching Lot Farmers Market Corner of 2nd Street and Avenue North Columbus MS 39701 United States;X-APPLE-RADIUS=500;X-TITLE=Corner of 2nd Street and Avenue North:geo:-88.4272627,33.4956744
END:VEVENT
BEGIN:VEVENT
DTSTART;TZID=America/Chicago:20260704T140000
DTEND;TZID=America/Chicago:20260704T210000
DTSTAMP:20260425T061409
CREATED:20260421T161426Z
LAST-MODIFIED:20260424T174857Z
UID:10000969-1783173600-1783198800@visitcolumbusms.org
SUMMARY:FreedomFest: America 250 Celebration
DESCRIPTION:
URL:https://visitcolumbusms.org/event/freedomfest-america-250-celebration/
LOCATION:Columbus Air Force Base\, 108 Simler Boulevard\, Columbus AFB\, MS\, 39710\, United States
CATEGORIES:Community Event,Family Fun
GEO:33.6256887;-88.4398289
X-APPLE-STRUCTURED-LOCATION;VALUE=URI;X-ADDRESS=Columbus Air Force Base 108 Simler Boulevard Columbus AFB MS 39710 United States;X-APPLE-RADIUS=500;X-TITLE=108 Simler Boulevard:geo:-88.4398289,33.6256887
END:VEVENT
BEGIN:VEVENT
DTSTART;TZID=America/Chicago:20260707T160000
DTEND;TZID=America/Chicago:20260707T180000
DTSTAMP:20260425T061409
CREATED:20260423T190247Z
LAST-MODIFIED:20260423T190424Z
UID:10001004-1783440000-1783447200@visitcolumbusms.org
SUMMARY:Hitching Lot Farmers' Market
DESCRIPTION:
URL:https://visitcolumbusms.org/event/hitching-lot-farmers-market-8/2026-07-07/
LOCATION:Hitching Lot Farmers Market\, Corner of 2nd Street and Avenue North\, Columbus\, MS\, 39701\, United States
CATEGORIES:Community Event,Food
GEO:33.4956744;-88.4272627
X-APPLE-STRUCTURED-LOCATION;VALUE=URI;X-ADDRESS=Hitching Lot Farmers Market Corner of 2nd Street and Avenue North Columbus MS 39701 United States;X-APPLE-RADIUS=500;X-TITLE=Corner of 2nd Street and Avenue North:geo:-88.4272627,33.4956744
END:VEVENT
BEGIN:VEVENT
DTSTART;TZID=America/Chicago:20260711T070000
DTEND;TZID=America/Chicago:20260711T100000
DTSTAMP:20260425T061409
CREATED:20260423T190247Z
LAST-MODIFIED:20260423T190424Z
UID:10001005-1783753200-1783764000@visitcolumbusms.org
SUMMARY:Hitching Lot Farmers' Market
DESCRIPTION:
URL:https://visitcolumbusms.org/event/hitching-lot-farmers-market-8/2026-07-11/
LOCATION:Hitching Lot Farmers Market\, Corner of 2nd Street and Avenue North\, Columbus\, MS\, 39701\, United States
CATEGORIES:Community Event,Food
GEO:33.4956744;-88.4272627
X-APPLE-STRUCTURED-LOCATION;VALUE=URI;X-ADDRESS=Hitching Lot Farmers Market Corner of 2nd Street and Avenue North Columbus MS 39701 United States;X-APPLE-RADIUS=500;X-TITLE=Corner of 2nd Street and Avenue North:geo:-88.4272627,33.4956744
END:VEVENT
BEGIN:VEVENT
DTSTART;TZID=America/Chicago:20260714T160000
DTEND;TZID=America/Chicago:20260714T180000
DTSTAMP:20260425T061409
CREATED:20260423T190247Z
LAST-MODIFIED:20260423T190424Z
UID:10001006-1784044800-1784052000@visitcolumbusms.org
SUMMARY:Hitching Lot Farmers' Market
DESCRIPTION:
URL:https://visitcolumbusms.org/event/hitching-lot-farmers-market-8/2026-07-14/
LOCATION:Hitching Lot Farmers Market\, Corner of 2nd Street and Avenue North\, Columbus\, MS\, 39701\, United States
CATEGORIES:Community Event,Food
GEO:33.4956744;-88.4272627
X-APPLE-STRUCTURED-LOCATION;VALUE=URI;X-ADDRESS=Hitching Lot Farmers Market Corner of 2nd Street and Avenue North Columbus MS 39701 United States;X-APPLE-RADIUS=500;X-TITLE=Corner of 2nd Street and Avenue North:geo:-88.4272627,33.4956744
END:VEVENT
BEGIN:VEVENT
DTSTART;TZID=America/Chicago:20260718T070000
DTEND;TZID=America/Chicago:20260718T100000
DTSTAMP:20260425T061409
CREATED:20260423T190247Z
LAST-MODIFIED:20260423T190424Z
UID:10001007-1784358000-1784368800@visitcolumbusms.org
SUMMARY:Hitching Lot Farmers' Market
DESCRIPTION:
URL:https://visitcolumbusms.org/event/hitching-lot-farmers-market-8/2026-07-18/
LOCATION:Hitching Lot Farmers Market\, Corner of 2nd Street and Avenue North\, Columbus\, MS\, 39701\, United States
CATEGORIES:Community Event,Food
GEO:33.4956744;-88.4272627
X-APPLE-STRUCTURED-LOCATION;VALUE=URI;X-ADDRESS=Hitching Lot Farmers Market Corner of 2nd Street and Avenue North Columbus MS 39701 United States;X-APPLE-RADIUS=500;X-TITLE=Corner of 2nd Street and Avenue North:geo:-88.4272627,33.4956744
END:VEVENT
BEGIN:VEVENT
DTSTART;TZID=America/Chicago:20260721T160000
DTEND;TZID=America/Chicago:20260721T180000
DTSTAMP:20260425T061409
CREATED:20260423T190247Z
LAST-MODIFIED:20260423T190424Z
UID:10001008-1784649600-1784656800@visitcolumbusms.org
SUMMARY:Hitching Lot Farmers' Market
DESCRIPTION:
URL:https://visitcolumbusms.org/event/hitching-lot-farmers-market-8/2026-07-21/
LOCATION:Hitching Lot Farmers Market\, Corner of 2nd Street and Avenue North\, Columbus\, MS\, 39701\, United States
CATEGORIES:Community Event,Food
GEO:33.4956744;-88.4272627
X-APPLE-STRUCTURED-LOCATION;VALUE=URI;X-ADDRESS=Hitching Lot Farmers Market Corner of 2nd Street and Avenue North Columbus MS 39701 United States;X-APPLE-RADIUS=500;X-TITLE=Corner of 2nd Street and Avenue North:geo:-88.4272627,33.4956744
END:VEVENT
BEGIN:VEVENT
DTSTART;TZID=America/Chicago:20260725T070000
DTEND;TZID=America/Chicago:20260725T100000
DTSTAMP:20260425T061409
CREATED:20260423T190247Z
LAST-MODIFIED:20260423T190424Z
UID:10001009-1784962800-1784973600@visitcolumbusms.org
SUMMARY:Hitching Lot Farmers' Market
DESCRIPTION:
URL:https://visitcolumbusms.org/event/hitching-lot-farmers-market-8/2026-07-25/
LOCATION:Hitching Lot Farmers Market\, Corner of 2nd Street and Avenue North\, Columbus\, MS\, 39701\, United States
CATEGORIES:Community Event,Food
GEO:33.4956744;-88.4272627
X-APPLE-STRUCTURED-LOCATION;VALUE=URI;X-ADDRESS=Hitching Lot Farmers Market Corner of 2nd Street and Avenue North Columbus MS 39701 United States;X-APPLE-RADIUS=500;X-TITLE=Corner of 2nd Street and Avenue North:geo:-88.4272627,33.4956744
END:VEVENT
BEGIN:VEVENT
DTSTART;TZID=America/Chicago:20260728T160000
DTEND;TZID=America/Chicago:20260728T180000
DTSTAMP:20260425T061409
CREATED:20260423T190247Z
LAST-MODIFIED:20260423T190424Z
UID:10001010-1785254400-1785261600@visitcolumbusms.org
SUMMARY:Hitching Lot Farmers' Market
DESCRIPTION:
URL:https://visitcolumbusms.org/event/hitching-lot-farmers-market-8/2026-07-28/
LOCATION:Hitching Lot Farmers Market\, Corner of 2nd Street and Avenue North\, Columbus\, MS\, 39701\, United States
CATEGORIES:Community Event,Food
GEO:33.4956744;-88.4272627
X-APPLE-STRUCTURED-LOCATION;VALUE=URI;X-ADDRESS=Hitching Lot Farmers Market Corner of 2nd Street and Avenue North Columbus MS 39701 United States;X-APPLE-RADIUS=500;X-TITLE=Corner of 2nd Street and Avenue North:geo:-88.4272627,33.4956744
END:VEVENT
BEGIN:VEVENT
DTSTART;TZID=America/Chicago:20260801T070000
DTEND;TZID=America/Chicago:20260801T100000
DTSTAMP:20260425T061409
CREATED:20260423T190247Z
LAST-MODIFIED:20260423T190424Z
UID:10001011-1785567600-1785578400@visitcolumbusms.org
SUMMARY:Hitching Lot Farmers' Market
DESCRIPTION:
URL:https://visitcolumbusms.org/event/hitching-lot-farmers-market-8/2026-08-01/
LOCATION:Hitching Lot Farmers Market\, Corner of 2nd Street and Avenue North\, Columbus\, MS\, 39701\, United States
CATEGORIES:Community Event,Food
GEO:33.4956744;-88.4272627
X-APPLE-STRUCTURED-LOCATION;VALUE=URI;X-ADDRESS=Hitching Lot Farmers Market Corner of 2nd Street and Avenue North Columbus MS 39701 United States;X-APPLE-RADIUS=500;X-TITLE=Corner of 2nd Street and Avenue North:geo:-88.4272627,33.4956744
END:VEVENT
BEGIN:VEVENT
DTSTART;TZID=America/Chicago:20260804T160000
DTEND;TZID=America/Chicago:20260804T180000
DTSTAMP:20260425T061409
CREATED:20260423T190247Z
LAST-MODIFIED:20260423T190424Z
UID:10001012-1785859200-1785866400@visitcolumbusms.org
SUMMARY:Hitching Lot Farmers' Market
DESCRIPTION:
URL:https://visitcolumbusms.org/event/hitching-lot-farmers-market-8/2026-08-04/
LOCATION:Hitching Lot Farmers Market\, Corner of 2nd Street and Avenue North\, Columbus\, MS\, 39701\, United States
CATEGORIES:Community Event,Food
GEO:33.4956744;-88.4272627
X-APPLE-STRUCTURED-LOCATION;VALUE=URI;X-ADDRESS=Hitching Lot Farmers Market Corner of 2nd Street and Avenue North Columbus MS 39701 United States;X-APPLE-RADIUS=500;X-TITLE=Corner of 2nd Street and Avenue North:geo:-88.4272627,33.4956744
END:VEVENT
BEGIN:VEVENT
DTSTART;TZID=America/Chicago:20260808T070000
DTEND;TZID=America/Chicago:20260808T100000
DTSTAMP:20260425T061409
CREATED:20260423T190247Z
LAST-MODIFIED:20260423T190424Z
UID:10001013-1786172400-1786183200@visitcolumbusms.org
SUMMARY:Hitching Lot Farmers' Market
DESCRIPTION:
URL:https://visitcolumbusms.org/event/hitching-lot-farmers-market-8/2026-08-08/
LOCATION:Hitching Lot Farmers Market\, Corner of 2nd Street and Avenue North\, Columbus\, MS\, 39701\, United States
CATEGORIES:Community Event,Food
GEO:33.4956744;-88.4272627
X-APPLE-STRUCTURED-LOCATION;VALUE=URI;X-ADDRESS=Hitching Lot Farmers Market Corner of 2nd Street and Avenue North Columbus MS 39701 United States;X-APPLE-RADIUS=500;X-TITLE=Corner of 2nd Street and Avenue North:geo:-88.4272627,33.4956744
END:VEVENT
BEGIN:VEVENT
DTSTART;TZID=America/Chicago:20260811T160000
DTEND;TZID=America/Chicago:20260811T180000
DTSTAMP:20260425T061409
CREATED:20260423T190247Z
LAST-MODIFIED:20260423T190424Z
UID:10001014-1786464000-1786471200@visitcolumbusms.org
SUMMARY:Hitching Lot Farmers' Market
DESCRIPTION:
URL:https://visitcolumbusms.org/event/hitching-lot-farmers-market-8/2026-08-11/
LOCATION:Hitching Lot Farmers Market\, Corner of 2nd Street and Avenue North\, Columbus\, MS\, 39701\, United States
CATEGORIES:Community Event,Food
GEO:33.4956744;-88.4272627
X-APPLE-STRUCTURED-LOCATION;VALUE=URI;X-ADDRESS=Hitching Lot Farmers Market Corner of 2nd Street and Avenue North Columbus MS 39701 United States;X-APPLE-RADIUS=500;X-TITLE=Corner of 2nd Street and Avenue North:geo:-88.4272627,33.4956744
END:VEVENT
BEGIN:VEVENT
DTSTART;TZID=America/Chicago:20260815T070000
DTEND;TZID=America/Chicago:20260815T100000
DTSTAMP:20260425T061409
CREATED:20260423T190247Z
LAST-MODIFIED:20260423T190424Z
UID:10001015-1786777200-1786788000@visitcolumbusms.org
SUMMARY:Hitching Lot Farmers' Market
DESCRIPTION:
URL:https://visitcolumbusms.org/event/hitching-lot-farmers-market-8/2026-08-15/
LOCATION:Hitching Lot Farmers Market\, Corner of 2nd Street and Avenue North\, Columbus\, MS\, 39701\, United States
CATEGORIES:Community Event,Food
GEO:33.4956744;-88.4272627
X-APPLE-STRUCTURED-LOCATION;VALUE=URI;X-ADDRESS=Hitching Lot Farmers Market Corner of 2nd Street and Avenue North Columbus MS 39701 United States;X-APPLE-RADIUS=500;X-TITLE=Corner of 2nd Street and Avenue North:geo:-88.4272627,33.4956744
END:VEVENT
BEGIN:VEVENT
DTSTART;TZID=America/Chicago:20260818T160000
DTEND;TZID=America/Chicago:20260818T180000
DTSTAMP:20260425T061409
CREATED:20260423T190247Z
LAST-MODIFIED:20260423T190424Z
UID:10001016-1787068800-1787076000@visitcolumbusms.org
SUMMARY:Hitching Lot Farmers' Market
DESCRIPTION:
URL:https://visitcolumbusms.org/event/hitching-lot-farmers-market-8/2026-08-18/
LOCATION:Hitching Lot Farmers Market\, Corner of 2nd Street and Avenue North\, Columbus\, MS\, 39701\, United States
CATEGORIES:Community Event,Food
GEO:33.4956744;-88.4272627
X-APPLE-STRUCTURED-LOCATION;VALUE=URI;X-ADDRESS=Hitching Lot Farmers Market Corner of 2nd Street and Avenue North Columbus MS 39701 United States;X-APPLE-RADIUS=500;X-TITLE=Corner of 2nd Street and Avenue North:geo:-88.4272627,33.4956744
END:VEVENT
BEGIN:VEVENT
DTSTART;TZID=America/Chicago:20260822T070000
DTEND;TZID=America/Chicago:20260822T100000
DTSTAMP:20260425T061409
CREATED:20260423T190247Z
LAST-MODIFIED:20260423T190424Z
UID:10001017-1787382000-1787392800@visitcolumbusms.org
SUMMARY:Hitching Lot Farmers' Market
DESCRIPTION:
URL:https://visitcolumbusms.org/event/hitching-lot-farmers-market-8/2026-08-22/
LOCATION:Hitching Lot Farmers Market\, Corner of 2nd Street and Avenue North\, Columbus\, MS\, 39701\, United States
CATEGORIES:Community Event,Food
GEO:33.4956744;-88.4272627
X-APPLE-STRUCTURED-LOCATION;VALUE=URI;X-ADDRESS=Hitching Lot Farmers Market Corner of 2nd Street and Avenue North Columbus MS 39701 United States;X-APPLE-RADIUS=500;X-TITLE=Corner of 2nd Street and Avenue North:geo:-88.4272627,33.4956744
END:VEVENT
BEGIN:VEVENT
DTSTART;TZID=America/Chicago:20260825T160000
DTEND;TZID=America/Chicago:20260825T180000
DTSTAMP:20260425T061409
CREATED:20260423T190247Z
LAST-MODIFIED:20260423T190424Z
UID:10001018-1787673600-1787680800@visitcolumbusms.org
SUMMARY:Hitching Lot Farmers' Market
DESCRIPTION:
URL:https://visitcolumbusms.org/event/hitching-lot-farmers-market-8/2026-08-25/
LOCATION:Hitching Lot Farmers Market\, Corner of 2nd Street and Avenue North\, Columbus\, MS\, 39701\, United States
CATEGORIES:Community Event,Food
GEO:33.4956744;-88.4272627
X-APPLE-STRUCTURED-LOCATION;VALUE=URI;X-ADDRESS=Hitching Lot Farmers Market Corner of 2nd Street and Avenue North Columbus MS 39701 United States;X-APPLE-RADIUS=500;X-TITLE=Corner of 2nd Street and Avenue North:geo:-88.4272627,33.4956744
END:VEVENT
BEGIN:VEVENT
DTSTART;TZID=America/Chicago:20260829T070000
DTEND;TZID=America/Chicago:20260829T100000
DTSTAMP:20260425T061409
CREATED:20260423T190247Z
LAST-MODIFIED:20260423T190424Z
UID:10001019-1787986800-1787997600@visitcolumbusms.org
SUMMARY:Hitching Lot Farmers' Market
DESCRIPTION:
URL:https://visitcolumbusms.org/event/hitching-lot-farmers-market-8/2026-08-29/
LOCATION:Hitching Lot Farmers Market\, Corner of 2nd Street and Avenue North\, Columbus\, MS\, 39701\, United States
CATEGORIES:Community Event,Food
GEO:33.4956744;-88.4272627
X-APPLE-STRUCTURED-LOCATION;VALUE=URI;X-ADDRESS=Hitching Lot Farmers Market Corner of 2nd Street and Avenue North Columbus MS 39701 United States;X-APPLE-RADIUS=500;X-TITLE=Corner of 2nd Street and Avenue North:geo:-88.4272627,33.4956744
END:VEVENT
BEGIN:VEVENT
DTSTART;TZID=America/Chicago:20260905T070000
DTEND;TZID=America/Chicago:20260905T100000
DTSTAMP:20260425T061409
CREATED:20260423T190247Z
LAST-MODIFIED:20260423T190424Z
UID:10001020-1788591600-1788602400@visitcolumbusms.org
SUMMARY:Hitching Lot Farmers' Market
DESCRIPTION:
URL:https://visitcolumbusms.org/event/hitching-lot-farmers-market-8/2026-09-05/
LOCATION:Hitching Lot Farmers Market\, Corner of 2nd Street and Avenue North\, Columbus\, MS\, 39701\, United States
CATEGORIES:Community Event,Food
GEO:33.4956744;-88.4272627
X-APPLE-STRUCTURED-LOCATION;VALUE=URI;X-ADDRESS=Hitching Lot Farmers Market Corner of 2nd Street and Avenue North Columbus MS 39701 United States;X-APPLE-RADIUS=500;X-TITLE=Corner of 2nd Street and Avenue North:geo:-88.4272627,33.4956744
END:VEVENT
BEGIN:VEVENT
DTSTART;TZID=America/Chicago:20260912T070000
DTEND;TZID=America/Chicago:20260912T100000
DTSTAMP:20260425T061409
CREATED:20260423T190247Z
LAST-MODIFIED:20260423T190424Z
UID:10001021-1789196400-1789207200@visitcolumbusms.org
SUMMARY:Hitching Lot Farmers' Market
DESCRIPTION:
URL:https://visitcolumbusms.org/event/hitching-lot-farmers-market-8/2026-09-12/
LOCATION:Hitching Lot Farmers Market\, Corner of 2nd Street and Avenue North\, Columbus\, MS\, 39701\, United States
CATEGORIES:Community Event,Food
GEO:33.4956744;-88.4272627
X-APPLE-STRUCTURED-LOCATION;VALUE=URI;X-ADDRESS=Hitching Lot Farmers Market Corner of 2nd Street and Avenue North Columbus MS 39701 United States;X-APPLE-RADIUS=500;X-TITLE=Corner of 2nd Street and Avenue North:geo:-88.4272627,33.4956744
END:VEVENT
BEGIN:VEVENT
DTSTART;TZID=America/Chicago:20260919T070000
DTEND;TZID=America/Chicago:20260919T100000
DTSTAMP:20260425T061409
CREATED:20260423T190247Z
LAST-MODIFIED:20260423T190424Z
UID:10001022-1789801200-1789812000@visitcolumbusms.org
SUMMARY:Hitching Lot Farmers' Market
DESCRIPTION:
URL:https://visitcolumbusms.org/event/hitching-lot-farmers-market-8/2026-09-19/
LOCATION:Hitching Lot Farmers Market\, Corner of 2nd Street and Avenue North\, Columbus\, MS\, 39701\, United States
CATEGORIES:Community Event,Food
GEO:33.4956744;-88.4272627
X-APPLE-STRUCTURED-LOCATION;VALUE=URI;X-ADDRESS=Hitching Lot Farmers Market Corner of 2nd Street and Avenue North Columbus MS 39701 United States;X-APPLE-RADIUS=500;X-TITLE=Corner of 2nd Street and Avenue North:geo:-88.4272627,33.4956744
END:VEVENT
BEGIN:VEVENT
DTSTART;TZID=America/Chicago:20260926T070000
DTEND;TZID=America/Chicago:20260926T100000
DTSTAMP:20260425T061409
CREATED:20260423T190247Z
LAST-MODIFIED:20260423T190424Z
UID:10001023-1790406000-1790416800@visitcolumbusms.org
SUMMARY:Hitching Lot Farmers' Market
DESCRIPTION:
URL:https://visitcolumbusms.org/event/hitching-lot-farmers-market-8/2026-09-26/
LOCATION:Hitching Lot Farmers Market\, Corner of 2nd Street and Avenue North\, Columbus\, MS\, 39701\, United States
CATEGORIES:Community Event,Food
GEO:33.4956744;-88.4272627
X-APPLE-STRUCTURED-LOCATION;VALUE=URI;X-ADDRESS=Hitching Lot Farmers Market Corner of 2nd Street and Avenue North Columbus MS 39701 United States;X-APPLE-RADIUS=500;X-TITLE=Corner of 2nd Street and Avenue North:geo:-88.4272627,33.4956744
END:VEVENT
BEGIN:VEVENT
DTSTART;TZID=America/Chicago:20261003T070000
DTEND;TZID=America/Chicago:20261003T100000
DTSTAMP:20260425T061409
CREATED:20260423T190247Z
LAST-MODIFIED:20260423T190424Z
UID:10001024-1791010800-1791021600@visitcolumbusms.org
SUMMARY:Hitching Lot Farmers' Market
DESCRIPTION:
URL:https://visitcolumbusms.org/event/hitching-lot-farmers-market-8/2026-10-03/
LOCATION:Hitching Lot Farmers Market\, Corner of 2nd Street and Avenue North\, Columbus\, MS\, 39701\, United States
CATEGORIES:Community Event,Food
GEO:33.4956744;-88.4272627
X-APPLE-STRUCTURED-LOCATION;VALUE=URI;X-ADDRESS=Hitching Lot Farmers Market Corner of 2nd Street and Avenue North Columbus MS 39701 United States;X-APPLE-RADIUS=500;X-TITLE=Corner of 2nd Street and Avenue North:geo:-88.4272627,33.4956744
END:VEVENT
BEGIN:VEVENT
DTSTART;TZID=America/Chicago:20261010T070000
DTEND;TZID=America/Chicago:20261010T100000
DTSTAMP:20260425T061410
CREATED:20260423T190247Z
LAST-MODIFIED:20260423T190424Z
UID:10001025-1791615600-1791626400@visitcolumbusms.org
SUMMARY:Hitching Lot Farmers' Market
DESCRIPTION:
URL:https://visitcolumbusms.org/event/hitching-lot-farmers-market-8/2026-10-10/
LOCATION:Hitching Lot Farmers Market\, Corner of 2nd Street and Avenue North\, Columbus\, MS\, 39701\, United States
CATEGORIES:Community Event,Food
GEO:33.4956744;-88.4272627
X-APPLE-STRUCTURED-LOCATION;VALUE=URI;X-ADDRESS=Hitching Lot Farmers Market Corner of 2nd Street and Avenue North Columbus MS 39701 United States;X-APPLE-RADIUS=500;X-TITLE=Corner of 2nd Street and Avenue North:geo:-88.4272627,33.4956744
END:VEVENT
BEGIN:VEVENT
DTSTART;TZID=America/Chicago:20261017T070000
DTEND;TZID=America/Chicago:20261017T100000
DTSTAMP:20260425T061410
CREATED:20260423T190247Z
LAST-MODIFIED:20260423T190424Z
UID:10001026-1792220400-1792231200@visitcolumbusms.org
SUMMARY:Hitching Lot Farmers' Market
DESCRIPTION:
URL:https://visitcolumbusms.org/event/hitching-lot-farmers-market-8/2026-10-17/
LOCATION:Hitching Lot Farmers Market\, Corner of 2nd Street and Avenue North\, Columbus\, MS\, 39701\, United States
CATEGORIES:Community Event,Food
GEO:33.4956744;-88.4272627
X-APPLE-STRUCTURED-LOCATION;VALUE=URI;X-ADDRESS=Hitching Lot Farmers Market Corner of 2nd Street and Avenue North Columbus MS 39701 United States;X-APPLE-RADIUS=500;X-TITLE=Corner of 2nd Street and Avenue North:geo:-88.4272627,33.4956744
END:VEVENT
BEGIN:VEVENT
DTSTART;TZID=America/Chicago:20261024T070000
DTEND;TZID=America/Chicago:20261024T100000
DTSTAMP:20260425T061410
CREATED:20260423T190247Z
LAST-MODIFIED:20260423T190424Z
UID:10001027-1792825200-1792836000@visitcolumbusms.org
SUMMARY:Hitching Lot Farmers' Market
DESCRIPTION:
URL:https://visitcolumbusms.org/event/hitching-lot-farmers-market-8/2026-10-24/
LOCATION:Hitching Lot Farmers Market\, Corner of 2nd Street and Avenue North\, Columbus\, MS\, 39701\, United States
CATEGORIES:Community Event,Food
GEO:33.4956744;-88.4272627
X-APPLE-STRUCTURED-LOCATION;VALUE=URI;X-ADDRESS=Hitching Lot Farmers Market Corner of 2nd Street and Avenue North Columbus MS 39701 United States;X-APPLE-RADIUS=500;X-TITLE=Corner of 2nd Street and Avenue North:geo:-88.4272627,33.4956744
END:VEVENT
END:VCALENDAR