BEGIN:VCALENDAR
VERSION:2.0
PRODID:-//Columbus MS - ECPv6.10.1.1//NONSGML v1.0//EN
CALSCALE:GREGORIAN
METHOD:PUBLISH
X-WR-CALNAME:Columbus MS
X-ORIGINAL-URL:https://visitcolumbusms.org
X-WR-CALDESC:Events for Columbus MS
REFRESH-INTERVAL;VALUE=DURATION:PT1H
X-Robots-Tag:noindex
X-PUBLISHED-TTL:PT1H
BEGIN:VTIMEZONE
TZID:America/Chicago
BEGIN:DAYLIGHT
TZOFFSETFROM:-0600
TZOFFSETTO:-0500
TZNAME:CDT
DTSTART:20250309T080000
END:DAYLIGHT
BEGIN:STANDARD
TZOFFSETFROM:-0500
TZOFFSETTO:-0600
TZNAME:CST
DTSTART:20251102T070000
END:STANDARD
END:VTIMEZONE
BEGIN:VEVENT
DTSTART;TZID=America/Chicago:20251205T170000
DTEND;TZID=America/Chicago:20251205T200000
DTSTAMP:20260425T080424
CREATED:20250728T205538Z
LAST-MODIFIED:20250728T205607Z
UID:10000735-1764954000-1764964800@visitcolumbusms.org
SUMMARY:Wassailfest
DESCRIPTION:
URL:https://visitcolumbusms.org/event/wassailfest/
LOCATION:Downtown Columbus\, 107 5th St S\, Columbus\, MS\, 39701\, United States
CATEGORIES:Christmas,Community Event,Family Fun
GEO:33.4947766;-88.4278745
X-APPLE-STRUCTURED-LOCATION;VALUE=URI;X-ADDRESS=Downtown Columbus 107 5th St S Columbus MS 39701 United States;X-APPLE-RADIUS=500;X-TITLE=107 5th St S:geo:-88.4278745,33.4947766
END:VEVENT
BEGIN:VEVENT
DTSTART;TZID=America/Chicago:20251205T130000
DTEND;TZID=America/Chicago:20251205T200000
DTSTAMP:20260425T080424
CREATED:20251106T172215Z
LAST-MODIFIED:20251106T172413Z
UID:10000797-1764939600-1764964800@visitcolumbusms.org
SUMMARY:Gingerbread Holiday Market
DESCRIPTION:
URL:https://visitcolumbusms.org/event/gingerbread-holiday-market-2/2025-12-05/
LOCATION:Rosenzweig Arts Center\, 501 Main Street\, Columbus\, MS\, 39701\, United States
CATEGORIES:Christmas,Community Event,Family Fun
GEO:33.4947188;-88.4325751
X-APPLE-STRUCTURED-LOCATION;VALUE=URI;X-ADDRESS=Rosenzweig Arts Center 501 Main Street Columbus MS 39701 United States;X-APPLE-RADIUS=500;X-TITLE=501 Main Street:geo:-88.4325751,33.4947188
END:VEVENT
BEGIN:VEVENT
DTSTART;TZID=America/Chicago:20251201T190000
DTEND;TZID=America/Chicago:20251201T203000
DTSTAMP:20260425T080424
CREATED:20251017T161548Z
LAST-MODIFIED:20251017T161548Z
UID:10000775-1764615600-1764621000@visitcolumbusms.org
SUMMARY:Columbus Christmas Parade
DESCRIPTION:
URL:https://visitcolumbusms.org/event/columbus-christmas-parade-7/
LOCATION:Downtown Columbus\, 107 5th St S\, Columbus\, MS\, 39701\, United States
CATEGORIES:Christmas,Community Event,Family Fun
GEO:33.4947766;-88.4278745
X-APPLE-STRUCTURED-LOCATION;VALUE=URI;X-ADDRESS=Downtown Columbus 107 5th St S Columbus MS 39701 United States;X-APPLE-RADIUS=500;X-TITLE=107 5th St S:geo:-88.4278745,33.4947766
END:VEVENT
BEGIN:VEVENT
DTSTART;TZID=America/Chicago:20251129T100000
DTEND;TZID=America/Chicago:20251129T170000
DTSTAMP:20260425T080424
CREATED:20251008T142523Z
LAST-MODIFIED:20251008T142523Z
UID:10000761-1764410400-1764435600@visitcolumbusms.org
SUMMARY:Small Business Saturday
DESCRIPTION:
URL:https://visitcolumbusms.org/event/small-business-saturday-4/
LOCATION:Downtown Columbus\, 107 5th St S\, Columbus\, MS\, 39701\, United States
CATEGORIES:Christmas,Community Event,Family Fun
GEO:33.4947766;-88.4278745
X-APPLE-STRUCTURED-LOCATION;VALUE=URI;X-ADDRESS=Downtown Columbus 107 5th St S Columbus MS 39701 United States;X-APPLE-RADIUS=500;X-TITLE=107 5th St S:geo:-88.4278745,33.4947766
END:VEVENT
BEGIN:VEVENT
DTSTART;TZID=America/Chicago:20251115T090000
DTEND;TZID=America/Chicago:20251115T140000
DTSTAMP:20260425T080424
CREATED:20251009T214735Z
LAST-MODIFIED:20251009T214735Z
UID:10000768-1763197200-1763215200@visitcolumbusms.org
SUMMARY:Lakeside Treasures
DESCRIPTION:
URL:https://visitcolumbusms.org/event/lakeside-treasures/
LOCATION:Lake Lowndes State Park\, 3319 Lake Lowndes Road\, Columbus\, MS\, 39702\, United States
CATEGORIES:Community Event,Family Fun
ORGANIZER;CN="Friends of Lake Lowndes":MAILTO:.wyers@wfp.ms.gov
GEO:33.4397715;-88.3075899
X-APPLE-STRUCTURED-LOCATION;VALUE=URI;X-ADDRESS=Lake Lowndes State Park 3319 Lake Lowndes Road Columbus MS 39702 United States;X-APPLE-RADIUS=500;X-TITLE=3319 Lake Lowndes Road:geo:-88.3075899,33.4397715
END:VEVENT
BEGIN:VEVENT
DTSTART;TZID=America/Chicago:20251115T080000
DTEND;TZID=America/Chicago:20251115T170000
DTSTAMP:20260425T080424
CREATED:20250722T144944Z
LAST-MODIFIED:20250724T143708Z
UID:10000727-1763193600-1763226000@visitcolumbusms.org
SUMMARY:Under the Oaks Art Festival
DESCRIPTION:
URL:https://visitcolumbusms.org/event/under-the-oaks-art-festival/
LOCATION:Mississippi University for Women\, 1100 College Street\, Columbus\, MS\, 39701\, United States
CATEGORIES:Arts & Culture,Community Event,Family Fun
GEO:33.4939685;-88.418196
X-APPLE-STRUCTURED-LOCATION;VALUE=URI;X-ADDRESS=Mississippi University for Women 1100 College Street Columbus MS 39701 United States;X-APPLE-RADIUS=500;X-TITLE=1100 College Street:geo:-88.418196,33.4939685
END:VEVENT
BEGIN:VEVENT
DTSTART;TZID=America/Chicago:20251102T120000
DTEND;TZID=America/Chicago:20251102T160000
DTSTAMP:20260425T080424
CREATED:20251009T214855Z
LAST-MODIFIED:20251009T214855Z
UID:10000769-1762084800-1762099200@visitcolumbusms.org
SUMMARY:Hot Rods & Cookies
DESCRIPTION:
URL:https://visitcolumbusms.org/event/hot-rods-cookies/
LOCATION:Downtown Columbus\, 107 5th St S\, Columbus\, MS\, 39701\, United States
CATEGORIES:Community Event,Family Fun
GEO:33.4947766;-88.4278745
X-APPLE-STRUCTURED-LOCATION;VALUE=URI;X-ADDRESS=Downtown Columbus 107 5th St S Columbus MS 39701 United States;X-APPLE-RADIUS=500;X-TITLE=107 5th St S:geo:-88.4278745,33.4947766
END:VEVENT
BEGIN:VEVENT
DTSTART;TZID=America/Chicago:20251010T100000
DTEND;TZID=America/Chicago:20251010T150000
DTSTAMP:20260425T080424
CREATED:20251007T220229Z
LAST-MODIFIED:20251007T220229Z
UID:10000739-1760090400-1760108400@visitcolumbusms.org
SUMMARY:America 250 Airstream Tour
DESCRIPTION:
URL:https://visitcolumbusms.org/event/america-250-airstream-tour/
LOCATION:Tennessee Williams Home and Welcome Center\, 300 Main Street\, Columbus\, MS\, 39701\, United States
CATEGORIES:Community Event,Family Fun
GEO:33.4945451;-88.4303737
X-APPLE-STRUCTURED-LOCATION;VALUE=URI;X-ADDRESS=Tennessee Williams Home and Welcome Center 300 Main Street Columbus MS 39701 United States;X-APPLE-RADIUS=500;X-TITLE=300 Main Street:geo:-88.4303737,33.4945451
END:VEVENT
BEGIN:VEVENT
DTSTART;TZID=America/Chicago:20251001T080000
DTEND;TZID=America/Chicago:20251004T170000
DTSTAMP:20260425T080424
CREATED:20250722T144055Z
LAST-MODIFIED:20250722T144207Z
UID:10000724-1759305600-1759597200@visitcolumbusms.org
SUMMARY:Seventh Avenue Heritage Festival
DESCRIPTION:
URL:https://visitcolumbusms.org/event/seventh-avenue-heritage-festival-3/
LOCATION:Seventh Avenue North\, Corner of 7th Avenue North and 15th Street North\, Columbus\, MS\, 39701\, United States
CATEGORIES:Community Event,Family Fun,History,Music
ORGANIZER;CN="Seventh Avenue Heritage Festival":MAILTO:seventhaveheritagefestival@yahoo.com
GEO:33.5029534;-88.4171438
X-APPLE-STRUCTURED-LOCATION;VALUE=URI;X-ADDRESS=Seventh Avenue North Corner of 7th Avenue North and 15th Street North Columbus MS 39701 United States;X-APPLE-RADIUS=500;X-TITLE=Corner of 7th Avenue North and 15th Street North:geo:-88.4171438,33.5029534
END:VEVENT
BEGIN:VEVENT
DTSTART;TZID=America/Chicago:20250930T070000
DTEND;TZID=America/Chicago:20250930T100000
DTSTAMP:20260425T080424
CREATED:20250612T114534Z
LAST-MODIFIED:20250612T114534Z
UID:10000704-1759215600-1759226400@visitcolumbusms.org
SUMMARY:Hitching Lot Farmers' Market
DESCRIPTION:
URL:https://visitcolumbusms.org/event/hitching-lot-farmers-market-6/2025-09-30/
LOCATION:Hitching Lot Farmers Market\, Corner of 2nd Street and Avenue North\, Columbus\, MS\, 39701\, United States
CATEGORIES:Community Event,Family Fun,Food
GEO:33.4956744;-88.4272627
X-APPLE-STRUCTURED-LOCATION;VALUE=URI;X-ADDRESS=Hitching Lot Farmers Market Corner of 2nd Street and Avenue North Columbus MS 39701 United States;X-APPLE-RADIUS=500;X-TITLE=Corner of 2nd Street and Avenue North:geo:-88.4272627,33.4956744
END:VEVENT
BEGIN:VEVENT
DTSTART;TZID=America/Chicago:20250927T070000
DTEND;TZID=America/Chicago:20250927T100000
DTSTAMP:20260425T080424
CREATED:20250612T114534Z
LAST-MODIFIED:20250612T114534Z
UID:10000703-1758956400-1758967200@visitcolumbusms.org
SUMMARY:Hitching Lot Farmers' Market
DESCRIPTION:
URL:https://visitcolumbusms.org/event/hitching-lot-farmers-market-6/2025-09-27/
LOCATION:Hitching Lot Farmers Market\, Corner of 2nd Street and Avenue North\, Columbus\, MS\, 39701\, United States
CATEGORIES:Community Event,Family Fun,Food
GEO:33.4956744;-88.4272627
X-APPLE-STRUCTURED-LOCATION;VALUE=URI;X-ADDRESS=Hitching Lot Farmers Market Corner of 2nd Street and Avenue North Columbus MS 39701 United States;X-APPLE-RADIUS=500;X-TITLE=Corner of 2nd Street and Avenue North:geo:-88.4272627,33.4956744
END:VEVENT
BEGIN:VEVENT
DTSTART;TZID=America/Chicago:20250923T070000
DTEND;TZID=America/Chicago:20250923T100000
DTSTAMP:20260425T080424
CREATED:20250612T114534Z
LAST-MODIFIED:20250612T114534Z
UID:10000702-1758610800-1758621600@visitcolumbusms.org
SUMMARY:Hitching Lot Farmers' Market
DESCRIPTION:
URL:https://visitcolumbusms.org/event/hitching-lot-farmers-market-6/2025-09-23/
LOCATION:Hitching Lot Farmers Market\, Corner of 2nd Street and Avenue North\, Columbus\, MS\, 39701\, United States
CATEGORIES:Community Event,Family Fun,Food
GEO:33.4956744;-88.4272627
X-APPLE-STRUCTURED-LOCATION;VALUE=URI;X-ADDRESS=Hitching Lot Farmers Market Corner of 2nd Street and Avenue North Columbus MS 39701 United States;X-APPLE-RADIUS=500;X-TITLE=Corner of 2nd Street and Avenue North:geo:-88.4272627,33.4956744
END:VEVENT
BEGIN:VEVENT
DTSTART;TZID=America/Chicago:20250920T070000
DTEND;TZID=America/Chicago:20250920T100000
DTSTAMP:20260425T080424
CREATED:20250612T114534Z
LAST-MODIFIED:20250612T114534Z
UID:10000701-1758351600-1758362400@visitcolumbusms.org
SUMMARY:Hitching Lot Farmers' Market
DESCRIPTION:
URL:https://visitcolumbusms.org/event/hitching-lot-farmers-market-6/2025-09-20/
LOCATION:Hitching Lot Farmers Market\, Corner of 2nd Street and Avenue North\, Columbus\, MS\, 39701\, United States
CATEGORIES:Community Event,Family Fun,Food
GEO:33.4956744;-88.4272627
X-APPLE-STRUCTURED-LOCATION;VALUE=URI;X-ADDRESS=Hitching Lot Farmers Market Corner of 2nd Street and Avenue North Columbus MS 39701 United States;X-APPLE-RADIUS=500;X-TITLE=Corner of 2nd Street and Avenue North:geo:-88.4272627,33.4956744
END:VEVENT
BEGIN:VEVENT
DTSTART;TZID=America/Chicago:20250916T070000
DTEND;TZID=America/Chicago:20250916T100000
DTSTAMP:20260425T080424
CREATED:20250612T114534Z
LAST-MODIFIED:20250612T114534Z
UID:10000700-1758006000-1758016800@visitcolumbusms.org
SUMMARY:Hitching Lot Farmers' Market
DESCRIPTION:
URL:https://visitcolumbusms.org/event/hitching-lot-farmers-market-6/2025-09-16/
LOCATION:Hitching Lot Farmers Market\, Corner of 2nd Street and Avenue North\, Columbus\, MS\, 39701\, United States
CATEGORIES:Community Event,Family Fun,Food
GEO:33.4956744;-88.4272627
X-APPLE-STRUCTURED-LOCATION;VALUE=URI;X-ADDRESS=Hitching Lot Farmers Market Corner of 2nd Street and Avenue North Columbus MS 39701 United States;X-APPLE-RADIUS=500;X-TITLE=Corner of 2nd Street and Avenue North:geo:-88.4272627,33.4956744
END:VEVENT
BEGIN:VEVENT
DTSTART;TZID=America/Chicago:20250913T070000
DTEND;TZID=America/Chicago:20250913T100000
DTSTAMP:20260425T080424
CREATED:20250612T114534Z
LAST-MODIFIED:20250612T114534Z
UID:10000699-1757746800-1757757600@visitcolumbusms.org
SUMMARY:Hitching Lot Farmers' Market
DESCRIPTION:
URL:https://visitcolumbusms.org/event/hitching-lot-farmers-market-6/2025-09-13/
LOCATION:Hitching Lot Farmers Market\, Corner of 2nd Street and Avenue North\, Columbus\, MS\, 39701\, United States
CATEGORIES:Community Event,Family Fun,Food
GEO:33.4956744;-88.4272627
X-APPLE-STRUCTURED-LOCATION;VALUE=URI;X-ADDRESS=Hitching Lot Farmers Market Corner of 2nd Street and Avenue North Columbus MS 39701 United States;X-APPLE-RADIUS=500;X-TITLE=Corner of 2nd Street and Avenue North:geo:-88.4272627,33.4956744
END:VEVENT
BEGIN:VEVENT
DTSTART;TZID=America/Chicago:20250909T070000
DTEND;TZID=America/Chicago:20250909T100000
DTSTAMP:20260425T080424
CREATED:20250612T114534Z
LAST-MODIFIED:20250612T114534Z
UID:10000698-1757401200-1757412000@visitcolumbusms.org
SUMMARY:Hitching Lot Farmers' Market
DESCRIPTION:
URL:https://visitcolumbusms.org/event/hitching-lot-farmers-market-6/2025-09-09/
LOCATION:Hitching Lot Farmers Market\, Corner of 2nd Street and Avenue North\, Columbus\, MS\, 39701\, United States
CATEGORIES:Community Event,Family Fun,Food
GEO:33.4956744;-88.4272627
X-APPLE-STRUCTURED-LOCATION;VALUE=URI;X-ADDRESS=Hitching Lot Farmers Market Corner of 2nd Street and Avenue North Columbus MS 39701 United States;X-APPLE-RADIUS=500;X-TITLE=Corner of 2nd Street and Avenue North:geo:-88.4272627,33.4956744
END:VEVENT
BEGIN:VEVENT
DTSTART;TZID=America/Chicago:20250906T090000
DTEND;TZID=America/Chicago:20250906T110000
DTSTAMP:20260425T080424
CREATED:20250722T142754Z
LAST-MODIFIED:20250731T131139Z
UID:10000722-1757149200-1757156400@visitcolumbusms.org
SUMMARY:Butterfly Bonanza
DESCRIPTION:
URL:https://visitcolumbusms.org/event/butterfly-bonanza-2/
LOCATION:Columbus Riverwalk\, Columbus\, MS\, 39701\, United States
CATEGORIES:Community Event,Family Fun
GEO:33.4959067;-88.4437765
END:VEVENT
BEGIN:VEVENT
DTSTART;TZID=America/Chicago:20250906T070000
DTEND;TZID=America/Chicago:20250906T100000
DTSTAMP:20260425T080424
CREATED:20250612T114534Z
LAST-MODIFIED:20250612T114534Z
UID:10000697-1757142000-1757152800@visitcolumbusms.org
SUMMARY:Hitching Lot Farmers' Market
DESCRIPTION:
URL:https://visitcolumbusms.org/event/hitching-lot-farmers-market-6/2025-09-06/
LOCATION:Hitching Lot Farmers Market\, Corner of 2nd Street and Avenue North\, Columbus\, MS\, 39701\, United States
CATEGORIES:Community Event,Family Fun,Food
GEO:33.4956744;-88.4272627
X-APPLE-STRUCTURED-LOCATION;VALUE=URI;X-ADDRESS=Hitching Lot Farmers Market Corner of 2nd Street and Avenue North Columbus MS 39701 United States;X-APPLE-RADIUS=500;X-TITLE=Corner of 2nd Street and Avenue North:geo:-88.4272627,33.4956744
END:VEVENT
BEGIN:VEVENT
DTSTART;TZID=America/Chicago:20250902T070000
DTEND;TZID=America/Chicago:20250902T100000
DTSTAMP:20260425T080424
CREATED:20250612T114534Z
LAST-MODIFIED:20250612T114534Z
UID:10000696-1756796400-1756807200@visitcolumbusms.org
SUMMARY:Hitching Lot Farmers' Market
DESCRIPTION:
URL:https://visitcolumbusms.org/event/hitching-lot-farmers-market-6/2025-09-02/
LOCATION:Hitching Lot Farmers Market\, Corner of 2nd Street and Avenue North\, Columbus\, MS\, 39701\, United States
CATEGORIES:Community Event,Family Fun,Food
GEO:33.4956744;-88.4272627
X-APPLE-STRUCTURED-LOCATION;VALUE=URI;X-ADDRESS=Hitching Lot Farmers Market Corner of 2nd Street and Avenue North Columbus MS 39701 United States;X-APPLE-RADIUS=500;X-TITLE=Corner of 2nd Street and Avenue North:geo:-88.4272627,33.4956744
END:VEVENT
BEGIN:VEVENT
DTSTART;TZID=America/Chicago:20250830T070000
DTEND;TZID=America/Chicago:20250830T100000
DTSTAMP:20260425T080424
CREATED:20250612T114534Z
LAST-MODIFIED:20250612T114534Z
UID:10000695-1756537200-1756548000@visitcolumbusms.org
SUMMARY:Hitching Lot Farmers' Market
DESCRIPTION:
URL:https://visitcolumbusms.org/event/hitching-lot-farmers-market-6/2025-08-30/
LOCATION:Hitching Lot Farmers Market\, Corner of 2nd Street and Avenue North\, Columbus\, MS\, 39701\, United States
CATEGORIES:Community Event,Family Fun,Food
GEO:33.4956744;-88.4272627
X-APPLE-STRUCTURED-LOCATION;VALUE=URI;X-ADDRESS=Hitching Lot Farmers Market Corner of 2nd Street and Avenue North Columbus MS 39701 United States;X-APPLE-RADIUS=500;X-TITLE=Corner of 2nd Street and Avenue North:geo:-88.4272627,33.4956744
END:VEVENT
BEGIN:VEVENT
DTSTART;TZID=America/Chicago:20250826T070000
DTEND;TZID=America/Chicago:20250826T100000
DTSTAMP:20260425T080424
CREATED:20250612T114534Z
LAST-MODIFIED:20250612T114534Z
UID:10000694-1756191600-1756202400@visitcolumbusms.org
SUMMARY:Hitching Lot Farmers' Market
DESCRIPTION:
URL:https://visitcolumbusms.org/event/hitching-lot-farmers-market-6/2025-08-26/
LOCATION:Hitching Lot Farmers Market\, Corner of 2nd Street and Avenue North\, Columbus\, MS\, 39701\, United States
CATEGORIES:Community Event,Family Fun,Food
GEO:33.4956744;-88.4272627
X-APPLE-STRUCTURED-LOCATION;VALUE=URI;X-ADDRESS=Hitching Lot Farmers Market Corner of 2nd Street and Avenue North Columbus MS 39701 United States;X-APPLE-RADIUS=500;X-TITLE=Corner of 2nd Street and Avenue North:geo:-88.4272627,33.4956744
END:VEVENT
BEGIN:VEVENT
DTSTART;TZID=America/Chicago:20250823T100000
DTEND;TZID=America/Chicago:20250823T170000
DTSTAMP:20260425T080424
CREATED:20250731T131606Z
LAST-MODIFIED:20250731T133000Z
UID:10000737-1755943200-1755968400@visitcolumbusms.org
SUMMARY:Game Day Kick-Off
DESCRIPTION:
URL:https://visitcolumbusms.org/event/game-day-kick-off/
LOCATION:Downtown Columbus\, 107 5th St S\, Columbus\, MS\, 39701\, United States
CATEGORIES:Community Event,Family Fun
GEO:33.4947766;-88.4278745
X-APPLE-STRUCTURED-LOCATION;VALUE=URI;X-ADDRESS=Downtown Columbus 107 5th St S Columbus MS 39701 United States;X-APPLE-RADIUS=500;X-TITLE=107 5th St S:geo:-88.4278745,33.4947766
END:VEVENT
BEGIN:VEVENT
DTSTART;TZID=America/Chicago:20250823T070000
DTEND;TZID=America/Chicago:20250823T100000
DTSTAMP:20260425T080424
CREATED:20250612T114534Z
LAST-MODIFIED:20250612T114534Z
UID:10000693-1755932400-1755943200@visitcolumbusms.org
SUMMARY:Hitching Lot Farmers' Market
DESCRIPTION:
URL:https://visitcolumbusms.org/event/hitching-lot-farmers-market-6/2025-08-23/
LOCATION:Hitching Lot Farmers Market\, Corner of 2nd Street and Avenue North\, Columbus\, MS\, 39701\, United States
CATEGORIES:Community Event,Family Fun,Food
GEO:33.4956744;-88.4272627
X-APPLE-STRUCTURED-LOCATION;VALUE=URI;X-ADDRESS=Hitching Lot Farmers Market Corner of 2nd Street and Avenue North Columbus MS 39701 United States;X-APPLE-RADIUS=500;X-TITLE=Corner of 2nd Street and Avenue North:geo:-88.4272627,33.4956744
END:VEVENT
BEGIN:VEVENT
DTSTART;TZID=America/Chicago:20250819T070000
DTEND;TZID=America/Chicago:20250819T100000
DTSTAMP:20260425T080424
CREATED:20250612T114534Z
LAST-MODIFIED:20250612T114534Z
UID:10000692-1755586800-1755597600@visitcolumbusms.org
SUMMARY:Hitching Lot Farmers' Market
DESCRIPTION:
URL:https://visitcolumbusms.org/event/hitching-lot-farmers-market-6/2025-08-19/
LOCATION:Hitching Lot Farmers Market\, Corner of 2nd Street and Avenue North\, Columbus\, MS\, 39701\, United States
CATEGORIES:Community Event,Family Fun,Food
GEO:33.4956744;-88.4272627
X-APPLE-STRUCTURED-LOCATION;VALUE=URI;X-ADDRESS=Hitching Lot Farmers Market Corner of 2nd Street and Avenue North Columbus MS 39701 United States;X-APPLE-RADIUS=500;X-TITLE=Corner of 2nd Street and Avenue North:geo:-88.4272627,33.4956744
END:VEVENT
BEGIN:VEVENT
DTSTART;TZID=America/Chicago:20250816T070000
DTEND;TZID=America/Chicago:20250816T100000
DTSTAMP:20260425T080424
CREATED:20250612T114534Z
LAST-MODIFIED:20250612T114534Z
UID:10000691-1755327600-1755338400@visitcolumbusms.org
SUMMARY:Hitching Lot Farmers' Market
DESCRIPTION:
URL:https://visitcolumbusms.org/event/hitching-lot-farmers-market-6/2025-08-16/
LOCATION:Hitching Lot Farmers Market\, Corner of 2nd Street and Avenue North\, Columbus\, MS\, 39701\, United States
CATEGORIES:Community Event,Family Fun,Food
GEO:33.4956744;-88.4272627
X-APPLE-STRUCTURED-LOCATION;VALUE=URI;X-ADDRESS=Hitching Lot Farmers Market Corner of 2nd Street and Avenue North Columbus MS 39701 United States;X-APPLE-RADIUS=500;X-TITLE=Corner of 2nd Street and Avenue North:geo:-88.4272627,33.4956744
END:VEVENT
BEGIN:VEVENT
DTSTART;TZID=America/Chicago:20250812T070000
DTEND;TZID=America/Chicago:20250812T100000
DTSTAMP:20260425T080424
CREATED:20250612T114534Z
LAST-MODIFIED:20250612T114534Z
UID:10000690-1754982000-1754992800@visitcolumbusms.org
SUMMARY:Hitching Lot Farmers' Market
DESCRIPTION:
URL:https://visitcolumbusms.org/event/hitching-lot-farmers-market-6/2025-08-12/
LOCATION:Hitching Lot Farmers Market\, Corner of 2nd Street and Avenue North\, Columbus\, MS\, 39701\, United States
CATEGORIES:Community Event,Family Fun,Food
GEO:33.4956744;-88.4272627
X-APPLE-STRUCTURED-LOCATION;VALUE=URI;X-ADDRESS=Hitching Lot Farmers Market Corner of 2nd Street and Avenue North Columbus MS 39701 United States;X-APPLE-RADIUS=500;X-TITLE=Corner of 2nd Street and Avenue North:geo:-88.4272627,33.4956744
END:VEVENT
BEGIN:VEVENT
DTSTART;TZID=America/Chicago:20250809T070000
DTEND;TZID=America/Chicago:20250809T100000
DTSTAMP:20260425T080424
CREATED:20250724T143529Z
LAST-MODIFIED:20250724T143544Z
UID:10000728-1754722800-1754733600@visitcolumbusms.org
SUMMARY:Sizzling Second Saturday
DESCRIPTION:
URL:https://visitcolumbusms.org/event/sizzling-second-saturday-2/
LOCATION:Hitching Lot Farmers Market\, Corner of 2nd Street and Avenue North\, Columbus\, MS\, 39701\, United States
CATEGORIES:Community Event,Family Fun
GEO:33.4956744;-88.4272627
X-APPLE-STRUCTURED-LOCATION;VALUE=URI;X-ADDRESS=Hitching Lot Farmers Market Corner of 2nd Street and Avenue North Columbus MS 39701 United States;X-APPLE-RADIUS=500;X-TITLE=Corner of 2nd Street and Avenue North:geo:-88.4272627,33.4956744
END:VEVENT
BEGIN:VEVENT
DTSTART;TZID=America/Chicago:20250809T070000
DTEND;TZID=America/Chicago:20250809T100000
DTSTAMP:20260425T080424
CREATED:20250612T114534Z
LAST-MODIFIED:20250612T114534Z
UID:10000689-1754722800-1754733600@visitcolumbusms.org
SUMMARY:Hitching Lot Farmers' Market
DESCRIPTION:
URL:https://visitcolumbusms.org/event/hitching-lot-farmers-market-6/2025-08-09/
LOCATION:Hitching Lot Farmers Market\, Corner of 2nd Street and Avenue North\, Columbus\, MS\, 39701\, United States
CATEGORIES:Community Event,Family Fun,Food
GEO:33.4956744;-88.4272627
X-APPLE-STRUCTURED-LOCATION;VALUE=URI;X-ADDRESS=Hitching Lot Farmers Market Corner of 2nd Street and Avenue North Columbus MS 39701 United States;X-APPLE-RADIUS=500;X-TITLE=Corner of 2nd Street and Avenue North:geo:-88.4272627,33.4956744
END:VEVENT
BEGIN:VEVENT
DTSTART;TZID=America/Chicago:20250805T070000
DTEND;TZID=America/Chicago:20250805T100000
DTSTAMP:20260425T080424
CREATED:20250612T114534Z
LAST-MODIFIED:20250612T114534Z
UID:10000688-1754377200-1754388000@visitcolumbusms.org
SUMMARY:Hitching Lot Farmers' Market
DESCRIPTION:
URL:https://visitcolumbusms.org/event/hitching-lot-farmers-market-6/2025-08-05/
LOCATION:Hitching Lot Farmers Market\, Corner of 2nd Street and Avenue North\, Columbus\, MS\, 39701\, United States
CATEGORIES:Community Event,Family Fun,Food
GEO:33.4956744;-88.4272627
X-APPLE-STRUCTURED-LOCATION;VALUE=URI;X-ADDRESS=Hitching Lot Farmers Market Corner of 2nd Street and Avenue North Columbus MS 39701 United States;X-APPLE-RADIUS=500;X-TITLE=Corner of 2nd Street and Avenue North:geo:-88.4272627,33.4956744
END:VEVENT
BEGIN:VEVENT
DTSTART;TZID=America/Chicago:20250802T110000
DTEND;TZID=America/Chicago:20250802T140000
DTSTAMP:20260425T080424
CREATED:20250728T212951Z
LAST-MODIFIED:20250728T212951Z
UID:10000736-1754132400-1754143200@visitcolumbusms.org
SUMMARY:Family Fun Day Extravaganza
DESCRIPTION:
URL:https://visitcolumbusms.org/event/family-fun-day-extravaganza/
LOCATION:2414 Highway 45 N.\, 2414 Hwy. 45 N.\, Columbus\, MS\, 39705\, United States
CATEGORIES:Community Event,Family Fun
GEO:33.5362634;-88.4374731
X-APPLE-STRUCTURED-LOCATION;VALUE=URI;X-ADDRESS=2414 Highway 45 N. 2414 Hwy. 45 N. Columbus MS 39705 United States;X-APPLE-RADIUS=500;X-TITLE=2414 Hwy. 45 N.:geo:-88.4374731,33.5362634
END:VEVENT
END:VCALENDAR