BEGIN:VCALENDAR
VERSION:2.0
PRODID:-//Columbus MS - ECPv6.10.1.1//NONSGML v1.0//EN
CALSCALE:GREGORIAN
METHOD:PUBLISH
X-ORIGINAL-URL:https://visitcolumbusms.org
X-WR-CALDESC:Events for Columbus MS
REFRESH-INTERVAL;VALUE=DURATION:PT1H
X-Robots-Tag:noindex
X-PUBLISHED-TTL:PT1H
BEGIN:VTIMEZONE
TZID:America/Chicago
BEGIN:DAYLIGHT
TZOFFSETFROM:-0600
TZOFFSETTO:-0500
TZNAME:CDT
DTSTART:20260308T080000
END:DAYLIGHT
BEGIN:STANDARD
TZOFFSETFROM:-0500
TZOFFSETTO:-0600
TZNAME:CST
DTSTART:20261101T070000
END:STANDARD
END:VTIMEZONE
BEGIN:VEVENT
DTSTART;TZID=America/Chicago:20260425T100000
DTEND;TZID=America/Chicago:20260425T130000
DTSTAMP:20260422T062638
CREATED:20260414T165951Z
LAST-MODIFIED:20260414T165957Z
UID:10000932-1777111200-1777122000@visitcolumbusms.org
SUMMARY:2026 Edible Book Festival
DESCRIPTION:
URL:https://visitcolumbusms.org/event/2026-edible-book-festival/
LOCATION:Columbus Lowndes Public Library\, 314 7th Street North\, Columbus\, MS\, 39701\, United States
CATEGORIES:Community Event,Food
GEO:33.4980078;-88.4256211
X-APPLE-STRUCTURED-LOCATION;VALUE=URI;X-ADDRESS=Columbus Lowndes Public Library 314 7th Street North Columbus MS 39701 United States;X-APPLE-RADIUS=500;X-TITLE=314 7th Street North:geo:-88.4256211,33.4980078
END:VEVENT
BEGIN:VEVENT
DTSTART;TZID=America/Chicago:20260502T090000
DTEND;TZID=America/Chicago:20260502T170000
DTSTAMP:20260422T062638
CREATED:20260117T231727Z
LAST-MODIFIED:20260421T161846Z
UID:10000851-1777712400-1777741200@visitcolumbusms.org
SUMMARY:Market Street Festival
DESCRIPTION:Market Street Festival is Columbus’ signature downtown street festival\, transforming Historic Downtown Columbus into a day-long celebration of arts\, music\, food\, and family-friendly fun. Set against the charming backdrop of The Storybook South\, the festival invites visitors to step into a lively\, walkable downtown filled with color\, creativity\, and community spirit. \nHosted by Main Street Columbus \nLocation\nHistoric Downtown Columbus\, Mississippi (centered along 5th Street/Market Street area and spanning 12 city blocks) \nAdmission\nFree to attend – food\, beverages\, and some activities available for purchase \nWhat Visitors Can Expect\nVendors & Shopping:\nMore than 200 arts and crafts\, retail\, and community vendors line the streets\, offering everything from handmade goods to unique boutique finds. \nFood & Drink:\nFestival favorites\, Southern specialties\, sweet treats\, and refreshing drinks are available throughout downtown\, creating a flavorful experience at every turn. \nLive Music & Entertainment:\nMultiple stages bring the streets to life with a full day of live music from local and regional performers\, along with announcements and engaging on-stage moments. \nFamily-Friendly Activities:\nWith inflatables\, kids’ zones\, and activities designed for all ages\, the festival offers plenty of ways for families to play\, explore\, and make memories together. \nPossum Town Show and Shine Car Show: Classic\, new\, and truly one‑of‑a‑kind vehicles line the streets for this judged show\, offering plenty of photo opportunities and conversation with fellow enthusiasts. \nLearn More
URL:https://visitcolumbusms.org/event/market-street-festival-4/
LOCATION:Downtown Columbus\, 107 5th St S\, Columbus\, MS\, 39701\, United States
CATEGORIES:Arts & Culture,Community Event,Family Fun,Food
GEO:33.4947766;-88.4278745
X-APPLE-STRUCTURED-LOCATION;VALUE=URI;X-ADDRESS=Downtown Columbus 107 5th St S Columbus MS 39701 United States;X-APPLE-RADIUS=500;X-TITLE=107 5th St S:geo:-88.4278745,33.4947766
END:VEVENT
END:VCALENDAR