BEGIN:VCALENDAR
VERSION:2.0
PRODID:-//Columbus MS - ECPv6.10.1.1//NONSGML v1.0//EN
CALSCALE:GREGORIAN
METHOD:PUBLISH
X-WR-CALNAME:Columbus MS
X-ORIGINAL-URL:https://visitcolumbusms.org
X-WR-CALDESC:Events for Columbus MS
REFRESH-INTERVAL;VALUE=DURATION:PT1H
X-Robots-Tag:noindex
X-PUBLISHED-TTL:PT1H
BEGIN:VTIMEZONE
TZID:America/Chicago
BEGIN:DAYLIGHT
TZOFFSETFROM:-0600
TZOFFSETTO:-0500
TZNAME:CDT
DTSTART:20240310T080000
END:DAYLIGHT
BEGIN:STANDARD
TZOFFSETFROM:-0500
TZOFFSETTO:-0600
TZNAME:CST
DTSTART:20241103T070000
END:STANDARD
BEGIN:DAYLIGHT
TZOFFSETFROM:-0600
TZOFFSETTO:-0500
TZNAME:CDT
DTSTART:20250309T080000
END:DAYLIGHT
BEGIN:STANDARD
TZOFFSETFROM:-0500
TZOFFSETTO:-0600
TZNAME:CST
DTSTART:20251102T070000
END:STANDARD
END:VTIMEZONE
BEGIN:VEVENT
DTSTART;TZID=America/Chicago:20250826T070000
DTEND;TZID=America/Chicago:20250826T100000
DTSTAMP:20260422T092940
CREATED:20250612T114534Z
LAST-MODIFIED:20250612T114534Z
UID:10000694-1756191600-1756202400@visitcolumbusms.org
SUMMARY:Hitching Lot Farmers' Market
DESCRIPTION:
URL:https://visitcolumbusms.org/event/hitching-lot-farmers-market-6/2025-08-26/
LOCATION:Hitching Lot Farmers Market\, Corner of 2nd Street and Avenue North\, Columbus\, MS\, 39701\, United States
CATEGORIES:Community Event,Family Fun,Food
GEO:33.4956744;-88.4272627
X-APPLE-STRUCTURED-LOCATION;VALUE=URI;X-ADDRESS=Hitching Lot Farmers Market Corner of 2nd Street and Avenue North Columbus MS 39701 United States;X-APPLE-RADIUS=500;X-TITLE=Corner of 2nd Street and Avenue North:geo:-88.4272627,33.4956744
END:VEVENT
BEGIN:VEVENT
DTSTART;TZID=America/Chicago:20250823T070000
DTEND;TZID=America/Chicago:20250823T100000
DTSTAMP:20260422T092940
CREATED:20250612T114534Z
LAST-MODIFIED:20250612T114534Z
UID:10000693-1755932400-1755943200@visitcolumbusms.org
SUMMARY:Hitching Lot Farmers' Market
DESCRIPTION:
URL:https://visitcolumbusms.org/event/hitching-lot-farmers-market-6/2025-08-23/
LOCATION:Hitching Lot Farmers Market\, Corner of 2nd Street and Avenue North\, Columbus\, MS\, 39701\, United States
CATEGORIES:Community Event,Family Fun,Food
GEO:33.4956744;-88.4272627
X-APPLE-STRUCTURED-LOCATION;VALUE=URI;X-ADDRESS=Hitching Lot Farmers Market Corner of 2nd Street and Avenue North Columbus MS 39701 United States;X-APPLE-RADIUS=500;X-TITLE=Corner of 2nd Street and Avenue North:geo:-88.4272627,33.4956744
END:VEVENT
BEGIN:VEVENT
DTSTART;TZID=America/Chicago:20250819T070000
DTEND;TZID=America/Chicago:20250819T100000
DTSTAMP:20260422T092940
CREATED:20250612T114534Z
LAST-MODIFIED:20250612T114534Z
UID:10000692-1755586800-1755597600@visitcolumbusms.org
SUMMARY:Hitching Lot Farmers' Market
DESCRIPTION:
URL:https://visitcolumbusms.org/event/hitching-lot-farmers-market-6/2025-08-19/
LOCATION:Hitching Lot Farmers Market\, Corner of 2nd Street and Avenue North\, Columbus\, MS\, 39701\, United States
CATEGORIES:Community Event,Family Fun,Food
GEO:33.4956744;-88.4272627
X-APPLE-STRUCTURED-LOCATION;VALUE=URI;X-ADDRESS=Hitching Lot Farmers Market Corner of 2nd Street and Avenue North Columbus MS 39701 United States;X-APPLE-RADIUS=500;X-TITLE=Corner of 2nd Street and Avenue North:geo:-88.4272627,33.4956744
END:VEVENT
BEGIN:VEVENT
DTSTART;TZID=America/Chicago:20250816T070000
DTEND;TZID=America/Chicago:20250816T100000
DTSTAMP:20260422T092940
CREATED:20250612T114534Z
LAST-MODIFIED:20250612T114534Z
UID:10000691-1755327600-1755338400@visitcolumbusms.org
SUMMARY:Hitching Lot Farmers' Market
DESCRIPTION:
URL:https://visitcolumbusms.org/event/hitching-lot-farmers-market-6/2025-08-16/
LOCATION:Hitching Lot Farmers Market\, Corner of 2nd Street and Avenue North\, Columbus\, MS\, 39701\, United States
CATEGORIES:Community Event,Family Fun,Food
GEO:33.4956744;-88.4272627
X-APPLE-STRUCTURED-LOCATION;VALUE=URI;X-ADDRESS=Hitching Lot Farmers Market Corner of 2nd Street and Avenue North Columbus MS 39701 United States;X-APPLE-RADIUS=500;X-TITLE=Corner of 2nd Street and Avenue North:geo:-88.4272627,33.4956744
END:VEVENT
BEGIN:VEVENT
DTSTART;TZID=America/Chicago:20250812T070000
DTEND;TZID=America/Chicago:20250812T100000
DTSTAMP:20260422T092940
CREATED:20250612T114534Z
LAST-MODIFIED:20250612T114534Z
UID:10000690-1754982000-1754992800@visitcolumbusms.org
SUMMARY:Hitching Lot Farmers' Market
DESCRIPTION:
URL:https://visitcolumbusms.org/event/hitching-lot-farmers-market-6/2025-08-12/
LOCATION:Hitching Lot Farmers Market\, Corner of 2nd Street and Avenue North\, Columbus\, MS\, 39701\, United States
CATEGORIES:Community Event,Family Fun,Food
GEO:33.4956744;-88.4272627
X-APPLE-STRUCTURED-LOCATION;VALUE=URI;X-ADDRESS=Hitching Lot Farmers Market Corner of 2nd Street and Avenue North Columbus MS 39701 United States;X-APPLE-RADIUS=500;X-TITLE=Corner of 2nd Street and Avenue North:geo:-88.4272627,33.4956744
END:VEVENT
BEGIN:VEVENT
DTSTART;TZID=America/Chicago:20250809T070000
DTEND;TZID=America/Chicago:20250809T100000
DTSTAMP:20260422T092940
CREATED:20250612T114534Z
LAST-MODIFIED:20250612T114534Z
UID:10000689-1754722800-1754733600@visitcolumbusms.org
SUMMARY:Hitching Lot Farmers' Market
DESCRIPTION:
URL:https://visitcolumbusms.org/event/hitching-lot-farmers-market-6/2025-08-09/
LOCATION:Hitching Lot Farmers Market\, Corner of 2nd Street and Avenue North\, Columbus\, MS\, 39701\, United States
CATEGORIES:Community Event,Family Fun,Food
GEO:33.4956744;-88.4272627
X-APPLE-STRUCTURED-LOCATION;VALUE=URI;X-ADDRESS=Hitching Lot Farmers Market Corner of 2nd Street and Avenue North Columbus MS 39701 United States;X-APPLE-RADIUS=500;X-TITLE=Corner of 2nd Street and Avenue North:geo:-88.4272627,33.4956744
END:VEVENT
BEGIN:VEVENT
DTSTART;TZID=America/Chicago:20250805T070000
DTEND;TZID=America/Chicago:20250805T100000
DTSTAMP:20260422T092940
CREATED:20250612T114534Z
LAST-MODIFIED:20250612T114534Z
UID:10000688-1754377200-1754388000@visitcolumbusms.org
SUMMARY:Hitching Lot Farmers' Market
DESCRIPTION:
URL:https://visitcolumbusms.org/event/hitching-lot-farmers-market-6/2025-08-05/
LOCATION:Hitching Lot Farmers Market\, Corner of 2nd Street and Avenue North\, Columbus\, MS\, 39701\, United States
CATEGORIES:Community Event,Family Fun,Food
GEO:33.4956744;-88.4272627
X-APPLE-STRUCTURED-LOCATION;VALUE=URI;X-ADDRESS=Hitching Lot Farmers Market Corner of 2nd Street and Avenue North Columbus MS 39701 United States;X-APPLE-RADIUS=500;X-TITLE=Corner of 2nd Street and Avenue North:geo:-88.4272627,33.4956744
END:VEVENT
BEGIN:VEVENT
DTSTART;TZID=America/Chicago:20250802T070000
DTEND;TZID=America/Chicago:20250802T100000
DTSTAMP:20260422T092940
CREATED:20250612T114534Z
LAST-MODIFIED:20250612T114534Z
UID:10000687-1754118000-1754128800@visitcolumbusms.org
SUMMARY:Hitching Lot Farmers' Market
DESCRIPTION:
URL:https://visitcolumbusms.org/event/hitching-lot-farmers-market-6/2025-08-02/
LOCATION:Hitching Lot Farmers Market\, Corner of 2nd Street and Avenue North\, Columbus\, MS\, 39701\, United States
CATEGORIES:Community Event,Family Fun,Food
GEO:33.4956744;-88.4272627
X-APPLE-STRUCTURED-LOCATION;VALUE=URI;X-ADDRESS=Hitching Lot Farmers Market Corner of 2nd Street and Avenue North Columbus MS 39701 United States;X-APPLE-RADIUS=500;X-TITLE=Corner of 2nd Street and Avenue North:geo:-88.4272627,33.4956744
END:VEVENT
BEGIN:VEVENT
DTSTART;TZID=America/Chicago:20250729T070000
DTEND;TZID=America/Chicago:20250729T100000
DTSTAMP:20260422T092940
CREATED:20250612T114534Z
LAST-MODIFIED:20250612T114534Z
UID:10000686-1753772400-1753783200@visitcolumbusms.org
SUMMARY:Hitching Lot Farmers' Market
DESCRIPTION:
URL:https://visitcolumbusms.org/event/hitching-lot-farmers-market-6/2025-07-29/
LOCATION:Hitching Lot Farmers Market\, Corner of 2nd Street and Avenue North\, Columbus\, MS\, 39701\, United States
CATEGORIES:Community Event,Family Fun,Food
GEO:33.4956744;-88.4272627
X-APPLE-STRUCTURED-LOCATION;VALUE=URI;X-ADDRESS=Hitching Lot Farmers Market Corner of 2nd Street and Avenue North Columbus MS 39701 United States;X-APPLE-RADIUS=500;X-TITLE=Corner of 2nd Street and Avenue North:geo:-88.4272627,33.4956744
END:VEVENT
BEGIN:VEVENT
DTSTART;TZID=America/Chicago:20250726T070000
DTEND;TZID=America/Chicago:20250726T100000
DTSTAMP:20260422T092940
CREATED:20250612T114534Z
LAST-MODIFIED:20250612T114534Z
UID:10000685-1753513200-1753524000@visitcolumbusms.org
SUMMARY:Hitching Lot Farmers' Market
DESCRIPTION:
URL:https://visitcolumbusms.org/event/hitching-lot-farmers-market-6/2025-07-26/
LOCATION:Hitching Lot Farmers Market\, Corner of 2nd Street and Avenue North\, Columbus\, MS\, 39701\, United States
CATEGORIES:Community Event,Family Fun,Food
GEO:33.4956744;-88.4272627
X-APPLE-STRUCTURED-LOCATION;VALUE=URI;X-ADDRESS=Hitching Lot Farmers Market Corner of 2nd Street and Avenue North Columbus MS 39701 United States;X-APPLE-RADIUS=500;X-TITLE=Corner of 2nd Street and Avenue North:geo:-88.4272627,33.4956744
END:VEVENT
BEGIN:VEVENT
DTSTART;TZID=America/Chicago:20250722T070000
DTEND;TZID=America/Chicago:20250722T100000
DTSTAMP:20260422T092940
CREATED:20250612T114534Z
LAST-MODIFIED:20250612T114534Z
UID:10000684-1753167600-1753178400@visitcolumbusms.org
SUMMARY:Hitching Lot Farmers' Market
DESCRIPTION:
URL:https://visitcolumbusms.org/event/hitching-lot-farmers-market-6/2025-07-22/
LOCATION:Hitching Lot Farmers Market\, Corner of 2nd Street and Avenue North\, Columbus\, MS\, 39701\, United States
CATEGORIES:Community Event,Family Fun,Food
GEO:33.4956744;-88.4272627
X-APPLE-STRUCTURED-LOCATION;VALUE=URI;X-ADDRESS=Hitching Lot Farmers Market Corner of 2nd Street and Avenue North Columbus MS 39701 United States;X-APPLE-RADIUS=500;X-TITLE=Corner of 2nd Street and Avenue North:geo:-88.4272627,33.4956744
END:VEVENT
BEGIN:VEVENT
DTSTART;TZID=America/Chicago:20250719T070000
DTEND;TZID=America/Chicago:20250719T100000
DTSTAMP:20260422T092940
CREATED:20250612T114534Z
LAST-MODIFIED:20250612T114534Z
UID:10000683-1752908400-1752919200@visitcolumbusms.org
SUMMARY:Hitching Lot Farmers' Market
DESCRIPTION:
URL:https://visitcolumbusms.org/event/hitching-lot-farmers-market-6/2025-07-19/
LOCATION:Hitching Lot Farmers Market\, Corner of 2nd Street and Avenue North\, Columbus\, MS\, 39701\, United States
CATEGORIES:Community Event,Family Fun,Food
GEO:33.4956744;-88.4272627
X-APPLE-STRUCTURED-LOCATION;VALUE=URI;X-ADDRESS=Hitching Lot Farmers Market Corner of 2nd Street and Avenue North Columbus MS 39701 United States;X-APPLE-RADIUS=500;X-TITLE=Corner of 2nd Street and Avenue North:geo:-88.4272627,33.4956744
END:VEVENT
BEGIN:VEVENT
DTSTART;TZID=America/Chicago:20250715T070000
DTEND;TZID=America/Chicago:20250715T100000
DTSTAMP:20260422T092940
CREATED:20250612T114534Z
LAST-MODIFIED:20250612T114534Z
UID:10000682-1752562800-1752573600@visitcolumbusms.org
SUMMARY:Hitching Lot Farmers' Market
DESCRIPTION:
URL:https://visitcolumbusms.org/event/hitching-lot-farmers-market-6/2025-07-15/
LOCATION:Hitching Lot Farmers Market\, Corner of 2nd Street and Avenue North\, Columbus\, MS\, 39701\, United States
CATEGORIES:Community Event,Family Fun,Food
GEO:33.4956744;-88.4272627
X-APPLE-STRUCTURED-LOCATION;VALUE=URI;X-ADDRESS=Hitching Lot Farmers Market Corner of 2nd Street and Avenue North Columbus MS 39701 United States;X-APPLE-RADIUS=500;X-TITLE=Corner of 2nd Street and Avenue North:geo:-88.4272627,33.4956744
END:VEVENT
BEGIN:VEVENT
DTSTART;TZID=America/Chicago:20250712T070000
DTEND;TZID=America/Chicago:20250712T100000
DTSTAMP:20260422T092940
CREATED:20250612T114534Z
LAST-MODIFIED:20250612T114534Z
UID:10000681-1752303600-1752314400@visitcolumbusms.org
SUMMARY:Hitching Lot Farmers' Market
DESCRIPTION:
URL:https://visitcolumbusms.org/event/hitching-lot-farmers-market-6/2025-07-12/
LOCATION:Hitching Lot Farmers Market\, Corner of 2nd Street and Avenue North\, Columbus\, MS\, 39701\, United States
CATEGORIES:Community Event,Family Fun,Food
GEO:33.4956744;-88.4272627
X-APPLE-STRUCTURED-LOCATION;VALUE=URI;X-ADDRESS=Hitching Lot Farmers Market Corner of 2nd Street and Avenue North Columbus MS 39701 United States;X-APPLE-RADIUS=500;X-TITLE=Corner of 2nd Street and Avenue North:geo:-88.4272627,33.4956744
END:VEVENT
BEGIN:VEVENT
DTSTART;TZID=America/Chicago:20250708T070000
DTEND;TZID=America/Chicago:20250708T100000
DTSTAMP:20260422T092940
CREATED:20250612T114534Z
LAST-MODIFIED:20250612T114534Z
UID:10000680-1751958000-1751968800@visitcolumbusms.org
SUMMARY:Hitching Lot Farmers' Market
DESCRIPTION:
URL:https://visitcolumbusms.org/event/hitching-lot-farmers-market-6/2025-07-08/
LOCATION:Hitching Lot Farmers Market\, Corner of 2nd Street and Avenue North\, Columbus\, MS\, 39701\, United States
CATEGORIES:Community Event,Family Fun,Food
GEO:33.4956744;-88.4272627
X-APPLE-STRUCTURED-LOCATION;VALUE=URI;X-ADDRESS=Hitching Lot Farmers Market Corner of 2nd Street and Avenue North Columbus MS 39701 United States;X-APPLE-RADIUS=500;X-TITLE=Corner of 2nd Street and Avenue North:geo:-88.4272627,33.4956744
END:VEVENT
BEGIN:VEVENT
DTSTART;TZID=America/Chicago:20250705T070000
DTEND;TZID=America/Chicago:20250705T100000
DTSTAMP:20260422T092940
CREATED:20250612T114534Z
LAST-MODIFIED:20250612T114534Z
UID:10000679-1751698800-1751709600@visitcolumbusms.org
SUMMARY:Hitching Lot Farmers' Market
DESCRIPTION:
URL:https://visitcolumbusms.org/event/hitching-lot-farmers-market-6/2025-07-05/
LOCATION:Hitching Lot Farmers Market\, Corner of 2nd Street and Avenue North\, Columbus\, MS\, 39701\, United States
CATEGORIES:Community Event,Family Fun,Food
GEO:33.4956744;-88.4272627
X-APPLE-STRUCTURED-LOCATION;VALUE=URI;X-ADDRESS=Hitching Lot Farmers Market Corner of 2nd Street and Avenue North Columbus MS 39701 United States;X-APPLE-RADIUS=500;X-TITLE=Corner of 2nd Street and Avenue North:geo:-88.4272627,33.4956744
END:VEVENT
BEGIN:VEVENT
DTSTART;TZID=America/Chicago:20250704T170000
DTEND;TZID=America/Chicago:20250704T220000
DTSTAMP:20260422T092940
CREATED:20250621T125101Z
LAST-MODIFIED:20250621T134111Z
UID:10000707-1751648400-1751666400@visitcolumbusms.org
SUMMARY:Fireworks on the Water
DESCRIPTION:Fireworks on the Water 2025\, Friday\, July 4th. Gates open at 5:00 PM. Live music\, Food Trucks\, Children’s Activities and Fireworks.
URL:https://visitcolumbusms.org/event/fireworks-on-the-water-3/
LOCATION:Columbus Lake East Bank\, 2463 Lock and Dam Rd\, Columbus\, MS\, 39705\, United States
CATEGORIES:Community Event,Family Fun,Food
ORGANIZER;CN="Visit Columbus":MAILTO:visitcolumbus@visitcolumbusms.org
GEO:33.5244284;-88.4689696
X-APPLE-STRUCTURED-LOCATION;VALUE=URI;X-ADDRESS=Columbus Lake East Bank 2463 Lock and Dam Rd Columbus MS 39705 United States;X-APPLE-RADIUS=500;X-TITLE=2463 Lock and Dam Rd:geo:-88.4689696,33.5244284
END:VEVENT
BEGIN:VEVENT
DTSTART;TZID=America/Chicago:20250703T080000
DTEND;TZID=America/Chicago:20250705T170000
DTSTAMP:20260422T092940
CREATED:20250621T143114Z
LAST-MODIFIED:20250621T143114Z
UID:10000708-1751529600-1751734800@visitcolumbusms.org
SUMMARY:Southside Blues Festival
DESCRIPTION:
URL:https://visitcolumbusms.org/event/southside-blues-festival-3/
LOCATION:Townsend Park\, 826 15th Street South\, Columbus\, MS\, 39701\, United States
CATEGORIES:Community Event,Family Fun,Food,Music
GEO:33.487486;-88.4158762
X-APPLE-STRUCTURED-LOCATION;VALUE=URI;X-ADDRESS=Townsend Park 826 15th Street South Columbus MS 39701 United States;X-APPLE-RADIUS=500;X-TITLE=826 15th Street South:geo:-88.4158762,33.487486
END:VEVENT
BEGIN:VEVENT
DTSTART;TZID=America/Chicago:20250701T070000
DTEND;TZID=America/Chicago:20250701T100000
DTSTAMP:20260422T092940
CREATED:20250612T114534Z
LAST-MODIFIED:20250612T114534Z
UID:10000678-1751353200-1751364000@visitcolumbusms.org
SUMMARY:Hitching Lot Farmers' Market
DESCRIPTION:
URL:https://visitcolumbusms.org/event/hitching-lot-farmers-market-6/2025-07-01/
LOCATION:Hitching Lot Farmers Market\, Corner of 2nd Street and Avenue North\, Columbus\, MS\, 39701\, United States
CATEGORIES:Community Event,Family Fun,Food
GEO:33.4956744;-88.4272627
X-APPLE-STRUCTURED-LOCATION;VALUE=URI;X-ADDRESS=Hitching Lot Farmers Market Corner of 2nd Street and Avenue North Columbus MS 39701 United States;X-APPLE-RADIUS=500;X-TITLE=Corner of 2nd Street and Avenue North:geo:-88.4272627,33.4956744
END:VEVENT
BEGIN:VEVENT
DTSTART;TZID=America/Chicago:20250628T070000
DTEND;TZID=America/Chicago:20250628T100000
DTSTAMP:20260422T092940
CREATED:20250612T114534Z
LAST-MODIFIED:20250612T114534Z
UID:10000677-1751094000-1751104800@visitcolumbusms.org
SUMMARY:Hitching Lot Farmers' Market
DESCRIPTION:
URL:https://visitcolumbusms.org/event/hitching-lot-farmers-market-6/2025-06-28/
LOCATION:Hitching Lot Farmers Market\, Corner of 2nd Street and Avenue North\, Columbus\, MS\, 39701\, United States
CATEGORIES:Community Event,Family Fun,Food
GEO:33.4956744;-88.4272627
X-APPLE-STRUCTURED-LOCATION;VALUE=URI;X-ADDRESS=Hitching Lot Farmers Market Corner of 2nd Street and Avenue North Columbus MS 39701 United States;X-APPLE-RADIUS=500;X-TITLE=Corner of 2nd Street and Avenue North:geo:-88.4272627,33.4956744
END:VEVENT
BEGIN:VEVENT
DTSTART;TZID=America/Chicago:20250624T070000
DTEND;TZID=America/Chicago:20250624T100000
DTSTAMP:20260422T092940
CREATED:20250612T114534Z
LAST-MODIFIED:20250612T114534Z
UID:10000676-1750748400-1750759200@visitcolumbusms.org
SUMMARY:Hitching Lot Farmers' Market
DESCRIPTION:
URL:https://visitcolumbusms.org/event/hitching-lot-farmers-market-6/2025-06-24/
LOCATION:Hitching Lot Farmers Market\, Corner of 2nd Street and Avenue North\, Columbus\, MS\, 39701\, United States
CATEGORIES:Community Event,Family Fun,Food
GEO:33.4956744;-88.4272627
X-APPLE-STRUCTURED-LOCATION;VALUE=URI;X-ADDRESS=Hitching Lot Farmers Market Corner of 2nd Street and Avenue North Columbus MS 39701 United States;X-APPLE-RADIUS=500;X-TITLE=Corner of 2nd Street and Avenue North:geo:-88.4272627,33.4956744
END:VEVENT
BEGIN:VEVENT
DTSTART;TZID=America/Chicago:20250621T070000
DTEND;TZID=America/Chicago:20250621T100000
DTSTAMP:20260422T092940
CREATED:20250612T114534Z
LAST-MODIFIED:20250612T114534Z
UID:10000675-1750489200-1750500000@visitcolumbusms.org
SUMMARY:Hitching Lot Farmers' Market
DESCRIPTION:
URL:https://visitcolumbusms.org/event/hitching-lot-farmers-market-6/2025-06-21/
LOCATION:Hitching Lot Farmers Market\, Corner of 2nd Street and Avenue North\, Columbus\, MS\, 39701\, United States
CATEGORIES:Community Event,Family Fun,Food
GEO:33.4956744;-88.4272627
X-APPLE-STRUCTURED-LOCATION;VALUE=URI;X-ADDRESS=Hitching Lot Farmers Market Corner of 2nd Street and Avenue North Columbus MS 39701 United States;X-APPLE-RADIUS=500;X-TITLE=Corner of 2nd Street and Avenue North:geo:-88.4272627,33.4956744
END:VEVENT
BEGIN:VEVENT
DTSTART;TZID=America/Chicago:20250617T070000
DTEND;TZID=America/Chicago:20250617T100000
DTSTAMP:20260422T092940
CREATED:20250612T114534Z
LAST-MODIFIED:20250612T114534Z
UID:10000674-1750143600-1750154400@visitcolumbusms.org
SUMMARY:Hitching Lot Farmers' Market
DESCRIPTION:
URL:https://visitcolumbusms.org/event/hitching-lot-farmers-market-6/2025-06-17/
LOCATION:Hitching Lot Farmers Market\, Corner of 2nd Street and Avenue North\, Columbus\, MS\, 39701\, United States
CATEGORIES:Community Event,Family Fun,Food
GEO:33.4956744;-88.4272627
X-APPLE-STRUCTURED-LOCATION;VALUE=URI;X-ADDRESS=Hitching Lot Farmers Market Corner of 2nd Street and Avenue North Columbus MS 39701 United States;X-APPLE-RADIUS=500;X-TITLE=Corner of 2nd Street and Avenue North:geo:-88.4272627,33.4956744
END:VEVENT
BEGIN:VEVENT
DTSTART;TZID=America/Chicago:20250614T070000
DTEND;TZID=America/Chicago:20250614T100000
DTSTAMP:20260422T092940
CREATED:20250612T114534Z
LAST-MODIFIED:20250612T114534Z
UID:10000673-1749884400-1749895200@visitcolumbusms.org
SUMMARY:Hitching Lot Farmers' Market
DESCRIPTION:
URL:https://visitcolumbusms.org/event/hitching-lot-farmers-market-6/2025-06-14/
LOCATION:Hitching Lot Farmers Market\, Corner of 2nd Street and Avenue North\, Columbus\, MS\, 39701\, United States
CATEGORIES:Community Event,Family Fun,Food
GEO:33.4956744;-88.4272627
X-APPLE-STRUCTURED-LOCATION;VALUE=URI;X-ADDRESS=Hitching Lot Farmers Market Corner of 2nd Street and Avenue North Columbus MS 39701 United States;X-APPLE-RADIUS=500;X-TITLE=Corner of 2nd Street and Avenue North:geo:-88.4272627,33.4956744
END:VEVENT
BEGIN:VEVENT
DTSTART;TZID=America/Chicago:20250503T090000
DTEND;TZID=America/Chicago:20250503T170000
DTSTAMP:20260422T092940
CREATED:20250324T151542Z
LAST-MODIFIED:20250324T152132Z
UID:10000481-1746262800-1746291600@visitcolumbusms.org
SUMMARY:Market Street Festival
DESCRIPTION:
URL:https://visitcolumbusms.org/event/market-street-festival-3/
LOCATION:Downtown Columbus\, 107 5th St S\, Columbus\, MS\, 39701\, United States
CATEGORIES:Community Event,Family Fun,Food
GEO:33.4947766;-88.4278745
X-APPLE-STRUCTURED-LOCATION;VALUE=URI;X-ADDRESS=Downtown Columbus 107 5th St S Columbus MS 39701 United States;X-APPLE-RADIUS=500;X-TITLE=107 5th St S:geo:-88.4278745,33.4947766
END:VEVENT
BEGIN:VEVENT
DTSTART;TZID=America/Chicago:20250214T120000
DTEND;TZID=America/Chicago:20250214T133000
DTSTAMP:20260422T092940
CREATED:20250210T230132Z
LAST-MODIFIED:20250210T230132Z
UID:10000654-1739534400-1739539800@visitcolumbusms.org
SUMMARY:Valentine's Day Brunch & Demonstration
DESCRIPTION:
URL:https://visitcolumbusms.org/event/valentines-day-brunch-demonstration/
LOCATION:The W\, 1100 College Street\, Columbus\, MS\, 39701\, United States
CATEGORIES:Community Event,Food
GEO:33.4947336;-88.4188373
X-APPLE-STRUCTURED-LOCATION;VALUE=URI;X-ADDRESS=The W 1100 College Street Columbus MS 39701 United States;X-APPLE-RADIUS=500;X-TITLE=1100 College Street:geo:-88.4188373,33.4947336
END:VEVENT
BEGIN:VEVENT
DTSTART;TZID=America/Chicago:20241109T170000
DTEND;TZID=America/Chicago:20241109T200000
DTSTAMP:20260422T092940
CREATED:20241106T034332Z
LAST-MODIFIED:20241106T034332Z
UID:10000628-1731171600-1731182400@visitcolumbusms.org
SUMMARY:Chili Cook Off & Food Drive
DESCRIPTION:
URL:https://visitcolumbusms.org/event/chili-cook-off-food-drive/
LOCATION:Munson and Brothers\, 301 2nd Avenue North\, Columbus\, MS\, 39701\, United States
CATEGORIES:Community Event,Food
GEO:33.4961922;-88.4307651
X-APPLE-STRUCTURED-LOCATION;VALUE=URI;X-ADDRESS=Munson and Brothers 301 2nd Avenue North Columbus MS 39701 United States;X-APPLE-RADIUS=500;X-TITLE=301 2nd Avenue North:geo:-88.4307651,33.4961922
END:VEVENT
BEGIN:VEVENT
DTSTART;TZID=America/Chicago:20241018T080000
DTEND;TZID=America/Chicago:20241019T170000
DTSTAMP:20260422T092940
CREATED:20240919T023349Z
LAST-MODIFIED:20240919T023349Z
UID:10000401-1729238400-1729357200@visitcolumbusms.org
SUMMARY:Roast 'N Boast
DESCRIPTION:
URL:https://visitcolumbusms.org/event/roast-n-boast-3/
LOCATION:Columbus Fairgrounds\, 764 Highway 69 S\, Columbus\, MS\, 39702\, United States
CATEGORIES:Community Event,Food
ORGANIZER;CN="Roast 'N Boast":MAILTO:roastnboastcolumbus@gmail.com
GEO:33.484325;-88.3896219
X-APPLE-STRUCTURED-LOCATION;VALUE=URI;X-ADDRESS=Columbus Fairgrounds 764 Highway 69 S Columbus MS 39702 United States;X-APPLE-RADIUS=500;X-TITLE=764 Highway 69 S:geo:-88.3896219,33.484325
END:VEVENT
BEGIN:VEVENT
DTSTART;TZID=America/Chicago:20241005T110000
DTEND;TZID=America/Chicago:20241006T180000
DTSTAMP:20260422T092940
CREATED:20240806T220329Z
LAST-MODIFIED:20240918T030109Z
UID:10000597-1728126000-1728237600@visitcolumbusms.org
SUMMARY:Octoberfest 2024
DESCRIPTION:
URL:https://visitcolumbusms.org/event/octoberfest-2024/
LOCATION:Munson and Brothers\, 301 2nd Avenue North\, Columbus\, MS\, 39701\, United States
CATEGORIES:Community Event,Food,Music
GEO:33.4961922;-88.4307651
X-APPLE-STRUCTURED-LOCATION;VALUE=URI;X-ADDRESS=Munson and Brothers 301 2nd Avenue North Columbus MS 39701 United States;X-APPLE-RADIUS=500;X-TITLE=301 2nd Avenue North:geo:-88.4307651,33.4961922
END:VEVENT
BEGIN:VEVENT
DTSTART;TZID=America/Chicago:20240711T170000
DTEND;TZID=America/Chicago:20240713T170000
DTSTAMP:20260422T092940
CREATED:20240701T142614Z
LAST-MODIFIED:20240701T142614Z
UID:10000393-1720717200-1720890000@visitcolumbusms.org
SUMMARY:Crawford Days
DESCRIPTION:Festival celebrating the Crawford community with live entertainment\, food vendors and children’s activities.
URL:https://visitcolumbusms.org/event/crawford-days/
LOCATION:Crawford\, MS\, Crawford\, MS\, 39743\, United States
CATEGORIES:Community Event,Family Fun,Food,Music
GEO:33.301512;-88.6147687
END:VEVENT
END:VCALENDAR