BEGIN:VCALENDAR
VERSION:2.0
PRODID:-//Columbus MS - ECPv6.10.1.1//NONSGML v1.0//EN
CALSCALE:GREGORIAN
METHOD:PUBLISH
X-ORIGINAL-URL:https://visitcolumbusms.org
X-WR-CALDESC:Events for Columbus MS
REFRESH-INTERVAL;VALUE=DURATION:PT1H
X-Robots-Tag:noindex
X-PUBLISHED-TTL:PT1H
BEGIN:VTIMEZONE
TZID:America/Chicago
BEGIN:DAYLIGHT
TZOFFSETFROM:-0600
TZOFFSETTO:-0500
TZNAME:CDT
DTSTART:20260308T080000
END:DAYLIGHT
BEGIN:STANDARD
TZOFFSETFROM:-0500
TZOFFSETTO:-0600
TZNAME:CST
DTSTART:20261101T070000
END:STANDARD
END:VTIMEZONE
BEGIN:VEVENT
DTSTART;TZID=America/Chicago:20260912T070000
DTEND;TZID=America/Chicago:20260912T100000
DTSTAMP:20260424T032858
CREATED:20260423T190247Z
LAST-MODIFIED:20260423T190424Z
UID:10001021-1789196400-1789207200@visitcolumbusms.org
SUMMARY:Hitching Lot Farmers' Market
DESCRIPTION:
URL:https://visitcolumbusms.org/event/hitching-lot-farmers-market-8/2026-09-12/
LOCATION:Hitching Lot Farmers Market\, Corner of 2nd Street and Avenue North\, Columbus\, MS\, 39701\, United States
CATEGORIES:Community Event,Food
GEO:33.4956744;-88.4272627
X-APPLE-STRUCTURED-LOCATION;VALUE=URI;X-ADDRESS=Hitching Lot Farmers Market Corner of 2nd Street and Avenue North Columbus MS 39701 United States;X-APPLE-RADIUS=500;X-TITLE=Corner of 2nd Street and Avenue North:geo:-88.4272627,33.4956744
END:VEVENT
BEGIN:VEVENT
DTSTART;TZID=America/Chicago:20260919T070000
DTEND;TZID=America/Chicago:20260919T100000
DTSTAMP:20260424T032858
CREATED:20260423T190247Z
LAST-MODIFIED:20260423T190424Z
UID:10001022-1789801200-1789812000@visitcolumbusms.org
SUMMARY:Hitching Lot Farmers' Market
DESCRIPTION:
URL:https://visitcolumbusms.org/event/hitching-lot-farmers-market-8/2026-09-19/
LOCATION:Hitching Lot Farmers Market\, Corner of 2nd Street and Avenue North\, Columbus\, MS\, 39701\, United States
CATEGORIES:Community Event,Food
GEO:33.4956744;-88.4272627
X-APPLE-STRUCTURED-LOCATION;VALUE=URI;X-ADDRESS=Hitching Lot Farmers Market Corner of 2nd Street and Avenue North Columbus MS 39701 United States;X-APPLE-RADIUS=500;X-TITLE=Corner of 2nd Street and Avenue North:geo:-88.4272627,33.4956744
END:VEVENT
BEGIN:VEVENT
DTSTART;TZID=America/Chicago:20260926T070000
DTEND;TZID=America/Chicago:20260926T100000
DTSTAMP:20260424T032858
CREATED:20260423T190247Z
LAST-MODIFIED:20260423T190424Z
UID:10001023-1790406000-1790416800@visitcolumbusms.org
SUMMARY:Hitching Lot Farmers' Market
DESCRIPTION:
URL:https://visitcolumbusms.org/event/hitching-lot-farmers-market-8/2026-09-26/
LOCATION:Hitching Lot Farmers Market\, Corner of 2nd Street and Avenue North\, Columbus\, MS\, 39701\, United States
CATEGORIES:Community Event,Food
GEO:33.4956744;-88.4272627
X-APPLE-STRUCTURED-LOCATION;VALUE=URI;X-ADDRESS=Hitching Lot Farmers Market Corner of 2nd Street and Avenue North Columbus MS 39701 United States;X-APPLE-RADIUS=500;X-TITLE=Corner of 2nd Street and Avenue North:geo:-88.4272627,33.4956744
END:VEVENT
BEGIN:VEVENT
DTSTART;TZID=America/Chicago:20261003T070000
DTEND;TZID=America/Chicago:20261003T100000
DTSTAMP:20260424T032858
CREATED:20260423T190247Z
LAST-MODIFIED:20260423T190424Z
UID:10001024-1791010800-1791021600@visitcolumbusms.org
SUMMARY:Hitching Lot Farmers' Market
DESCRIPTION:
URL:https://visitcolumbusms.org/event/hitching-lot-farmers-market-8/2026-10-03/
LOCATION:Hitching Lot Farmers Market\, Corner of 2nd Street and Avenue North\, Columbus\, MS\, 39701\, United States
CATEGORIES:Community Event,Food
GEO:33.4956744;-88.4272627
X-APPLE-STRUCTURED-LOCATION;VALUE=URI;X-ADDRESS=Hitching Lot Farmers Market Corner of 2nd Street and Avenue North Columbus MS 39701 United States;X-APPLE-RADIUS=500;X-TITLE=Corner of 2nd Street and Avenue North:geo:-88.4272627,33.4956744
END:VEVENT
BEGIN:VEVENT
DTSTART;TZID=America/Chicago:20261010T070000
DTEND;TZID=America/Chicago:20261010T100000
DTSTAMP:20260424T032858
CREATED:20260423T190247Z
LAST-MODIFIED:20260423T190424Z
UID:10001025-1791615600-1791626400@visitcolumbusms.org
SUMMARY:Hitching Lot Farmers' Market
DESCRIPTION:
URL:https://visitcolumbusms.org/event/hitching-lot-farmers-market-8/2026-10-10/
LOCATION:Hitching Lot Farmers Market\, Corner of 2nd Street and Avenue North\, Columbus\, MS\, 39701\, United States
CATEGORIES:Community Event,Food
GEO:33.4956744;-88.4272627
X-APPLE-STRUCTURED-LOCATION;VALUE=URI;X-ADDRESS=Hitching Lot Farmers Market Corner of 2nd Street and Avenue North Columbus MS 39701 United States;X-APPLE-RADIUS=500;X-TITLE=Corner of 2nd Street and Avenue North:geo:-88.4272627,33.4956744
END:VEVENT
BEGIN:VEVENT
DTSTART;TZID=America/Chicago:20261017T070000
DTEND;TZID=America/Chicago:20261017T100000
DTSTAMP:20260424T032858
CREATED:20260423T190247Z
LAST-MODIFIED:20260423T190424Z
UID:10001026-1792220400-1792231200@visitcolumbusms.org
SUMMARY:Hitching Lot Farmers' Market
DESCRIPTION:
URL:https://visitcolumbusms.org/event/hitching-lot-farmers-market-8/2026-10-17/
LOCATION:Hitching Lot Farmers Market\, Corner of 2nd Street and Avenue North\, Columbus\, MS\, 39701\, United States
CATEGORIES:Community Event,Food
GEO:33.4956744;-88.4272627
X-APPLE-STRUCTURED-LOCATION;VALUE=URI;X-ADDRESS=Hitching Lot Farmers Market Corner of 2nd Street and Avenue North Columbus MS 39701 United States;X-APPLE-RADIUS=500;X-TITLE=Corner of 2nd Street and Avenue North:geo:-88.4272627,33.4956744
END:VEVENT
BEGIN:VEVENT
DTSTART;TZID=America/Chicago:20261024T070000
DTEND;TZID=America/Chicago:20261024T100000
DTSTAMP:20260424T032858
CREATED:20260423T190247Z
LAST-MODIFIED:20260423T190424Z
UID:10001027-1792825200-1792836000@visitcolumbusms.org
SUMMARY:Hitching Lot Farmers' Market
DESCRIPTION:
URL:https://visitcolumbusms.org/event/hitching-lot-farmers-market-8/2026-10-24/
LOCATION:Hitching Lot Farmers Market\, Corner of 2nd Street and Avenue North\, Columbus\, MS\, 39701\, United States
CATEGORIES:Community Event,Food
GEO:33.4956744;-88.4272627
X-APPLE-STRUCTURED-LOCATION;VALUE=URI;X-ADDRESS=Hitching Lot Farmers Market Corner of 2nd Street and Avenue North Columbus MS 39701 United States;X-APPLE-RADIUS=500;X-TITLE=Corner of 2nd Street and Avenue North:geo:-88.4272627,33.4956744
END:VEVENT
BEGIN:VEVENT
DTSTART;TZID=America/Chicago:20261031T070000
DTEND;TZID=America/Chicago:20261031T100000
DTSTAMP:20260424T032858
CREATED:20260423T190247Z
LAST-MODIFIED:20260423T190424Z
UID:10001028-1793430000-1793440800@visitcolumbusms.org
SUMMARY:Hitching Lot Farmers' Market
DESCRIPTION:
URL:https://visitcolumbusms.org/event/hitching-lot-farmers-market-8/2026-10-31/
LOCATION:Hitching Lot Farmers Market\, Corner of 2nd Street and Avenue North\, Columbus\, MS\, 39701\, United States
CATEGORIES:Community Event,Food
GEO:33.4956744;-88.4272627
X-APPLE-STRUCTURED-LOCATION;VALUE=URI;X-ADDRESS=Hitching Lot Farmers Market Corner of 2nd Street and Avenue North Columbus MS 39701 United States;X-APPLE-RADIUS=500;X-TITLE=Corner of 2nd Street and Avenue North:geo:-88.4272627,33.4956744
END:VEVENT
END:VCALENDAR