BEGIN:VCALENDAR
VERSION:2.0
PRODID:-//Columbus MS - ECPv6.10.1.1//NONSGML v1.0//EN
CALSCALE:GREGORIAN
METHOD:PUBLISH
X-ORIGINAL-URL:https://visitcolumbusms.org
X-WR-CALDESC:Events for Columbus MS
REFRESH-INTERVAL;VALUE=DURATION:PT1H
X-Robots-Tag:noindex
X-PUBLISHED-TTL:PT1H
BEGIN:VTIMEZONE
TZID:America/Chicago
BEGIN:DAYLIGHT
TZOFFSETFROM:-0600
TZOFFSETTO:-0500
TZNAME:CDT
DTSTART:20180311T080000
END:DAYLIGHT
BEGIN:STANDARD
TZOFFSETFROM:-0500
TZOFFSETTO:-0600
TZNAME:CST
DTSTART:20181104T070000
END:STANDARD
BEGIN:DAYLIGHT
TZOFFSETFROM:-0600
TZOFFSETTO:-0500
TZNAME:CDT
DTSTART:20190310T080000
END:DAYLIGHT
BEGIN:STANDARD
TZOFFSETFROM:-0500
TZOFFSETTO:-0600
TZNAME:CST
DTSTART:20191103T070000
END:STANDARD
TZID:UTC
BEGIN:STANDARD
TZOFFSETFROM:+0000
TZOFFSETTO:+0000
TZNAME:UTC
DTSTART:20180101T000000
END:STANDARD
END:VTIMEZONE
BEGIN:VEVENT
DTSTART;VALUE=DATE:20190511
DTEND;VALUE=DATE:20191027
DTSTAMP:20260422T152344
CREATED:20180129T225129Z
LAST-MODIFIED:20190430T150608Z
UID:10000183-1557532800-1572134399@visitcolumbusms.org
SUMMARY:Hitching Lot Farmers' Market
DESCRIPTION:Join friends and neighbors for the Grand Opening of the Hitching Lot Farmers’ Market on Saturday\, May 11\, 7-10 a.m. \nThe Market is open on Mondays\, 4-6 p.m.; Thursdays\, 7-10 a.m.; and Saturdays\, 7-10 a.m.\, from May to October. \nFor more information\, contact Columbus Main Street\, 662.328.6305.
URL:https://visitcolumbusms.org/event/hitching-lot-farmers-market-3/
LOCATION:Columbus\, MS\, 39701\, United States
CATEGORIES:Family Fun,Food
GEO:33.4956744;-88.4272627
END:VEVENT
BEGIN:VEVENT
DTSTART;TZID=America/Chicago:20181207T170000
DTEND;TZID=America/Chicago:20181207T235900
DTSTAMP:20260422T152344
CREATED:20180521T180752Z
LAST-MODIFIED:20181127T210726Z
UID:10000127-1544202000-1544227140@visitcolumbusms.org
SUMMARY:Wassail Fest
DESCRIPTION:Great night of entertainment with a homemade wassail contest and shopping with downtown merchants. \nFree Admission.For additional information on this or any other Columbus events\, contact Nancy Carpenter\, CEO\, Columbus Convention and Visitors Bureau\, 662.329.1191 or 800.327.2686\, or nancy@visitcolumbusms.org.
URL:https://visitcolumbusms.org/event/wassail-fest/
LOCATION:Downtown Columbus\, 107 5th St S\, Columbus\, MS\, 39701\, United States
CATEGORIES:Arts & Culture,Christmas,Food,Shopping
ATTACH;FMTTYPE=image/jpeg:https://s3.amazonaws.com/media.visitcolumbusms.org/20180521120815/shutterstock_744557014.jpg
GEO:33.4947766;-88.4278745
X-APPLE-STRUCTURED-LOCATION;VALUE=URI;X-ADDRESS=Downtown Columbus 107 5th St S Columbus MS 39701 United States;X-APPLE-RADIUS=500;X-TITLE=107 5th St S:geo:-88.4278745,33.4947766
END:VEVENT
BEGIN:VEVENT
DTSTART;TZID=America/Chicago:20181027T070000
DTEND;TZID=America/Chicago:20181027T100000
DTSTAMP:20260422T152344
CREATED:20180129T224757Z
LAST-MODIFIED:20180517T145645Z
UID:10000217-1540623600-1540634400@visitcolumbusms.org
SUMMARY:Hitching Lot Farmers' Market
DESCRIPTION:Join friends and neighbors at the Hitching Lot Farmers’ Market for fresh locally grown produce\, handmade items\, and home-cooked goodness! Fun activities on Saturdays for the children and young-at-heart. \nThe Market is open April through October (Mon\, 4-6 p.m.; Thu\, 7-10 a.m.; Sat\, 7-10 a.m.). \nFor more information\, contact Columbus Main Street at (662) 328-6305.
URL:https://visitcolumbusms.org/event/hitching-lot-farmers-market/2018-10-27/
LOCATION:MS
CATEGORIES:Family Fun,Food
ATTACH;FMTTYPE=image/png:https://s3.amazonaws.com/media.visitcolumbusms.org/20180306182238/1.png
END:VEVENT
BEGIN:VEVENT
DTSTART;TZID=America/Chicago:20181020T070000
DTEND;TZID=America/Chicago:20181020T100000
DTSTAMP:20260422T152344
CREATED:20180129T224757Z
LAST-MODIFIED:20180517T145645Z
UID:10000216-1540018800-1540029600@visitcolumbusms.org
SUMMARY:Hitching Lot Farmers' Market
DESCRIPTION:Join friends and neighbors at the Hitching Lot Farmers’ Market for fresh locally grown produce\, handmade items\, and home-cooked goodness! Fun activities on Saturdays for the children and young-at-heart. \nThe Market is open April through October (Mon\, 4-6 p.m.; Thu\, 7-10 a.m.; Sat\, 7-10 a.m.). \nFor more information\, contact Columbus Main Street at (662) 328-6305.
URL:https://visitcolumbusms.org/event/hitching-lot-farmers-market/2018-10-20/
LOCATION:MS
CATEGORIES:Family Fun,Food
ATTACH;FMTTYPE=image/png:https://s3.amazonaws.com/media.visitcolumbusms.org/20180306182238/1.png
END:VEVENT
BEGIN:VEVENT
DTSTART;TZID=America/Chicago:20181013T070000
DTEND;TZID=America/Chicago:20181013T100000
DTSTAMP:20260422T152344
CREATED:20180129T224757Z
LAST-MODIFIED:20180517T145645Z
UID:10000215-1539414000-1539424800@visitcolumbusms.org
SUMMARY:Hitching Lot Farmers' Market
DESCRIPTION:Join friends and neighbors at the Hitching Lot Farmers’ Market for fresh locally grown produce\, handmade items\, and home-cooked goodness! Fun activities on Saturdays for the children and young-at-heart. \nThe Market is open April through October (Mon\, 4-6 p.m.; Thu\, 7-10 a.m.; Sat\, 7-10 a.m.). \nFor more information\, contact Columbus Main Street at (662) 328-6305.
URL:https://visitcolumbusms.org/event/hitching-lot-farmers-market/2018-10-13/
LOCATION:MS
CATEGORIES:Family Fun,Food
ATTACH;FMTTYPE=image/png:https://s3.amazonaws.com/media.visitcolumbusms.org/20180306182238/1.png
END:VEVENT
BEGIN:VEVENT
DTSTART;TZID=America/Chicago:20181006T070000
DTEND;TZID=America/Chicago:20181006T100000
DTSTAMP:20260422T152344
CREATED:20180129T224757Z
LAST-MODIFIED:20180517T145645Z
UID:10000214-1538809200-1538820000@visitcolumbusms.org
SUMMARY:Hitching Lot Farmers' Market
DESCRIPTION:Join friends and neighbors at the Hitching Lot Farmers’ Market for fresh locally grown produce\, handmade items\, and home-cooked goodness! Fun activities on Saturdays for the children and young-at-heart. \nThe Market is open April through October (Mon\, 4-6 p.m.; Thu\, 7-10 a.m.; Sat\, 7-10 a.m.). \nFor more information\, contact Columbus Main Street at (662) 328-6305.
URL:https://visitcolumbusms.org/event/hitching-lot-farmers-market/2018-10-06/
LOCATION:MS
CATEGORIES:Family Fun,Food
ATTACH;FMTTYPE=image/png:https://s3.amazonaws.com/media.visitcolumbusms.org/20180306182238/1.png
END:VEVENT
BEGIN:VEVENT
DTSTART;TZID=America/Chicago:20180929T070000
DTEND;TZID=America/Chicago:20180929T100000
DTSTAMP:20260422T152344
CREATED:20180129T224757Z
LAST-MODIFIED:20180517T145645Z
UID:10000213-1538204400-1538215200@visitcolumbusms.org
SUMMARY:Hitching Lot Farmers' Market
DESCRIPTION:Join friends and neighbors at the Hitching Lot Farmers’ Market for fresh locally grown produce\, handmade items\, and home-cooked goodness! Fun activities on Saturdays for the children and young-at-heart. \nThe Market is open April through October (Mon\, 4-6 p.m.; Thu\, 7-10 a.m.; Sat\, 7-10 a.m.). \nFor more information\, contact Columbus Main Street at (662) 328-6305.
URL:https://visitcolumbusms.org/event/hitching-lot-farmers-market/2018-09-29/
LOCATION:MS
CATEGORIES:Family Fun,Food
ATTACH;FMTTYPE=image/png:https://s3.amazonaws.com/media.visitcolumbusms.org/20180306182238/1.png
END:VEVENT
BEGIN:VEVENT
DTSTART;TZID=America/Chicago:20180922T070000
DTEND;TZID=America/Chicago:20180922T100000
DTSTAMP:20260422T152344
CREATED:20180129T224757Z
LAST-MODIFIED:20180517T145645Z
UID:10000212-1537599600-1537610400@visitcolumbusms.org
SUMMARY:Hitching Lot Farmers' Market
DESCRIPTION:Join friends and neighbors at the Hitching Lot Farmers’ Market for fresh locally grown produce\, handmade items\, and home-cooked goodness! Fun activities on Saturdays for the children and young-at-heart. \nThe Market is open April through October (Mon\, 4-6 p.m.; Thu\, 7-10 a.m.; Sat\, 7-10 a.m.). \nFor more information\, contact Columbus Main Street at (662) 328-6305.
URL:https://visitcolumbusms.org/event/hitching-lot-farmers-market/2018-09-22/
LOCATION:MS
CATEGORIES:Family Fun,Food
ATTACH;FMTTYPE=image/png:https://s3.amazonaws.com/media.visitcolumbusms.org/20180306182238/1.png
END:VEVENT
BEGIN:VEVENT
DTSTART;VALUE=DATE:20180921
DTEND;VALUE=DATE:20180923
DTSTAMP:20260422T152344
CREATED:20180322T225958Z
LAST-MODIFIED:20180327T042357Z
UID:10000124-1537488000-1537660799@visitcolumbusms.org
SUMMARY:Roast-N-Boast
DESCRIPTION:Columbus Fairgrounds Festival including live music and a barbecue-cooking contest. \nAdmission
URL:https://visitcolumbusms.org/event/roast-n-boast/2018-09-21/
LOCATION:Columbus Fairgrounds\, 764 Highway 69 S\, Columbus\, MS\, 39702\, United States
CATEGORIES:Food
GEO:33.484325;-88.3896219
X-APPLE-STRUCTURED-LOCATION;VALUE=URI;X-ADDRESS=Columbus Fairgrounds 764 Highway 69 S Columbus MS 39702 United States;X-APPLE-RADIUS=500;X-TITLE=764 Highway 69 S:geo:-88.3896219,33.484325
END:VEVENT
BEGIN:VEVENT
DTSTART;TZID=America/Chicago:20180915T070000
DTEND;TZID=America/Chicago:20180915T100000
DTSTAMP:20260422T152344
CREATED:20180129T224757Z
LAST-MODIFIED:20180517T145645Z
UID:10000211-1536994800-1537005600@visitcolumbusms.org
SUMMARY:Hitching Lot Farmers' Market
DESCRIPTION:Join friends and neighbors at the Hitching Lot Farmers’ Market for fresh locally grown produce\, handmade items\, and home-cooked goodness! Fun activities on Saturdays for the children and young-at-heart. \nThe Market is open April through October (Mon\, 4-6 p.m.; Thu\, 7-10 a.m.; Sat\, 7-10 a.m.). \nFor more information\, contact Columbus Main Street at (662) 328-6305.
URL:https://visitcolumbusms.org/event/hitching-lot-farmers-market/2018-09-15/
LOCATION:MS
CATEGORIES:Family Fun,Food
ATTACH;FMTTYPE=image/png:https://s3.amazonaws.com/media.visitcolumbusms.org/20180306182238/1.png
END:VEVENT
BEGIN:VEVENT
DTSTART;TZID=America/Chicago:20180908T070000
DTEND;TZID=America/Chicago:20180908T100000
DTSTAMP:20260422T152344
CREATED:20180129T224757Z
LAST-MODIFIED:20180517T145645Z
UID:10000210-1536390000-1536400800@visitcolumbusms.org
SUMMARY:Hitching Lot Farmers' Market
DESCRIPTION:Join friends and neighbors at the Hitching Lot Farmers’ Market for fresh locally grown produce\, handmade items\, and home-cooked goodness! Fun activities on Saturdays for the children and young-at-heart. \nThe Market is open April through October (Mon\, 4-6 p.m.; Thu\, 7-10 a.m.; Sat\, 7-10 a.m.). \nFor more information\, contact Columbus Main Street at (662) 328-6305.
URL:https://visitcolumbusms.org/event/hitching-lot-farmers-market/2018-09-08/
LOCATION:MS
CATEGORIES:Family Fun,Food
ATTACH;FMTTYPE=image/png:https://s3.amazonaws.com/media.visitcolumbusms.org/20180306182238/1.png
END:VEVENT
BEGIN:VEVENT
DTSTART;TZID=America/Chicago:20180901T070000
DTEND;TZID=America/Chicago:20180901T100000
DTSTAMP:20260422T152344
CREATED:20180129T224757Z
LAST-MODIFIED:20180517T145645Z
UID:10000209-1535785200-1535796000@visitcolumbusms.org
SUMMARY:Hitching Lot Farmers' Market
DESCRIPTION:Join friends and neighbors at the Hitching Lot Farmers’ Market for fresh locally grown produce\, handmade items\, and home-cooked goodness! Fun activities on Saturdays for the children and young-at-heart. \nThe Market is open April through October (Mon\, 4-6 p.m.; Thu\, 7-10 a.m.; Sat\, 7-10 a.m.). \nFor more information\, contact Columbus Main Street at (662) 328-6305.
URL:https://visitcolumbusms.org/event/hitching-lot-farmers-market/2018-09-01/
LOCATION:MS
CATEGORIES:Family Fun,Food
ATTACH;FMTTYPE=image/png:https://s3.amazonaws.com/media.visitcolumbusms.org/20180306182238/1.png
END:VEVENT
BEGIN:VEVENT
DTSTART;TZID=America/Chicago:20180825T070000
DTEND;TZID=America/Chicago:20180825T100000
DTSTAMP:20260422T152344
CREATED:20180129T224757Z
LAST-MODIFIED:20180517T145645Z
UID:10000208-1535180400-1535191200@visitcolumbusms.org
SUMMARY:Hitching Lot Farmers' Market
DESCRIPTION:Join friends and neighbors at the Hitching Lot Farmers’ Market for fresh locally grown produce\, handmade items\, and home-cooked goodness! Fun activities on Saturdays for the children and young-at-heart. \nThe Market is open April through October (Mon\, 4-6 p.m.; Thu\, 7-10 a.m.; Sat\, 7-10 a.m.). \nFor more information\, contact Columbus Main Street at (662) 328-6305.
URL:https://visitcolumbusms.org/event/hitching-lot-farmers-market/2018-08-25/
LOCATION:MS
CATEGORIES:Family Fun,Food
ATTACH;FMTTYPE=image/png:https://s3.amazonaws.com/media.visitcolumbusms.org/20180306182238/1.png
END:VEVENT
BEGIN:VEVENT
DTSTART;TZID=America/Chicago:20180818T070000
DTEND;TZID=America/Chicago:20180818T100000
DTSTAMP:20260422T152344
CREATED:20180129T224757Z
LAST-MODIFIED:20180517T145645Z
UID:10000207-1534575600-1534586400@visitcolumbusms.org
SUMMARY:Hitching Lot Farmers' Market
DESCRIPTION:Join friends and neighbors at the Hitching Lot Farmers’ Market for fresh locally grown produce\, handmade items\, and home-cooked goodness! Fun activities on Saturdays for the children and young-at-heart. \nThe Market is open April through October (Mon\, 4-6 p.m.; Thu\, 7-10 a.m.; Sat\, 7-10 a.m.). \nFor more information\, contact Columbus Main Street at (662) 328-6305.
URL:https://visitcolumbusms.org/event/hitching-lot-farmers-market/2018-08-18/
LOCATION:MS
CATEGORIES:Family Fun,Food
ATTACH;FMTTYPE=image/png:https://s3.amazonaws.com/media.visitcolumbusms.org/20180306182238/1.png
END:VEVENT
BEGIN:VEVENT
DTSTART;TZID=America/Chicago:20180811T070000
DTEND;TZID=America/Chicago:20180811T100000
DTSTAMP:20260422T152344
CREATED:20180129T224757Z
LAST-MODIFIED:20180517T145645Z
UID:10000206-1533970800-1533981600@visitcolumbusms.org
SUMMARY:Hitching Lot Farmers' Market
DESCRIPTION:Join friends and neighbors at the Hitching Lot Farmers’ Market for fresh locally grown produce\, handmade items\, and home-cooked goodness! Fun activities on Saturdays for the children and young-at-heart. \nThe Market is open April through October (Mon\, 4-6 p.m.; Thu\, 7-10 a.m.; Sat\, 7-10 a.m.). \nFor more information\, contact Columbus Main Street at (662) 328-6305.
URL:https://visitcolumbusms.org/event/hitching-lot-farmers-market/2018-08-11/
LOCATION:MS
CATEGORIES:Family Fun,Food
ATTACH;FMTTYPE=image/png:https://s3.amazonaws.com/media.visitcolumbusms.org/20180306182238/1.png
END:VEVENT
BEGIN:VEVENT
DTSTART;TZID=America/Chicago:20180804T070000
DTEND;TZID=America/Chicago:20180804T100000
DTSTAMP:20260422T152344
CREATED:20180129T224757Z
LAST-MODIFIED:20180517T145645Z
UID:10000205-1533366000-1533376800@visitcolumbusms.org
SUMMARY:Hitching Lot Farmers' Market
DESCRIPTION:Join friends and neighbors at the Hitching Lot Farmers’ Market for fresh locally grown produce\, handmade items\, and home-cooked goodness! Fun activities on Saturdays for the children and young-at-heart. \nThe Market is open April through October (Mon\, 4-6 p.m.; Thu\, 7-10 a.m.; Sat\, 7-10 a.m.). \nFor more information\, contact Columbus Main Street at (662) 328-6305.
URL:https://visitcolumbusms.org/event/hitching-lot-farmers-market/2018-08-04/
LOCATION:MS
CATEGORIES:Family Fun,Food
ATTACH;FMTTYPE=image/png:https://s3.amazonaws.com/media.visitcolumbusms.org/20180306182238/1.png
END:VEVENT
BEGIN:VEVENT
DTSTART;TZID=America/Chicago:20180728T070000
DTEND;TZID=America/Chicago:20180728T100000
DTSTAMP:20260422T152344
CREATED:20180129T224757Z
LAST-MODIFIED:20180517T145645Z
UID:10000204-1532761200-1532772000@visitcolumbusms.org
SUMMARY:Hitching Lot Farmers' Market
DESCRIPTION:Join friends and neighbors at the Hitching Lot Farmers’ Market for fresh locally grown produce\, handmade items\, and home-cooked goodness! Fun activities on Saturdays for the children and young-at-heart. \nThe Market is open April through October (Mon\, 4-6 p.m.; Thu\, 7-10 a.m.; Sat\, 7-10 a.m.). \nFor more information\, contact Columbus Main Street at (662) 328-6305.
URL:https://visitcolumbusms.org/event/hitching-lot-farmers-market/2018-07-28/
LOCATION:MS
CATEGORIES:Family Fun,Food
ATTACH;FMTTYPE=image/png:https://s3.amazonaws.com/media.visitcolumbusms.org/20180306182238/1.png
END:VEVENT
BEGIN:VEVENT
DTSTART;TZID=America/Chicago:20180721T070000
DTEND;TZID=America/Chicago:20180721T100000
DTSTAMP:20260422T152344
CREATED:20180129T224757Z
LAST-MODIFIED:20180517T145645Z
UID:10000203-1532156400-1532167200@visitcolumbusms.org
SUMMARY:Hitching Lot Farmers' Market
DESCRIPTION:Join friends and neighbors at the Hitching Lot Farmers’ Market for fresh locally grown produce\, handmade items\, and home-cooked goodness! Fun activities on Saturdays for the children and young-at-heart. \nThe Market is open April through October (Mon\, 4-6 p.m.; Thu\, 7-10 a.m.; Sat\, 7-10 a.m.). \nFor more information\, contact Columbus Main Street at (662) 328-6305.
URL:https://visitcolumbusms.org/event/hitching-lot-farmers-market/2018-07-21/
LOCATION:MS
CATEGORIES:Family Fun,Food
ATTACH;FMTTYPE=image/png:https://s3.amazonaws.com/media.visitcolumbusms.org/20180306182238/1.png
END:VEVENT
BEGIN:VEVENT
DTSTART;TZID=America/Chicago:20180714T070000
DTEND;TZID=America/Chicago:20180714T100000
DTSTAMP:20260422T152344
CREATED:20180129T224757Z
LAST-MODIFIED:20180517T145645Z
UID:10000202-1531551600-1531562400@visitcolumbusms.org
SUMMARY:Hitching Lot Farmers' Market
DESCRIPTION:Join friends and neighbors at the Hitching Lot Farmers’ Market for fresh locally grown produce\, handmade items\, and home-cooked goodness! Fun activities on Saturdays for the children and young-at-heart. \nThe Market is open April through October (Mon\, 4-6 p.m.; Thu\, 7-10 a.m.; Sat\, 7-10 a.m.). \nFor more information\, contact Columbus Main Street at (662) 328-6305.
URL:https://visitcolumbusms.org/event/hitching-lot-farmers-market/2018-07-14/
LOCATION:MS
CATEGORIES:Family Fun,Food
ATTACH;FMTTYPE=image/png:https://s3.amazonaws.com/media.visitcolumbusms.org/20180306182238/1.png
END:VEVENT
BEGIN:VEVENT
DTSTART;TZID=America/Chicago:20180707T070000
DTEND;TZID=America/Chicago:20180707T100000
DTSTAMP:20260422T152344
CREATED:20180129T224757Z
LAST-MODIFIED:20180517T145645Z
UID:10000201-1530946800-1530957600@visitcolumbusms.org
SUMMARY:Hitching Lot Farmers' Market
DESCRIPTION:Join friends and neighbors at the Hitching Lot Farmers’ Market for fresh locally grown produce\, handmade items\, and home-cooked goodness! Fun activities on Saturdays for the children and young-at-heart. \nThe Market is open April through October (Mon\, 4-6 p.m.; Thu\, 7-10 a.m.; Sat\, 7-10 a.m.). \nFor more information\, contact Columbus Main Street at (662) 328-6305.
URL:https://visitcolumbusms.org/event/hitching-lot-farmers-market/2018-07-07/
LOCATION:MS
CATEGORIES:Family Fun,Food
ATTACH;FMTTYPE=image/png:https://s3.amazonaws.com/media.visitcolumbusms.org/20180306182238/1.png
END:VEVENT
BEGIN:VEVENT
DTSTART;TZID=America/Chicago:20180630T070000
DTEND;TZID=America/Chicago:20180630T100000
DTSTAMP:20260422T152344
CREATED:20180129T224757Z
LAST-MODIFIED:20180517T145645Z
UID:10000200-1530342000-1530352800@visitcolumbusms.org
SUMMARY:Hitching Lot Farmers' Market
DESCRIPTION:Join friends and neighbors at the Hitching Lot Farmers’ Market for fresh locally grown produce\, handmade items\, and home-cooked goodness! Fun activities on Saturdays for the children and young-at-heart. \nThe Market is open April through October (Mon\, 4-6 p.m.; Thu\, 7-10 a.m.; Sat\, 7-10 a.m.). \nFor more information\, contact Columbus Main Street at (662) 328-6305.
URL:https://visitcolumbusms.org/event/hitching-lot-farmers-market/2018-06-30/
LOCATION:MS
CATEGORIES:Family Fun,Food
ATTACH;FMTTYPE=image/png:https://s3.amazonaws.com/media.visitcolumbusms.org/20180306182238/1.png
END:VEVENT
BEGIN:VEVENT
DTSTART;TZID=America/Chicago:20180623T070000
DTEND;TZID=America/Chicago:20180623T100000
DTSTAMP:20260422T152344
CREATED:20180129T224757Z
LAST-MODIFIED:20180517T145645Z
UID:10000199-1529737200-1529748000@visitcolumbusms.org
SUMMARY:Hitching Lot Farmers' Market
DESCRIPTION:Join friends and neighbors at the Hitching Lot Farmers’ Market for fresh locally grown produce\, handmade items\, and home-cooked goodness! Fun activities on Saturdays for the children and young-at-heart. \nThe Market is open April through October (Mon\, 4-6 p.m.; Thu\, 7-10 a.m.; Sat\, 7-10 a.m.). \nFor more information\, contact Columbus Main Street at (662) 328-6305.
URL:https://visitcolumbusms.org/event/hitching-lot-farmers-market/2018-06-23/
LOCATION:MS
CATEGORIES:Family Fun,Food
ATTACH;FMTTYPE=image/png:https://s3.amazonaws.com/media.visitcolumbusms.org/20180306182238/1.png
END:VEVENT
BEGIN:VEVENT
DTSTART;TZID=America/Chicago:20180616T070000
DTEND;TZID=America/Chicago:20180616T100000
DTSTAMP:20260422T152344
CREATED:20180129T224757Z
LAST-MODIFIED:20180517T145645Z
UID:10000198-1529132400-1529143200@visitcolumbusms.org
SUMMARY:Hitching Lot Farmers' Market
DESCRIPTION:Join friends and neighbors at the Hitching Lot Farmers’ Market for fresh locally grown produce\, handmade items\, and home-cooked goodness! Fun activities on Saturdays for the children and young-at-heart. \nThe Market is open April through October (Mon\, 4-6 p.m.; Thu\, 7-10 a.m.; Sat\, 7-10 a.m.). \nFor more information\, contact Columbus Main Street at (662) 328-6305.
URL:https://visitcolumbusms.org/event/hitching-lot-farmers-market/2018-06-16/
LOCATION:MS
CATEGORIES:Family Fun,Food
ATTACH;FMTTYPE=image/png:https://s3.amazonaws.com/media.visitcolumbusms.org/20180306182238/1.png
END:VEVENT
BEGIN:VEVENT
DTSTART;TZID=America/Chicago:20180609T070000
DTEND;TZID=America/Chicago:20180609T100000
DTSTAMP:20260422T152344
CREATED:20180129T224757Z
LAST-MODIFIED:20180517T145645Z
UID:10000197-1528527600-1528538400@visitcolumbusms.org
SUMMARY:Hitching Lot Farmers' Market
DESCRIPTION:Join friends and neighbors at the Hitching Lot Farmers’ Market for fresh locally grown produce\, handmade items\, and home-cooked goodness! Fun activities on Saturdays for the children and young-at-heart. \nThe Market is open April through October (Mon\, 4-6 p.m.; Thu\, 7-10 a.m.; Sat\, 7-10 a.m.). \nFor more information\, contact Columbus Main Street at (662) 328-6305.
URL:https://visitcolumbusms.org/event/hitching-lot-farmers-market/2018-06-09/
LOCATION:MS
CATEGORIES:Family Fun,Food
ATTACH;FMTTYPE=image/png:https://s3.amazonaws.com/media.visitcolumbusms.org/20180306182238/1.png
END:VEVENT
BEGIN:VEVENT
DTSTART;TZID=America/Chicago:20180602T070000
DTEND;TZID=America/Chicago:20180602T100000
DTSTAMP:20260422T152344
CREATED:20180129T224757Z
LAST-MODIFIED:20180517T145645Z
UID:10000196-1527922800-1527933600@visitcolumbusms.org
SUMMARY:Hitching Lot Farmers' Market
DESCRIPTION:Join friends and neighbors at the Hitching Lot Farmers’ Market for fresh locally grown produce\, handmade items\, and home-cooked goodness! Fun activities on Saturdays for the children and young-at-heart. \nThe Market is open April through October (Mon\, 4-6 p.m.; Thu\, 7-10 a.m.; Sat\, 7-10 a.m.). \nFor more information\, contact Columbus Main Street at (662) 328-6305.
URL:https://visitcolumbusms.org/event/hitching-lot-farmers-market/2018-06-02/
LOCATION:MS
CATEGORIES:Family Fun,Food
ATTACH;FMTTYPE=image/png:https://s3.amazonaws.com/media.visitcolumbusms.org/20180306182238/1.png
END:VEVENT
BEGIN:VEVENT
DTSTART;TZID=America/Chicago:20180526T070000
DTEND;TZID=America/Chicago:20180526T100000
DTSTAMP:20260422T152344
CREATED:20180129T224757Z
LAST-MODIFIED:20180517T145645Z
UID:10000195-1527318000-1527328800@visitcolumbusms.org
SUMMARY:Hitching Lot Farmers' Market
DESCRIPTION:Join friends and neighbors at the Hitching Lot Farmers’ Market for fresh locally grown produce\, handmade items\, and home-cooked goodness! Fun activities on Saturdays for the children and young-at-heart. \nThe Market is open April through October (Mon\, 4-6 p.m.; Thu\, 7-10 a.m.; Sat\, 7-10 a.m.). \nFor more information\, contact Columbus Main Street at (662) 328-6305.
URL:https://visitcolumbusms.org/event/hitching-lot-farmers-market/2018-05-26/
LOCATION:MS
CATEGORIES:Family Fun,Food
ATTACH;FMTTYPE=image/png:https://s3.amazonaws.com/media.visitcolumbusms.org/20180306182238/1.png
END:VEVENT
BEGIN:VEVENT
DTSTART;TZID=America/Chicago:20180519T070000
DTEND;TZID=America/Chicago:20180519T100000
DTSTAMP:20260422T152344
CREATED:20180129T224757Z
LAST-MODIFIED:20180517T145645Z
UID:10000194-1526713200-1526724000@visitcolumbusms.org
SUMMARY:Hitching Lot Farmers' Market
DESCRIPTION:Join friends and neighbors at the Hitching Lot Farmers’ Market for fresh locally grown produce\, handmade items\, and home-cooked goodness! Fun activities on Saturdays for the children and young-at-heart. \nThe Market is open April through October (Mon\, 4-6 p.m.; Thu\, 7-10 a.m.; Sat\, 7-10 a.m.). \nFor more information\, contact Columbus Main Street at (662) 328-6305.
URL:https://visitcolumbusms.org/event/hitching-lot-farmers-market/2018-05-19/
LOCATION:MS
CATEGORIES:Family Fun,Food
ATTACH;FMTTYPE=image/png:https://s3.amazonaws.com/media.visitcolumbusms.org/20180306182238/1.png
END:VEVENT
BEGIN:VEVENT
DTSTART;TZID=America/Chicago:20180512T070000
DTEND;TZID=America/Chicago:20180512T100000
DTSTAMP:20260422T152345
CREATED:20180129T224757Z
LAST-MODIFIED:20180517T145645Z
UID:10000193-1526108400-1526119200@visitcolumbusms.org
SUMMARY:Hitching Lot Farmers' Market
DESCRIPTION:Join friends and neighbors at the Hitching Lot Farmers’ Market for fresh locally grown produce\, handmade items\, and home-cooked goodness! Fun activities on Saturdays for the children and young-at-heart. \nThe Market is open April through October (Mon\, 4-6 p.m.; Thu\, 7-10 a.m.; Sat\, 7-10 a.m.). \nFor more information\, contact Columbus Main Street at (662) 328-6305.
URL:https://visitcolumbusms.org/event/hitching-lot-farmers-market/2018-05-12/
LOCATION:MS
CATEGORIES:Family Fun,Food
ATTACH;FMTTYPE=image/png:https://s3.amazonaws.com/media.visitcolumbusms.org/20180306182238/1.png
END:VEVENT
BEGIN:VEVENT
DTSTART;TZID=America/Chicago:20180505T070000
DTEND;TZID=America/Chicago:20180505T100000
DTSTAMP:20260422T152345
CREATED:20180129T224757Z
LAST-MODIFIED:20180517T145645Z
UID:10000192-1525503600-1525514400@visitcolumbusms.org
SUMMARY:Hitching Lot Farmers' Market
DESCRIPTION:Join friends and neighbors at the Hitching Lot Farmers’ Market for fresh locally grown produce\, handmade items\, and home-cooked goodness! Fun activities on Saturdays for the children and young-at-heart. \nThe Market is open April through October (Mon\, 4-6 p.m.; Thu\, 7-10 a.m.; Sat\, 7-10 a.m.). \nFor more information\, contact Columbus Main Street at (662) 328-6305.
URL:https://visitcolumbusms.org/event/hitching-lot-farmers-market/2018-05-05/
LOCATION:MS
CATEGORIES:Family Fun,Food
ATTACH;FMTTYPE=image/png:https://s3.amazonaws.com/media.visitcolumbusms.org/20180306182238/1.png
END:VEVENT
BEGIN:VEVENT
DTSTART;TZID=America/Chicago:20180428T070000
DTEND;TZID=America/Chicago:20180428T100000
DTSTAMP:20260422T152345
CREATED:20180129T224757Z
LAST-MODIFIED:20180517T145645Z
UID:10000191-1524898800-1524909600@visitcolumbusms.org
SUMMARY:Hitching Lot Farmers' Market
DESCRIPTION:Join friends and neighbors at the Hitching Lot Farmers’ Market for fresh locally grown produce\, handmade items\, and home-cooked goodness! Fun activities on Saturdays for the children and young-at-heart. \nThe Market is open April through October (Mon\, 4-6 p.m.; Thu\, 7-10 a.m.; Sat\, 7-10 a.m.). \nFor more information\, contact Columbus Main Street at (662) 328-6305.
URL:https://visitcolumbusms.org/event/hitching-lot-farmers-market/2018-04-28/
LOCATION:MS
CATEGORIES:Family Fun,Food
ATTACH;FMTTYPE=image/png:https://s3.amazonaws.com/media.visitcolumbusms.org/20180306182238/1.png
END:VEVENT
END:VCALENDAR