BEGIN:VCALENDAR
VERSION:2.0
PRODID:-//Columbus MS - ECPv6.10.1.1//NONSGML v1.0//EN
CALSCALE:GREGORIAN
METHOD:PUBLISH
X-WR-CALNAME:Columbus MS
X-ORIGINAL-URL:https://visitcolumbusms.org
X-WR-CALDESC:Events for Columbus MS
REFRESH-INTERVAL;VALUE=DURATION:PT1H
X-Robots-Tag:noindex
X-PUBLISHED-TTL:PT1H
BEGIN:VTIMEZONE
TZID:America/Chicago
BEGIN:DAYLIGHT
TZOFFSETFROM:-0600
TZOFFSETTO:-0500
TZNAME:CDT
DTSTART:20260308T080000
END:DAYLIGHT
BEGIN:STANDARD
TZOFFSETFROM:-0500
TZOFFSETTO:-0600
TZNAME:CST
DTSTART:20261101T070000
END:STANDARD
END:VTIMEZONE
BEGIN:VEVENT
DTSTART;TZID=America/Chicago:20260315T130000
DTEND;TZID=America/Chicago:20260315T170000
DTSTAMP:20260425T090334
CREATED:20260313T171129Z
LAST-MODIFIED:20260313T171852Z
UID:10000861-1773579600-1773594000@visitcolumbusms.org
SUMMARY:Zachary's Pawty Benefiting Operation Colony Cats
DESCRIPTION:
URL:https://visitcolumbusms.org/event/zacharys-pawty-benefiting-operation-colony-cats/
LOCATION:Zachary’s\, 205 N 5th St.\, Columbus\, MS\, 39701\, United States
CATEGORIES:Community Event,Family Fun
END:VEVENT
BEGIN:VEVENT
DTSTART;TZID=America/Chicago:20260313T100000
DTEND;TZID=America/Chicago:20260314T170000
DTSTAMP:20260425T090334
CREATED:20260117T225440Z
LAST-MODIFIED:20260117T232907Z
UID:10000844-1773396000-1773507600@visitcolumbusms.org
SUMMARY:Third Annual New Hope Festival
DESCRIPTION:
URL:https://visitcolumbusms.org/event/third-annual-new-hope-festival/
LOCATION:New Hope Community Center\, 381 Stadium Road\, Columbus\, MS\, 39702\, United States
CATEGORIES:Community Event
GEO:33.4540457;-88.3266122
X-APPLE-STRUCTURED-LOCATION;VALUE=URI;X-ADDRESS=New Hope Community Center 381 Stadium Road Columbus MS 39702 United States;X-APPLE-RADIUS=500;X-TITLE=381 Stadium Road:geo:-88.3266122,33.4540457
END:VEVENT
BEGIN:VEVENT
DTSTART;TZID=America/Chicago:20260313T080000
DTEND;TZID=America/Chicago:20260313T170000
DTSTAMP:20260425T090334
CREATED:20260313T175738Z
LAST-MODIFIED:20260313T175955Z
UID:10000891-1773388800-1773421200@visitcolumbusms.org
SUMMARY:Hitching Lot Farmers Market
DESCRIPTION:
URL:https://visitcolumbusms.org/event/hitching-lot-farmers-market-7/
CATEGORIES:Community Event,Family Fun,Shopping
END:VEVENT
BEGIN:VEVENT
DTSTART;TZID=America/Chicago:20260313T080000
DTEND;TZID=America/Chicago:20260313T170000
DTSTAMP:20260425T090334
CREATED:20260313T174648Z
LAST-MODIFIED:20260313T174707Z
UID:10000874-1773388800-1773421200@visitcolumbusms.org
SUMMARY:Lowndes County Master Gardeners Annual Plant Sale
DESCRIPTION:
URL:https://visitcolumbusms.org/event/lowndes-county-master-gardeners-annual-plant-sale/2026-03-13/
CATEGORIES:Community Event,Family Fun,Shopping
END:VEVENT
BEGIN:VEVENT
DTSTART;TZID=America/Chicago:20260313T080000
DTEND;TZID=America/Chicago:20260313T170000
DTSTAMP:20260425T090334
CREATED:20260313T174055Z
LAST-MODIFIED:20260313T174055Z
UID:10000868-1773388800-1773421200@visitcolumbusms.org
SUMMARY:Tales from the Crypt
DESCRIPTION:
URL:https://visitcolumbusms.org/event/tales-from-the-crypt-9/2026-03-13/
LOCATION:Friendship Cemetery\, 1400 Fourth Street South\, Columbus\, MS\, 39701\, United States
CATEGORIES:Arts & Culture,Community Event,History
GEO:33.4819553;-88.4281742
X-APPLE-STRUCTURED-LOCATION;VALUE=URI;X-ADDRESS=Friendship Cemetery 1400 Fourth Street South Columbus MS 39701 United States;X-APPLE-RADIUS=500;X-TITLE=1400 Fourth Street South:geo:-88.4281742,33.4819553
END:VEVENT
BEGIN:VEVENT
DTSTART;TZID=America/Chicago:20260306T100000
DTEND;TZID=America/Chicago:20260307T170000
DTSTAMP:20260425T090334
CREATED:20260117T224926Z
LAST-MODIFIED:20260117T224926Z
UID:10000843-1772791200-1772902800@visitcolumbusms.org
SUMMARY:Downtown Spring Open House
DESCRIPTION:
URL:https://visitcolumbusms.org/event/downtown-spring-open-house-2/
LOCATION:Downtown Columbus\, 107 5th St S\, Columbus\, MS\, 39701\, United States
CATEGORIES:Community Event
GEO:33.4947766;-88.4278745
X-APPLE-STRUCTURED-LOCATION;VALUE=URI;X-ADDRESS=Downtown Columbus 107 5th St S Columbus MS 39701 United States;X-APPLE-RADIUS=500;X-TITLE=107 5th St S:geo:-88.4278745,33.4947766
END:VEVENT
BEGIN:VEVENT
DTSTART;TZID=America/Chicago:20260305T100000
DTEND;TZID=America/Chicago:20260307T210000
DTSTAMP:20260425T090334
CREATED:20260117T211954Z
LAST-MODIFIED:20260117T221447Z
UID:10000835-1772704800-1772917200@visitcolumbusms.org
SUMMARY:Music by Women Festival Concerts
DESCRIPTION:Daily concerts at 10 AM\, 12 PM\, 3 PM\, 5 PM and 8 PM at Poindexter Hall.
URL:https://visitcolumbusms.org/event/music-by-women-festival-concerts-2/
LOCATION:Poindexter Hall\, 1100 College St. Columbus\, Columbus\, MS\, 39701\, United States
CATEGORIES:Arts & Culture,Community Event,Music
GEO:33.491089;-88.4183492
X-APPLE-STRUCTURED-LOCATION;VALUE=URI;X-ADDRESS=Poindexter Hall 1100 College St. Columbus Columbus MS 39701 United States;X-APPLE-RADIUS=500;X-TITLE=1100 College St. Columbus:geo:-88.4183492,33.491089
END:VEVENT
BEGIN:VEVENT
DTSTART;TZID=America/Chicago:20260226T173000
DTEND;TZID=America/Chicago:20260226T190000
DTSTAMP:20260425T090334
CREATED:20260117T224029Z
LAST-MODIFIED:20260117T224029Z
UID:10000842-1772127000-1772132400@visitcolumbusms.org
SUMMARY:Forever Legends: Melodies that Shaped Us
DESCRIPTION:
URL:https://visitcolumbusms.org/event/forever-legends-melodies-that-shaped-us/
LOCATION:Rosenzweig Arts Center\, 501 Main Street\, Columbus\, MS\, 39701\, United States
CATEGORIES:Arts & Culture,Music
GEO:33.4947188;-88.4325751
X-APPLE-STRUCTURED-LOCATION;VALUE=URI;X-ADDRESS=Rosenzweig Arts Center 501 Main Street Columbus MS 39701 United States;X-APPLE-RADIUS=500;X-TITLE=501 Main Street:geo:-88.4325751,33.4947188
END:VEVENT
BEGIN:VEVENT
DTSTART;TZID=America/Chicago:20260224T193000
DTEND;TZID=America/Chicago:20260224T203000
DTSTAMP:20260425T090334
CREATED:20260117T210319Z
LAST-MODIFIED:20260117T211539Z
UID:10000812-1771961400-1771965000@visitcolumbusms.org
SUMMARY:New Music at The W Concert
DESCRIPTION:
URL:https://visitcolumbusms.org/event/new-music-at-the-w-concert-2/
LOCATION:Poindexter Hall\, 1100 College St. Columbus\, Columbus\, MS\, 39701\, United States
CATEGORIES:Community Event,Music
GEO:33.491089;-88.4183492
X-APPLE-STRUCTURED-LOCATION;VALUE=URI;X-ADDRESS=Poindexter Hall 1100 College St. Columbus Columbus MS 39701 United States;X-APPLE-RADIUS=500;X-TITLE=1100 College St. Columbus:geo:-88.4183492,33.491089
END:VEVENT
BEGIN:VEVENT
DTSTART;TZID=America/Chicago:20260221T170000
DTEND;TZID=America/Chicago:20260221T230000
DTSTAMP:20260425T090334
CREATED:20251219T153548Z
LAST-MODIFIED:20260204T170622Z
UID:10000802-1771693200-1771714800@visitcolumbusms.org
SUMMARY:Friendly City Boxing Classic
DESCRIPTION:
URL:https://visitcolumbusms.org/event/friendly-city-boxing-classic/
LOCATION:Trotter Convention Center\, 402 2nd Ave. N\, Columbus\, MS\, 39701\, United States
CATEGORIES:Community Event
GEO:33.4958535;-88.4291808
X-APPLE-STRUCTURED-LOCATION;VALUE=URI;X-ADDRESS=Trotter Convention Center 402 2nd Ave. N Columbus MS 39701 United States;X-APPLE-RADIUS=500;X-TITLE=402 2nd Ave. N:geo:-88.4291808,33.4958535
END:VEVENT
BEGIN:VEVENT
DTSTART;TZID=America/Chicago:20260220T193000
DTEND;TZID=America/Chicago:20260220T203000
DTSTAMP:20260425T090334
CREATED:20260117T212313Z
LAST-MODIFIED:20260117T212313Z
UID:10000816-1771615800-1771619400@visitcolumbusms.org
SUMMARY:Guest Artist Recital
DESCRIPTION:Ellen Elder\, piano
URL:https://visitcolumbusms.org/event/guest-artist-recital/
LOCATION:Poindexter Hall\, 1100 College St. Columbus\, Columbus\, MS\, 39701\, United States
CATEGORIES:Community Event,Music
GEO:33.491089;-88.4183492
X-APPLE-STRUCTURED-LOCATION;VALUE=URI;X-ADDRESS=Poindexter Hall 1100 College St. Columbus Columbus MS 39701 United States;X-APPLE-RADIUS=500;X-TITLE=1100 College St. Columbus:geo:-88.4183492,33.491089
END:VEVENT
BEGIN:VEVENT
DTSTART;TZID=America/Chicago:20260220T180000
DTEND;TZID=America/Chicago:20260220T220000
DTSTAMP:20260425T090334
CREATED:20251219T153311Z
LAST-MODIFIED:20251219T153311Z
UID:10000801-1771610400-1771624800@visitcolumbusms.org
SUMMARY:The Legacy & Leadership Gala: Celebrating Black Excellence
DESCRIPTION:
URL:https://visitcolumbusms.org/event/the-legacy-leadership-gala-celebrating-black-excellence/
LOCATION:Trotter Convention Center\, 402 2nd Ave. N\, Columbus\, MS\, 39701\, United States
CATEGORIES:Community Event
GEO:33.4958535;-88.4291808
X-APPLE-STRUCTURED-LOCATION;VALUE=URI;X-ADDRESS=Trotter Convention Center 402 2nd Ave. N Columbus MS 39701 United States;X-APPLE-RADIUS=500;X-TITLE=402 2nd Ave. N:geo:-88.4291808,33.4958535
END:VEVENT
BEGIN:VEVENT
DTSTART;TZID=America/Chicago:20260220T110000
DTEND;TZID=America/Chicago:20260220T130000
DTSTAMP:20260425T090334
CREATED:20260117T223820Z
LAST-MODIFIED:20260117T223820Z
UID:10000841-1771585200-1771592400@visitcolumbusms.org
SUMMARY:Henry Baker\, Jr & Union Academy Original Site Markers Dedication
DESCRIPTION:
URL:https://visitcolumbusms.org/event/henry-baker-jr-union-academy-original-site-markers-dedication/
LOCATION:Visit Columbus\, 117 Third Street South\, Columbus\, MS\, 39701
CATEGORIES:Community Event,History
ORGANIZER;CN="Visit Columbus":MAILTO:visitcolumbus@visitcolumbusms.org
GEO:33.4939917;-88.4303289
X-APPLE-STRUCTURED-LOCATION;VALUE=URI;X-ADDRESS=Visit Columbus 117 Third Street South Columbus MS 39701;X-APPLE-RADIUS=500;X-TITLE=117 Third Street South:geo:-88.4303289,33.4939917
END:VEVENT
BEGIN:VEVENT
DTSTART;TZID=America/Chicago:20260220T110000
DTEND;TZID=America/Chicago:20260220T120000
DTSTAMP:20260425T090334
CREATED:20251219T154257Z
LAST-MODIFIED:20251219T154257Z
UID:10000803-1771585200-1771588800@visitcolumbusms.org
SUMMARY:Historic Marker Dedication
DESCRIPTION:Join us for the dedication of Historic Markers for Henry Baker\, Jr. (Main Street & 9th Street) and the original site of Union Academy (9th Avenue South) at 11:00 a.m.
URL:https://visitcolumbusms.org/event/historic-marker-dedication/
CATEGORIES:Community Event,History
ORGANIZER;CN="Visit Columbus":MAILTO:visitcolumbus@visitcolumbusms.org
END:VEVENT
BEGIN:VEVENT
DTSTART;TZID=America/Chicago:20260219T120000
DTEND;TZID=America/Chicago:20260219T120000
DTSTAMP:20260425T090334
CREATED:20260206T170315Z
LAST-MODIFIED:20260206T170325Z
UID:10000859-1771502400-1771502400@visitcolumbusms.org
SUMMARY:The Emmett Till Generation: Youth Activism\, Radical Protest\, and Social Change in Jim Crow Mississippi - Columbus-Lowndes Public Library
DESCRIPTION:
URL:https://visitcolumbusms.org/event/the-emmett-till-generation-youth-activism-radical-protest-and-social-change-in-jim-crow-mississippi-columbus-lowndes-public-library/
END:VEVENT
BEGIN:VEVENT
DTSTART;TZID=America/Chicago:20260217T193000
DTEND;TZID=America/Chicago:20260217T203000
DTSTAMP:20260425T090334
CREATED:20260117T210202Z
LAST-MODIFIED:20260117T210202Z
UID:10000811-1771356600-1771360200@visitcolumbusms.org
SUMMARY:Voice Students' Recital
DESCRIPTION:
URL:https://visitcolumbusms.org/event/voice-students-recital/
LOCATION:Poindexter Hall\, 1100 College St. Columbus\, Columbus\, MS\, 39701\, United States
CATEGORIES:Arts & Culture,Community Event,Music
GEO:33.491089;-88.4183492
X-APPLE-STRUCTURED-LOCATION;VALUE=URI;X-ADDRESS=Poindexter Hall 1100 College St. Columbus Columbus MS 39701 United States;X-APPLE-RADIUS=500;X-TITLE=1100 College St. Columbus:geo:-88.4183492,33.491089
END:VEVENT
BEGIN:VEVENT
DTSTART;TZID=America/Chicago:20260214T183000
DTEND;TZID=America/Chicago:20260214T213000
DTSTAMP:20260425T090334
CREATED:20260117T232535Z
LAST-MODIFIED:20260117T232535Z
UID:10000853-1771093800-1771104600@visitcolumbusms.org
SUMMARY:Valentine Gala
DESCRIPTION:The Stephen D. Lee Foundation invites you to its annual Valentines Gala on Saturday\, February 14\, 6:30 until 9:30 p.m. at historic Twelve Gables\, 220 Third Street South.
URL:https://visitcolumbusms.org/event/valentine-gala/
CATEGORIES:Community Event
END:VEVENT
BEGIN:VEVENT
DTSTART;TZID=America/Chicago:20260214T180000
DTEND;TZID=America/Chicago:20260214T200000
DTSTAMP:20260425T090334
CREATED:20260117T233354Z
LAST-MODIFIED:20260117T233354Z
UID:10000855-1771092000-1771099200@visitcolumbusms.org
SUMMARY:Detectives Dinner
DESCRIPTION:
URL:https://visitcolumbusms.org/event/detectives-dinner/
LOCATION:Lion Hills\, 2331 Military Rd\, Columbus\, MS\, 39701\, United States
CATEGORIES:Community Event
GEO:33.5238652;-88.4068618
X-APPLE-STRUCTURED-LOCATION;VALUE=URI;X-ADDRESS=Lion Hills 2331 Military Rd Columbus MS 39701 United States;X-APPLE-RADIUS=500;X-TITLE=2331 Military Rd:geo:-88.4068618,33.5238652
END:VEVENT
BEGIN:VEVENT
DTSTART;TZID=America/Chicago:20260214T080000
DTEND;TZID=America/Chicago:20260215T170000
DTSTAMP:20260425T090334
CREATED:20260117T223450Z
LAST-MODIFIED:20260117T223450Z
UID:10000840-1771056000-1771174800@visitcolumbusms.org
SUMMARY:Women's Collegiate Ultimate Frisbee Tournament
DESCRIPTION:
URL:https://visitcolumbusms.org/event/womens-collegiate-ultimate-frisbee-tournament/
LOCATION:Roger Short Soccer Complex\, 301 3rd Street North\, Columbus\, MS\, 39701\, United States
CATEGORIES:Sports & Outdoors
ORGANIZER;CN="Lowndes County Recreation":MAILTO:tvelek@lowndescountyms.com
GEO:33.4923914;-88.4298902
X-APPLE-STRUCTURED-LOCATION;VALUE=URI;X-ADDRESS=Roger Short Soccer Complex 301 3rd Street North Columbus MS 39701 United States;X-APPLE-RADIUS=500;X-TITLE=301 3rd Street North:geo:-88.4298902,33.4923914
END:VEVENT
BEGIN:VEVENT
DTSTART;TZID=America/Chicago:20260212T190000
DTEND;TZID=America/Chicago:20260212T210000
DTSTAMP:20260425T090334
CREATED:20260117T223145Z
LAST-MODIFIED:20260117T223309Z
UID:10000839-1770922800-1770930000@visitcolumbusms.org
SUMMARY:Morgan Freeman Mississippi Blues Tour
DESCRIPTION:
URL:https://visitcolumbusms.org/event/morgan-freeman-mississippi-blues-tour/
LOCATION:Rosenzweig Arts Center\, 501 Main Street\, Columbus\, MS\, 39701\, United States
CATEGORIES:Arts & Culture,Music
GEO:33.4947188;-88.4325751
X-APPLE-STRUCTURED-LOCATION;VALUE=URI;X-ADDRESS=Rosenzweig Arts Center 501 Main Street Columbus MS 39701 United States;X-APPLE-RADIUS=500;X-TITLE=501 Main Street:geo:-88.4325751,33.4947188
END:VEVENT
BEGIN:VEVENT
DTSTART;TZID=America/Chicago:20260212T173000
DTEND;TZID=America/Chicago:20260212T190000
DTSTAMP:20260425T090334
CREATED:20260117T223025Z
LAST-MODIFIED:20260117T223025Z
UID:10000838-1770917400-1770922800@visitcolumbusms.org
SUMMARY:Book Talk: Ralph Eubanks\, "When It's Darkness on the Delta: How America's Richest Soil Became its Poorest Land"
DESCRIPTION:
URL:https://visitcolumbusms.org/event/book-talk-ralph-eubanks-when-its-darkness-on-the-delta-how-americas-richest-soil-became-its-poorest-land/
LOCATION:Rosenzweig Arts Center\, 501 Main Street\, Columbus\, MS\, 39701\, United States
CATEGORIES:Arts & Culture,Community Event
GEO:33.4947188;-88.4325751
X-APPLE-STRUCTURED-LOCATION;VALUE=URI;X-ADDRESS=Rosenzweig Arts Center 501 Main Street Columbus MS 39701 United States;X-APPLE-RADIUS=500;X-TITLE=501 Main Street:geo:-88.4325751,33.4947188
END:VEVENT
BEGIN:VEVENT
DTSTART;TZID=America/Chicago:20260210T193000
DTEND;TZID=America/Chicago:20260210T203000
DTSTAMP:20260425T090334
CREATED:20260117T210052Z
LAST-MODIFIED:20260117T210052Z
UID:10000810-1770751800-1770755400@visitcolumbusms.org
SUMMARY:Black History Month Celebration Concert
DESCRIPTION:
URL:https://visitcolumbusms.org/event/black-history-month-celebration-concert-2/
LOCATION:Poindexter Hall\, 1100 College St. Columbus\, Columbus\, MS\, 39701\, United States
CATEGORIES:Community Event,Music
GEO:33.491089;-88.4183492
X-APPLE-STRUCTURED-LOCATION;VALUE=URI;X-ADDRESS=Poindexter Hall 1100 College St. Columbus Columbus MS 39701 United States;X-APPLE-RADIUS=500;X-TITLE=1100 College St. Columbus:geo:-88.4183492,33.491089
END:VEVENT
BEGIN:VEVENT
DTSTART;TZID=America/Chicago:20260210T083000
DTEND;TZID=America/Chicago:20260210T093000
DTSTAMP:20260425T090334
CREATED:20260117T220624Z
LAST-MODIFIED:20260117T220624Z
UID:10000834-1770712200-1770715800@visitcolumbusms.org
SUMMARY:Tourism Partners Meeting
DESCRIPTION:Coldwell Bankers Frady and Associates. 2500 Military Road.
URL:https://visitcolumbusms.org/event/tourism-partners-meeting-7/
CATEGORIES:Community Event
ORGANIZER;CN="Visit Columbus":MAILTO:visitcolumbus@visitcolumbusms.org
END:VEVENT
BEGIN:VEVENT
DTSTART;TZID=America/Chicago:20260207T173000
DTEND;TZID=America/Chicago:20260207T193000
DTSTAMP:20260425T090334
CREATED:20260117T233157Z
LAST-MODIFIED:20260117T233157Z
UID:10000854-1770485400-1770492600@visitcolumbusms.org
SUMMARY:Diamonds and Dancing
DESCRIPTION:
URL:https://visitcolumbusms.org/event/diamonds-and-dancing/
LOCATION:Trotter Convention Center\, 402 2nd Ave. N\, Columbus\, MS\, 39701\, United States
CATEGORIES:Community Event
GEO:33.4958535;-88.4291808
X-APPLE-STRUCTURED-LOCATION;VALUE=URI;X-ADDRESS=Trotter Convention Center 402 2nd Ave. N Columbus MS 39701 United States;X-APPLE-RADIUS=500;X-TITLE=402 2nd Ave. N:geo:-88.4291808,33.4958535
END:VEVENT
BEGIN:VEVENT
DTSTART;TZID=America/Chicago:20260207T090000
DTEND;TZID=America/Chicago:20260207T180000
DTSTAMP:20260425T090334
CREATED:20260117T232043Z
LAST-MODIFIED:20260117T232043Z
UID:10000852-1770454800-1770487200@visitcolumbusms.org
SUMMARY:Take Your Child to the Library
DESCRIPTION:
URL:https://visitcolumbusms.org/event/take-your-child-to-the-library/
LOCATION:Columbus Lowndes Public Library\, 314 7th Street North\, Columbus\, MS\, 39701\, United States
CATEGORIES:Community Event,Family Fun
GEO:33.4980078;-88.4256211
X-APPLE-STRUCTURED-LOCATION;VALUE=URI;X-ADDRESS=Columbus Lowndes Public Library 314 7th Street North Columbus MS 39701 United States;X-APPLE-RADIUS=500;X-TITLE=314 7th Street North:geo:-88.4256211,33.4980078
END:VEVENT
BEGIN:VEVENT
DTSTART;TZID=America/Chicago:20260207T080000
DTEND;TZID=America/Chicago:20260208T170000
DTSTAMP:20260425T090334
CREATED:20260117T221754Z
LAST-MODIFIED:20260117T221754Z
UID:10000836-1770451200-1770570000@visitcolumbusms.org
SUMMARY:Men's Collegiate Ultimate Frisbee Tournament
DESCRIPTION:
URL:https://visitcolumbusms.org/event/mens-collegiate-ultimate-frisbee-tournament/
LOCATION:Roger Short Soccer Complex\, 301 3rd Street North\, Columbus\, MS\, 39701\, United States
CATEGORIES:Sports & Outdoors
ORGANIZER;CN="Lowndes County Recreation":MAILTO:tvelek@lowndescountyms.com
GEO:33.4923914;-88.4298902
X-APPLE-STRUCTURED-LOCATION;VALUE=URI;X-ADDRESS=Roger Short Soccer Complex 301 3rd Street North Columbus MS 39701 United States;X-APPLE-RADIUS=500;X-TITLE=301 3rd Street North:geo:-88.4298902,33.4923914
END:VEVENT
BEGIN:VEVENT
DTSTART;TZID=America/Chicago:20260206T140000
DTEND;TZID=America/Chicago:20260206T170000
DTSTAMP:20260425T090334
CREATED:20260117T205916Z
LAST-MODIFIED:20260117T205928Z
UID:10000809-1770386400-1770397200@visitcolumbusms.org
SUMMARY:Music in the Library
DESCRIPTION:
URL:https://visitcolumbusms.org/event/music-in-the-library-4/
LOCATION:Fant Memorial Library\, 1200 5th Avenue South\, Columbus\, MS\, 39701\, United States
CATEGORIES:Community Event,Music
GEO:33.4911954;-88.4184086
X-APPLE-STRUCTURED-LOCATION;VALUE=URI;X-ADDRESS=Fant Memorial Library 1200 5th Avenue South Columbus MS 39701 United States;X-APPLE-RADIUS=500;X-TITLE=1200 5th Avenue South:geo:-88.4184086,33.4911954
END:VEVENT
BEGIN:VEVENT
DTSTART;TZID=America/Chicago:20260206T080000
DTEND;TZID=America/Chicago:20260207T170000
DTSTAMP:20260425T090334
CREATED:20260117T220434Z
LAST-MODIFIED:20260117T220434Z
UID:10000833-1770364800-1770483600@visitcolumbusms.org
SUMMARY:Magnolia Crappie Club Tournament
DESCRIPTION:
URL:https://visitcolumbusms.org/event/magnolia-crappie-club-tournament/
LOCATION:Tennessee-Tombigbee Waterway\, Columbus\, MS\, 39701\, United States
CATEGORIES:Sports & Outdoors
ORGANIZER;CN="Visit Columbus":MAILTO:visitcolumbus@visitcolumbusms.org
GEO:33.4521847;-88.5371958
END:VEVENT
BEGIN:VEVENT
DTSTART;TZID=America/Chicago:20260205T180000
DTEND;TZID=America/Chicago:20260205T180000
DTSTAMP:20260425T090334
CREATED:20260130T214954Z
LAST-MODIFIED:20260130T215120Z
UID:10000857-1770314400-1770314400@visitcolumbusms.org
SUMMARY:Madagascar: A Musical Adventure\, Jr.\, Sensory Friendly Performance presented by Golden Triangle Theatre
DESCRIPTION:
URL:https://visitcolumbusms.org/event/madagascar-a-musical-adventure-jr-sensory-friendly-performance-presented-by-golden-triangle-theatre/
CATEGORIES:Arts & Culture,Community Event,Family Fun
END:VEVENT
BEGIN:VEVENT
DTSTART;TZID=America/Chicago:20260205T173000
DTEND;TZID=America/Chicago:20260205T193000
DTSTAMP:20260425T090334
CREATED:20260117T222258Z
LAST-MODIFIED:20260117T222258Z
UID:10000837-1770312600-1770319800@visitcolumbusms.org
SUMMARY:2nd Annual Black Excellence Art Exhibition Opening Reception
DESCRIPTION:
URL:https://visitcolumbusms.org/event/2nd-annual-black-excellence-art-exhibition-opening-reception/
LOCATION:Rosenzweig Arts Center\, 501 Main Street\, Columbus\, MS\, 39701\, United States
CATEGORIES:Arts & Culture,Community Event
GEO:33.4947188;-88.4325751
X-APPLE-STRUCTURED-LOCATION;VALUE=URI;X-ADDRESS=Rosenzweig Arts Center 501 Main Street Columbus MS 39701 United States;X-APPLE-RADIUS=500;X-TITLE=501 Main Street:geo:-88.4325751,33.4947188
END:VEVENT
END:VCALENDAR