BEGIN:VCALENDAR
VERSION:2.0
PRODID:-//Columbus MS - ECPv6.10.1.1//NONSGML v1.0//EN
CALSCALE:GREGORIAN
METHOD:PUBLISH
X-ORIGINAL-URL:https://visitcolumbusms.org
X-WR-CALDESC:Events for Columbus MS
REFRESH-INTERVAL;VALUE=DURATION:PT1H
X-Robots-Tag:noindex
X-PUBLISHED-TTL:PT1H
BEGIN:VTIMEZONE
TZID:America/Chicago
BEGIN:DAYLIGHT
TZOFFSETFROM:-0600
TZOFFSETTO:-0500
TZNAME:CDT
DTSTART:20240310T080000
END:DAYLIGHT
BEGIN:STANDARD
TZOFFSETFROM:-0500
TZOFFSETTO:-0600
TZNAME:CST
DTSTART:20241103T070000
END:STANDARD
BEGIN:DAYLIGHT
TZOFFSETFROM:-0600
TZOFFSETTO:-0500
TZNAME:CDT
DTSTART:20250309T080000
END:DAYLIGHT
BEGIN:STANDARD
TZOFFSETFROM:-0500
TZOFFSETTO:-0600
TZNAME:CST
DTSTART:20251102T070000
END:STANDARD
END:VTIMEZONE
BEGIN:VEVENT
DTSTART;TZID=America/Chicago:20251115T090000
DTEND;TZID=America/Chicago:20251115T140000
DTSTAMP:20260420T003309
CREATED:20251009T214735Z
LAST-MODIFIED:20251009T214735Z
UID:10000768-1763197200-1763215200@visitcolumbusms.org
SUMMARY:Lakeside Treasures
DESCRIPTION:
URL:https://visitcolumbusms.org/event/lakeside-treasures/
LOCATION:Lake Lowndes State Park\, 3319 Lake Lowndes Road\, Columbus\, MS\, 39702\, United States
CATEGORIES:Community Event,Family Fun
ORGANIZER;CN="Friends of Lake Lowndes":MAILTO:.wyers@wfp.ms.gov
GEO:33.4397715;-88.3075899
X-APPLE-STRUCTURED-LOCATION;VALUE=URI;X-ADDRESS=Lake Lowndes State Park 3319 Lake Lowndes Road Columbus MS 39702 United States;X-APPLE-RADIUS=500;X-TITLE=3319 Lake Lowndes Road:geo:-88.3075899,33.4397715
END:VEVENT
BEGIN:VEVENT
DTSTART;TZID=America/Chicago:20241207T090000
DTEND;TZID=America/Chicago:20241207T140000
DTSTAMP:20260420T003309
CREATED:20241031T111814Z
LAST-MODIFIED:20241108T155245Z
UID:10000633-1733562000-1733580000@visitcolumbusms.org
SUMMARY:Lakeside Treasures at Lake Lowndes
DESCRIPTION:
URL:https://visitcolumbusms.org/event/lakeside-treasures-at-lake-lowndes/
LOCATION:Lake Lowndes State Park\, 3319 Lake Lowndes Road\, Columbus\, MS\, 39702\, United States
CATEGORIES:Arts & Culture,Christmas,Community Event,Family Fun
ORGANIZER;CN="Friends of Lake Lowndes":MAILTO:.wyers@wfp.ms.gov
GEO:33.4397715;-88.3075899
X-APPLE-STRUCTURED-LOCATION;VALUE=URI;X-ADDRESS=Lake Lowndes State Park 3319 Lake Lowndes Road Columbus MS 39702 United States;X-APPLE-RADIUS=500;X-TITLE=3319 Lake Lowndes Road:geo:-88.3075899,33.4397715
END:VEVENT
BEGIN:VEVENT
DTSTART;TZID=America/Chicago:20241207T080000
DTEND;TZID=America/Chicago:20241207T080000
DTSTAMP:20260420T003309
CREATED:20241031T111919Z
LAST-MODIFIED:20241104T215830Z
UID:10000635-1733558400-1733558400@visitcolumbusms.org
SUMMARY:Friends of Lake Lowndes Car Show
DESCRIPTION:
URL:https://visitcolumbusms.org/event/friends-of-lake-lowndes-car-show/
LOCATION:Lake Lowndes State Park\, 3319 Lake Lowndes Road\, Columbus\, MS\, 39702\, United States
CATEGORIES:Community Event,Family Fun
ORGANIZER;CN="Friends of Lake Lowndes":MAILTO:.wyers@wfp.ms.gov
GEO:33.4397715;-88.3075899
X-APPLE-STRUCTURED-LOCATION;VALUE=URI;X-ADDRESS=Lake Lowndes State Park 3319 Lake Lowndes Road Columbus MS 39702 United States;X-APPLE-RADIUS=500;X-TITLE=3319 Lake Lowndes Road:geo:-88.3075899,33.4397715
END:VEVENT
END:VCALENDAR