BEGIN:VCALENDAR
VERSION:2.0
PRODID:-//Columbus MS - ECPv6.10.1.1//NONSGML v1.0//EN
CALSCALE:GREGORIAN
METHOD:PUBLISH
X-WR-CALNAME:Columbus MS
X-ORIGINAL-URL:https://visitcolumbusms.org
X-WR-CALDESC:Events for Columbus MS
REFRESH-INTERVAL;VALUE=DURATION:PT1H
X-Robots-Tag:noindex
X-PUBLISHED-TTL:PT1H
BEGIN:VTIMEZONE
TZID:America/Chicago
BEGIN:DAYLIGHT
TZOFFSETFROM:-0600
TZOFFSETTO:-0500
TZNAME:CDT
DTSTART:20190310T080000
END:DAYLIGHT
BEGIN:STANDARD
TZOFFSETFROM:-0500
TZOFFSETTO:-0600
TZNAME:CST
DTSTART:20191103T070000
END:STANDARD
END:VTIMEZONE
BEGIN:VEVENT
DTSTART;VALUE=DATE:20190803
DTEND;VALUE=DATE:20190812
DTSTAMP:20260422T094029
CREATED:20190429T165425Z
LAST-MODIFIED:20190501T160123Z
UID:10000527-1564790400-1565567999@visitcolumbusms.org
SUMMARY:2019 U.S. Women's Amateur
DESCRIPTION:Championship golf returns to Old Waverly Golf Club. Please join us for the 2019 U.S. Women’s Amateur Championship August 5-11. The best female amateur golfers from over 20 countries will compete for the coveted Robert Cox trophy. Complimentary tickets will be available at the gate. For more information\, please call Old Waverly Golf Club at 662.494.6463 or visit oldwaverly.com. This tournament is conducted by the USGA. \nChampionship Schedule\nSat. & Sun.\, Aug. 3-4  |  7 a.m.-7 p.m.\nPractice Rounds \nMon.\, Aug. 5  |  7 a.m.-7 p.m.\nRound 1\, Stroke Play \nTue.\, Aug. 6  |  7 a.m.-7 p.m.\nRound 2\, Stroke Play \nWed.\, Aug. 7  |  7 a.m.-7 p.m.\nRound 1\, Match Play \nThu.\, Aug. 8  |  7 a.m.-7 p.m.\nRounds 2 & 3\, Match Play \nFri.\, Aug. 9  |  1 p.m.-7 p.m.\nQuarterfinal\, Match Play (8 Players) \nSat.\, Aug. 10  |  7 a.m.-7 p.m.\nSemifinal\, Match Play (4 Players) \nSun.\, Aug. 11  |  7 a.m.-conclusion of the match\nChampionship Match (2 Players)
URL:https://visitcolumbusms.org/event/2019-u-s-womens-amateur/
LOCATION:Columbus\, MS\, 39701\, United States
CATEGORIES:Sports & Outdoors
ATTACH;FMTTYPE=image/jpeg:https://s3.amazonaws.com/media.visitcolumbusms.org/20190429104234/Old_Waverly_-_Women_s_Am_2.jpg
GEO:33.4956744;-88.4272627
END:VEVENT
END:VCALENDAR