BEGIN:VCALENDAR
VERSION:2.0
PRODID:-//Columbus MS - ECPv6.10.1.1//NONSGML v1.0//EN
CALSCALE:GREGORIAN
METHOD:PUBLISH
X-ORIGINAL-URL:https://visitcolumbusms.org
X-WR-CALDESC:Events for Columbus MS
REFRESH-INTERVAL;VALUE=DURATION:PT1H
X-Robots-Tag:noindex
X-PUBLISHED-TTL:PT1H
BEGIN:VTIMEZONE
TZID:America/Chicago
BEGIN:DAYLIGHT
TZOFFSETFROM:-0600
TZOFFSETTO:-0500
TZNAME:CDT
DTSTART:20190310T080000
END:DAYLIGHT
BEGIN:STANDARD
TZOFFSETFROM:-0500
TZOFFSETTO:-0600
TZNAME:CST
DTSTART:20191103T070000
END:STANDARD
END:VTIMEZONE
BEGIN:VEVENT
DTSTART;TZID=America/Chicago:20191205T173000
DTEND;TZID=America/Chicago:20191205T193000
DTSTAMP:20260421T062636
CREATED:20191114T171620Z
LAST-MODIFIED:20191114T171620Z
UID:10000438-1575567000-1575574200@visitcolumbusms.org
SUMMARY:Christmas Tree Lighting
DESCRIPTION:Join Columbus Main Street as they kick off the season with the annual Christmas Tree Lighting at the east end of the Old Tombigbee Bridge on December 5 from 5:30 – 7:30 P.M. \nFor more information\, call 662.328.6305 or visit columbusmainstreet.com.
URL:https://visitcolumbusms.org/event/christmas-tree-lighting/
LOCATION:Columbus\, MS\, 39701\, United States
CATEGORIES:Christmas
GEO:33.4956744;-88.4272627
END:VEVENT
END:VCALENDAR