BEGIN:VCALENDAR
VERSION:2.0
PRODID:-//Columbus MS - ECPv6.10.1.1//NONSGML v1.0//EN
CALSCALE:GREGORIAN
METHOD:PUBLISH
X-WR-CALNAME:Columbus MS
X-ORIGINAL-URL:https://visitcolumbusms.org
X-WR-CALDESC:Events for Columbus MS
REFRESH-INTERVAL;VALUE=DURATION:PT1H
X-Robots-Tag:noindex
X-PUBLISHED-TTL:PT1H
BEGIN:VTIMEZONE
TZID:America/Chicago
BEGIN:DAYLIGHT
TZOFFSETFROM:-0600
TZOFFSETTO:-0500
TZNAME:CDT
DTSTART:20210314T080000
END:DAYLIGHT
BEGIN:STANDARD
TZOFFSETFROM:-0500
TZOFFSETTO:-0600
TZNAME:CST
DTSTART:20211107T070000
END:STANDARD
END:VTIMEZONE
BEGIN:VEVENT
DTSTART;TZID=America/Chicago:20210722T180000
DTEND;TZID=America/Chicago:20210722T200000
DTSTAMP:20260422T105127
CREATED:20180130T171327Z
LAST-MODIFIED:20210601T195919Z
UID:10000096-1626976800-1626984000@visitcolumbusms.org
SUMMARY:Sounds of Summer Concert
DESCRIPTION:Join your friends and neighbors and bring your lawn chairs and blankets for the Sounds of Summer concert series at the Columbus Soccer Complex. \nThe concerts are free\, and food and drink are available for purchase. \nFor more information\, contact Columbus Main Street at (662) 328-6305.
URL:https://visitcolumbusms.org/event/sounds-of-summer-concert-5/2021-07-22/
LOCATION:Columbus Soccer Complex\, 301 N 3rd St\, Columbus\, MS\, 39701\, United States
CATEGORIES:Family Fun,Music
GEO:33.4972048;-88.4324119
X-APPLE-STRUCTURED-LOCATION;VALUE=URI;X-ADDRESS=Columbus Soccer Complex 301 N 3rd St Columbus MS 39701 United States;X-APPLE-RADIUS=500;X-TITLE=301 N 3rd St:geo:-88.4324119,33.4972048
END:VEVENT
BEGIN:VEVENT
DTSTART;TZID=America/Chicago:20210708T180000
DTEND;TZID=America/Chicago:20210708T200000
DTSTAMP:20260422T105127
CREATED:20180130T171327Z
LAST-MODIFIED:20210601T195919Z
UID:10000095-1625767200-1625774400@visitcolumbusms.org
SUMMARY:Sounds of Summer Concert
DESCRIPTION:Join your friends and neighbors and bring your lawn chairs and blankets for the Sounds of Summer concert series at the Columbus Soccer Complex. \nThe concerts are free\, and food and drink are available for purchase. \nFor more information\, contact Columbus Main Street at (662) 328-6305.
URL:https://visitcolumbusms.org/event/sounds-of-summer-concert-5/2021-07-08/
LOCATION:Columbus Soccer Complex\, 301 N 3rd St\, Columbus\, MS\, 39701\, United States
CATEGORIES:Family Fun,Music
GEO:33.4972048;-88.4324119
X-APPLE-STRUCTURED-LOCATION;VALUE=URI;X-ADDRESS=Columbus Soccer Complex 301 N 3rd St Columbus MS 39701 United States;X-APPLE-RADIUS=500;X-TITLE=301 N 3rd St:geo:-88.4324119,33.4972048
END:VEVENT
BEGIN:VEVENT
DTSTART;TZID=America/Chicago:20210624T180000
DTEND;TZID=America/Chicago:20210624T200000
DTSTAMP:20260422T105127
CREATED:20180130T171327Z
LAST-MODIFIED:20210601T195919Z
UID:10000094-1624557600-1624564800@visitcolumbusms.org
SUMMARY:Sounds of Summer Concert
DESCRIPTION:Join your friends and neighbors and bring your lawn chairs and blankets for the Sounds of Summer concert series at the Columbus Soccer Complex. \nThe concerts are free\, and food and drink are available for purchase. \nFor more information\, contact Columbus Main Street at (662) 328-6305.
URL:https://visitcolumbusms.org/event/sounds-of-summer-concert-5/2021-06-24/
LOCATION:Columbus Soccer Complex\, 301 N 3rd St\, Columbus\, MS\, 39701\, United States
CATEGORIES:Family Fun,Music
GEO:33.4972048;-88.4324119
X-APPLE-STRUCTURED-LOCATION;VALUE=URI;X-ADDRESS=Columbus Soccer Complex 301 N 3rd St Columbus MS 39701 United States;X-APPLE-RADIUS=500;X-TITLE=301 N 3rd St:geo:-88.4324119,33.4972048
END:VEVENT
END:VCALENDAR