BEGIN:VCALENDAR
VERSION:2.0
PRODID:-//Columbus MS - ECPv6.10.1.1//NONSGML v1.0//EN
CALSCALE:GREGORIAN
METHOD:PUBLISH
X-ORIGINAL-URL:https://visitcolumbusms.org
X-WR-CALDESC:Events for Columbus MS
REFRESH-INTERVAL;VALUE=DURATION:PT1H
X-Robots-Tag:noindex
X-PUBLISHED-TTL:PT1H
BEGIN:VTIMEZONE
TZID:America/Chicago
BEGIN:DAYLIGHT
TZOFFSETFROM:-0600
TZOFFSETTO:-0500
TZNAME:CDT
DTSTART:20250309T080000
END:DAYLIGHT
BEGIN:STANDARD
TZOFFSETFROM:-0500
TZOFFSETTO:-0600
TZNAME:CST
DTSTART:20251102T070000
END:STANDARD
END:VTIMEZONE
BEGIN:VEVENT
DTSTART;TZID=America/Chicago:20251206T193000
DTEND;TZID=America/Chicago:20251206T203000
DTSTAMP:20260424T060840
CREATED:20251029T202733Z
LAST-MODIFIED:20251029T203145Z
UID:10000795-1765049400-1765053000@visitcolumbusms.org
SUMMARY:MUW Threadgill Series Orchestra featuring Musicians from Across the Nation
DESCRIPTION:
URL:https://visitcolumbusms.org/event/muw-threadgill-series-orchestra-featuring-musicians-from-across-the-nation/
LOCATION:Parkinson Hall\, 1102 4th Avenue South\, Columbus\, MS\, 39701\, United States
CATEGORIES:Christmas,Community Event,Music
GEO:33.4932166;-88.419651
X-APPLE-STRUCTURED-LOCATION;VALUE=URI;X-ADDRESS=Parkinson Hall 1102 4th Avenue South Columbus MS 39701 United States;X-APPLE-RADIUS=500;X-TITLE=1102 4th Avenue South:geo:-88.419651,33.4932166
END:VEVENT
BEGIN:VEVENT
DTSTART;TZID=America/Chicago:20251121T193000
DTEND;TZID=America/Chicago:20251121T203000
DTSTAMP:20260424T060840
CREATED:20251029T202419Z
LAST-MODIFIED:20251029T202419Z
UID:10000794-1763753400-1763757000@visitcolumbusms.org
SUMMARY:Songs of Theatre
DESCRIPTION:
URL:https://visitcolumbusms.org/event/songs-of-theatre/
LOCATION:Parkinson Hall\, 1102 4th Avenue South\, Columbus\, MS\, 39701\, United States
CATEGORIES:Community Event,Music
GEO:33.4932166;-88.419651
X-APPLE-STRUCTURED-LOCATION;VALUE=URI;X-ADDRESS=Parkinson Hall 1102 4th Avenue South Columbus MS 39701 United States;X-APPLE-RADIUS=500;X-TITLE=1102 4th Avenue South:geo:-88.419651,33.4932166
END:VEVENT
BEGIN:VEVENT
DTSTART;TZID=America/Chicago:20251118T193000
DTEND;TZID=America/Chicago:20251118T203000
DTSTAMP:20260424T060840
CREATED:20251029T202259Z
LAST-MODIFIED:20251029T202259Z
UID:10000793-1763494200-1763497800@visitcolumbusms.org
SUMMARY:The W Jazz Ensemble
DESCRIPTION:
URL:https://visitcolumbusms.org/event/the-w-jazz-ensemble-2/
LOCATION:Parkinson Hall\, 1102 4th Avenue South\, Columbus\, MS\, 39701\, United States
CATEGORIES:Community Event,Music
GEO:33.4932166;-88.419651
X-APPLE-STRUCTURED-LOCATION;VALUE=URI;X-ADDRESS=Parkinson Hall 1102 4th Avenue South Columbus MS 39701 United States;X-APPLE-RADIUS=500;X-TITLE=1102 4th Avenue South:geo:-88.419651,33.4932166
END:VEVENT
BEGIN:VEVENT
DTSTART;TZID=America/Chicago:20251117T193000
DTEND;TZID=America/Chicago:20251117T203000
DTSTAMP:20260424T060840
CREATED:20251029T201939Z
LAST-MODIFIED:20251029T201953Z
UID:10000792-1763407800-1763411400@visitcolumbusms.org
SUMMARY:The W Wind Ensemble & The Ody Brass Collective
DESCRIPTION:
URL:https://visitcolumbusms.org/event/the-w-wind-ensemble-the-ody-brass-collective/
LOCATION:Parkinson Hall\, 1102 4th Avenue South\, Columbus\, MS\, 39701\, United States
CATEGORIES:Community Event,Music
GEO:33.4932166;-88.419651
X-APPLE-STRUCTURED-LOCATION;VALUE=URI;X-ADDRESS=Parkinson Hall 1102 4th Avenue South Columbus MS 39701 United States;X-APPLE-RADIUS=500;X-TITLE=1102 4th Avenue South:geo:-88.419651,33.4932166
END:VEVENT
BEGIN:VEVENT
DTSTART;TZID=America/Chicago:20251101T150000
DTEND;TZID=America/Chicago:20251101T170000
DTSTAMP:20260424T060840
CREATED:20251029T200219Z
LAST-MODIFIED:20251029T200219Z
UID:10000788-1762009200-1762016400@visitcolumbusms.org
SUMMARY:"When the Cats Come"
DESCRIPTION:Director Durrell Daniels presents “When the Cats Come” a live stage reading on Saturday\, November 1 at 3 p.m. at Parkinson Hall on The W Campus. Tickets are $15 available at: wtcc2025.eventbrite.com. For more information\, call 404.914.6252.
URL:https://visitcolumbusms.org/event/when-the-cats-come/
LOCATION:Parkinson Hall\, 1102 4th Avenue South\, Columbus\, MS\, 39701\, United States
CATEGORIES:Community Event
GEO:33.4932166;-88.419651
X-APPLE-STRUCTURED-LOCATION;VALUE=URI;X-ADDRESS=Parkinson Hall 1102 4th Avenue South Columbus MS 39701 United States;X-APPLE-RADIUS=500;X-TITLE=1102 4th Avenue South:geo:-88.419651,33.4932166
END:VEVENT
END:VCALENDAR