BEGIN:VCALENDAR
VERSION:2.0
PRODID:-//Columbus MS - ECPv6.10.1.1//NONSGML v1.0//EN
CALSCALE:GREGORIAN
METHOD:PUBLISH
X-ORIGINAL-URL:https://visitcolumbusms.org
X-WR-CALDESC:Events for Columbus MS
REFRESH-INTERVAL;VALUE=DURATION:PT1H
X-Robots-Tag:noindex
X-PUBLISHED-TTL:PT1H
BEGIN:VTIMEZONE
TZID:America/Chicago
BEGIN:DAYLIGHT
TZOFFSETFROM:-0600
TZOFFSETTO:-0500
TZNAME:CDT
DTSTART:20240310T080000
END:DAYLIGHT
BEGIN:STANDARD
TZOFFSETFROM:-0500
TZOFFSETTO:-0600
TZNAME:CST
DTSTART:20241103T070000
END:STANDARD
BEGIN:DAYLIGHT
TZOFFSETFROM:-0600
TZOFFSETTO:-0500
TZNAME:CDT
DTSTART:20250309T080000
END:DAYLIGHT
BEGIN:STANDARD
TZOFFSETFROM:-0500
TZOFFSETTO:-0600
TZNAME:CST
DTSTART:20251102T070000
END:STANDARD
END:VTIMEZONE
BEGIN:VEVENT
DTSTART;TZID=America/Chicago:20251023T190000
DTEND;TZID=America/Chicago:20251023T210000
DTSTAMP:20260422T094747
CREATED:20241106T031419Z
LAST-MODIFIED:20241106T031419Z
UID:10000442-1761246000-1761253200@visitcolumbusms.org
SUMMARY:The Barn Concert Series
DESCRIPTION:
URL:https://visitcolumbusms.org/event/the-barn-concert-series-5/
LOCATION:The Barn\, 136 Mac Davis Road\, Columbus\, MS\, 39702\, United States
CATEGORIES:Arts & Culture,Community Event,Music
GEO:33.4892822;-88.285412
X-APPLE-STRUCTURED-LOCATION;VALUE=URI;X-ADDRESS=The Barn 136 Mac Davis Road Columbus MS 39702 United States;X-APPLE-RADIUS=500;X-TITLE=136 Mac Davis Road:geo:-88.285412,33.4892822
END:VEVENT
BEGIN:VEVENT
DTSTART;TZID=America/Chicago:20251010T190000
DTEND;TZID=America/Chicago:20251010T210000
DTSTAMP:20260422T094747
CREATED:20241106T031227Z
LAST-MODIFIED:20241106T031227Z
UID:10000441-1760122800-1760130000@visitcolumbusms.org
SUMMARY:The Barn Concert Series
DESCRIPTION:
URL:https://visitcolumbusms.org/event/the-barn-concert-series-4/
LOCATION:The Barn\, 136 Mac Davis Road\, Columbus\, MS\, 39702\, United States
CATEGORIES:Arts & Culture,Community Event,Music
GEO:33.4892822;-88.285412
X-APPLE-STRUCTURED-LOCATION;VALUE=URI;X-ADDRESS=The Barn 136 Mac Davis Road Columbus MS 39702 United States;X-APPLE-RADIUS=500;X-TITLE=136 Mac Davis Road:geo:-88.285412,33.4892822
END:VEVENT
BEGIN:VEVENT
DTSTART;TZID=America/Chicago:20250918T190000
DTEND;TZID=America/Chicago:20250918T210000
DTSTAMP:20260422T094747
CREATED:20241106T031107Z
LAST-MODIFIED:20241106T031107Z
UID:10000440-1758222000-1758229200@visitcolumbusms.org
SUMMARY:The Barn Concert Series
DESCRIPTION:
URL:https://visitcolumbusms.org/event/the-barn-concert-series-3/
LOCATION:The Barn\, 136 Mac Davis Road\, Columbus\, MS\, 39702\, United States
CATEGORIES:Arts & Culture,Community Event,Music
GEO:33.4892822;-88.285412
X-APPLE-STRUCTURED-LOCATION;VALUE=URI;X-ADDRESS=The Barn 136 Mac Davis Road Columbus MS 39702 United States;X-APPLE-RADIUS=500;X-TITLE=136 Mac Davis Road:geo:-88.285412,33.4892822
END:VEVENT
BEGIN:VEVENT
DTSTART;TZID=America/Chicago:20250605T190000
DTEND;TZID=America/Chicago:20250605T210000
DTSTAMP:20260422T094747
CREATED:20241106T030931Z
LAST-MODIFIED:20241106T030931Z
UID:10000439-1749150000-1749157200@visitcolumbusms.org
SUMMARY:The Barn Concert Series
DESCRIPTION:
URL:https://visitcolumbusms.org/event/the-barn-concert-series-2/
LOCATION:The Barn\, 136 Mac Davis Road\, Columbus\, MS\, 39702\, United States
CATEGORIES:Arts & Culture,Community Event,Music
GEO:33.4892822;-88.285412
X-APPLE-STRUCTURED-LOCATION;VALUE=URI;X-ADDRESS=The Barn 136 Mac Davis Road Columbus MS 39702 United States;X-APPLE-RADIUS=500;X-TITLE=136 Mac Davis Road:geo:-88.285412,33.4892822
END:VEVENT
BEGIN:VEVENT
DTSTART;TZID=America/Chicago:20250515T190000
DTEND;TZID=America/Chicago:20250515T210000
DTSTAMP:20260422T094747
CREATED:20241106T030734Z
LAST-MODIFIED:20241106T030734Z
UID:10000437-1747335600-1747342800@visitcolumbusms.org
SUMMARY:The Barn Concert
DESCRIPTION:
URL:https://visitcolumbusms.org/event/the-barn-concert/
LOCATION:The Barn\, 136 Mac Davis Road\, Columbus\, MS\, 39702\, United States
CATEGORIES:Arts & Culture,Community Event,Music
GEO:33.4892822;-88.285412
X-APPLE-STRUCTURED-LOCATION;VALUE=URI;X-ADDRESS=The Barn 136 Mac Davis Road Columbus MS 39702 United States;X-APPLE-RADIUS=500;X-TITLE=136 Mac Davis Road:geo:-88.285412,33.4892822
END:VEVENT
BEGIN:VEVENT
DTSTART;TZID=America/Chicago:20250424T190000
DTEND;TZID=America/Chicago:20250424T210000
DTSTAMP:20260422T094747
CREATED:20241106T030549Z
LAST-MODIFIED:20241106T030549Z
UID:10000435-1745521200-1745528400@visitcolumbusms.org
SUMMARY:The Barn Concert Series
DESCRIPTION:
URL:https://visitcolumbusms.org/event/the-barn-concert-series/
LOCATION:The Barn\, 136 Mac Davis Road\, Columbus\, MS\, 39702\, United States
CATEGORIES:Arts & Culture,Community Event,Music
GEO:33.4892822;-88.285412
X-APPLE-STRUCTURED-LOCATION;VALUE=URI;X-ADDRESS=The Barn 136 Mac Davis Road Columbus MS 39702 United States;X-APPLE-RADIUS=500;X-TITLE=136 Mac Davis Road:geo:-88.285412,33.4892822
END:VEVENT
BEGIN:VEVENT
DTSTART;TZID=America/Chicago:20250301T170000
DTEND;TZID=America/Chicago:20250301T200000
DTSTAMP:20260422T094747
CREATED:20241106T031953Z
LAST-MODIFIED:20241106T031953Z
UID:10000443-1740848400-1740859200@visitcolumbusms.org
SUMMARY:The Paul Thorn Band
DESCRIPTION:
URL:https://visitcolumbusms.org/event/the-paul-thorn-band/
LOCATION:The Barn\, 136 Mac Davis Road\, Columbus\, MS\, 39702\, United States
CATEGORIES:Arts & Culture,Community Event,Music
GEO:33.4892822;-88.285412
X-APPLE-STRUCTURED-LOCATION;VALUE=URI;X-ADDRESS=The Barn 136 Mac Davis Road Columbus MS 39702 United States;X-APPLE-RADIUS=500;X-TITLE=136 Mac Davis Road:geo:-88.285412,33.4892822
END:VEVENT
BEGIN:VEVENT
DTSTART;TZID=America/Chicago:20241024T180000
DTEND;TZID=America/Chicago:20241024T200000
DTSTAMP:20260422T094747
CREATED:20240919T032215Z
LAST-MODIFIED:20240919T032215Z
UID:10000406-1729792800-1729800000@visitcolumbusms.org
SUMMARY:The Barn Concert Series: Tim Easton
DESCRIPTION:
URL:https://visitcolumbusms.org/event/the-barn-concert-series-tim-easton/
LOCATION:The Barn\, 136 Mac Davis Road\, Columbus\, MS\, 39702\, United States
CATEGORIES:Community Event,Music
GEO:33.4892822;-88.285412
X-APPLE-STRUCTURED-LOCATION;VALUE=URI;X-ADDRESS=The Barn 136 Mac Davis Road Columbus MS 39702 United States;X-APPLE-RADIUS=500;X-TITLE=136 Mac Davis Road:geo:-88.285412,33.4892822
END:VEVENT
END:VCALENDAR