BEGIN:VCALENDAR
VERSION:2.0
PRODID:-//Columbus MS - ECPv6.10.1.1//NONSGML v1.0//EN
CALSCALE:GREGORIAN
METHOD:PUBLISH
X-WR-CALNAME:Columbus MS
X-ORIGINAL-URL:https://visitcolumbusms.org
X-WR-CALDESC:Events for Columbus MS
REFRESH-INTERVAL;VALUE=DURATION:PT1H
X-Robots-Tag:noindex
X-PUBLISHED-TTL:PT1H
BEGIN:VTIMEZONE
TZID:America/Chicago
BEGIN:DAYLIGHT
TZOFFSETFROM:-0600
TZOFFSETTO:-0500
TZNAME:CDT
DTSTART:20240310T080000
END:DAYLIGHT
BEGIN:STANDARD
TZOFFSETFROM:-0500
TZOFFSETTO:-0600
TZNAME:CST
DTSTART:20241103T070000
END:STANDARD
BEGIN:DAYLIGHT
TZOFFSETFROM:-0600
TZOFFSETTO:-0500
TZNAME:CDT
DTSTART:20250309T080000
END:DAYLIGHT
BEGIN:STANDARD
TZOFFSETFROM:-0500
TZOFFSETTO:-0600
TZNAME:CST
DTSTART:20251102T070000
END:STANDARD
BEGIN:DAYLIGHT
TZOFFSETFROM:-0600
TZOFFSETTO:-0500
TZNAME:CDT
DTSTART:20260308T080000
END:DAYLIGHT
BEGIN:STANDARD
TZOFFSETFROM:-0500
TZOFFSETTO:-0600
TZNAME:CST
DTSTART:20261101T070000
END:STANDARD
END:VTIMEZONE
BEGIN:VEVENT
DTSTART;TZID=America/Chicago:20260122T173000
DTEND;TZID=America/Chicago:20260122T190000
DTSTAMP:20260423T064208
CREATED:20260117T231544Z
LAST-MODIFIED:20260117T231544Z
UID:10000850-1769103000-1769108400@visitcolumbusms.org
SUMMARY:The W Galleries Reception
DESCRIPTION:
URL:https://visitcolumbusms.org/event/the-w-galleries-reception/
LOCATION:The W Galleries\, 1100-1198 5th Avenue South\, Columbus\, MS\, 39701\, United States
CATEGORIES:Arts & Culture
GEO:33.4910761;-88.4192267
X-APPLE-STRUCTURED-LOCATION;VALUE=URI;X-ADDRESS=The W Galleries 1100-1198 5th Avenue South Columbus MS 39701 United States;X-APPLE-RADIUS=500;X-TITLE=1100-1198 5th Avenue South:geo:-88.4192267,33.4910761
END:VEVENT
BEGIN:VEVENT
DTSTART;TZID=America/Chicago:20240930T080000
DTEND;TZID=America/Chicago:20241031T170000
DTSTAMP:20260423T064208
CREATED:20240924T142649Z
LAST-MODIFIED:20240924T142649Z
UID:10000612-1727683200-1730394000@visitcolumbusms.org
SUMMARY:Biennial Art Faculty Exhibition & Reception
DESCRIPTION:
URL:https://visitcolumbusms.org/event/biennial-art-faculty-exhibition-reception/
LOCATION:The W Galleries\, 1100-1198 5th Avenue South\, Columbus\, MS\, 39701\, United States
CATEGORIES:Arts & Culture
GEO:33.4910761;-88.4192267
X-APPLE-STRUCTURED-LOCATION;VALUE=URI;X-ADDRESS=The W Galleries 1100-1198 5th Avenue South Columbus MS 39701 United States;X-APPLE-RADIUS=500;X-TITLE=1100-1198 5th Avenue South:geo:-88.4192267,33.4910761
END:VEVENT
BEGIN:VEVENT
DTSTART;TZID=America/Chicago:20240926T173000
DTEND;TZID=America/Chicago:20240926T190000
DTSTAMP:20260423T064208
CREATED:20240924T142436Z
LAST-MODIFIED:20240924T142436Z
UID:10000611-1727371800-1727377200@visitcolumbusms.org
SUMMARY:Banned Books Juried Exhibition
DESCRIPTION:
URL:https://visitcolumbusms.org/event/banned-books-juried-exhibition/
LOCATION:The W Galleries\, 1100-1198 5th Avenue South\, Columbus\, MS\, 39701\, United States
CATEGORIES:Arts & Culture
GEO:33.4910761;-88.4192267
X-APPLE-STRUCTURED-LOCATION;VALUE=URI;X-ADDRESS=The W Galleries 1100-1198 5th Avenue South Columbus MS 39701 United States;X-APPLE-RADIUS=500;X-TITLE=1100-1198 5th Avenue South:geo:-88.4192267,33.4910761
END:VEVENT
BEGIN:VEVENT
DTSTART;TZID=America/Chicago:20240923T080000
DTEND;TZID=America/Chicago:20241025T170000
DTSTAMP:20260423T064208
CREATED:20240919T162020Z
LAST-MODIFIED:20240919T162020Z
UID:10000604-1727078400-1729875600@visitcolumbusms.org
SUMMARY:Banned Books Juried Exhibition Reception
DESCRIPTION:Banned Books Juried Exhibition will be September 23 through October 25 with the Opening Reception on September 26\, 5:30 to 7:00 p.m. at The W Galleries in Summer Hall on 5th Avenue South.
URL:https://visitcolumbusms.org/event/banned-books-juried-exhibition-reception/
LOCATION:The W Galleries\, 1100-1198 5th Avenue South\, Columbus\, MS\, 39701\, United States
CATEGORIES:Arts & Culture
GEO:33.4910761;-88.4192267
X-APPLE-STRUCTURED-LOCATION;VALUE=URI;X-ADDRESS=The W Galleries 1100-1198 5th Avenue South Columbus MS 39701 United States;X-APPLE-RADIUS=500;X-TITLE=1100-1198 5th Avenue South:geo:-88.4192267,33.4910761
END:VEVENT
END:VCALENDAR