BEGIN:VCALENDAR
VERSION:2.0
PRODID:-//Columbus MS - ECPv6.10.1.1//NONSGML v1.0//EN
CALSCALE:GREGORIAN
METHOD:PUBLISH
X-WR-CALNAME:Columbus MS
X-ORIGINAL-URL:https://visitcolumbusms.org
X-WR-CALDESC:Events for Columbus MS
REFRESH-INTERVAL;VALUE=DURATION:PT1H
X-Robots-Tag:noindex
X-PUBLISHED-TTL:PT1H
BEGIN:VTIMEZONE
TZID:America/Chicago
BEGIN:DAYLIGHT
TZOFFSETFROM:-0600
TZOFFSETTO:-0500
TZNAME:CDT
DTSTART:20180311T080000
END:DAYLIGHT
BEGIN:STANDARD
TZOFFSETFROM:-0500
TZOFFSETTO:-0600
TZNAME:CST
DTSTART:20181104T070000
END:STANDARD
TZID:UTC
BEGIN:STANDARD
TZOFFSETFROM:+0000
TZOFFSETTO:+0000
TZNAME:UTC
DTSTART:20180101T000000
END:STANDARD
END:VTIMEZONE
BEGIN:VEVENT
DTSTART;VALUE=DATE:20181129
DTEND;VALUE=DATE:20181130
DTSTAMP:20260425T062252
CREATED:20181127T210556Z
LAST-MODIFIED:20181127T210556Z
UID:10000122-1543449600-1543535999@visitcolumbusms.org
SUMMARY:Winter Fest at The W
DESCRIPTION:Celebrate the season with a winter celebration for the students\, friends\, and neighbors of The W! The celebration will feature plenty of opportunities to visit the historic W campus and enjoy the holidays! \n  \nFor additional information on this or any other Columbus events\, contact Nancy Carpenter\, CEO\, Columbus Convention and Visitors Bureau\, 662.329.1191 or 800.327.2686\, or nancy@visitcolumbusms.org.
URL:https://visitcolumbusms.org/event/winter-fest-at-the-w/
LOCATION:The W\, 1100 College Street\, Columbus\, MS\, 39701\, United States
GEO:33.4947336;-88.4188373
X-APPLE-STRUCTURED-LOCATION;VALUE=URI;X-ADDRESS=The W 1100 College Street Columbus MS 39701 United States;X-APPLE-RADIUS=500;X-TITLE=1100 College Street:geo:-88.4188373,33.4947336
END:VEVENT
BEGIN:VEVENT
DTSTART;VALUE=DATE:20181018
DTEND;VALUE=DATE:20181021
DTSTAMP:20260425T062252
CREATED:20180322T233152Z
LAST-MODIFIED:20180517T145233Z
UID:10000120-1539820800-1540079999@visitcolumbusms.org
SUMMARY:Eudora Welty Writers Symposium
DESCRIPTION:A three-day celebration of Southern literature. \nAdmission to some activities. \nFor more information\, visit muw.edu/welty or call (662) 329-7386.
URL:https://visitcolumbusms.org/event/eudora-welty-writers-symposium/
LOCATION:The W\, 1100 College Street\, Columbus\, MS\, 39701\, United States
CATEGORIES:Literary
ATTACH;FMTTYPE=image/jpeg:https://s3.amazonaws.com/media.visitcolumbusms.org/20180326035740/eudora-welty.jpg
GEO:33.4947336;-88.4188373
X-APPLE-STRUCTURED-LOCATION;VALUE=URI;X-ADDRESS=The W 1100 College Street Columbus MS 39701 United States;X-APPLE-RADIUS=500;X-TITLE=1100 College Street:geo:-88.4188373,33.4947336
END:VEVENT
END:VCALENDAR